Workbook
Name G_M0: Configuration!$H$8
Name G_M1: Configuration!$H$10
Name G_M2: Configuration!$H$12
Name G_M3: Configuration!$H$14
Name G_M3ser: Configuration!$H$16
Name G_M4: Configuration!$H$18
Name G_M5: Configuration!$H$20
Name G_M6ser: Configuration!$H$22
Name G_M7: Configuration!$H$24

Sheet Données d'Entrées
C3: Description de l'attache | I3: ?
C5: Schéma | AA5: Zoom
C28: Solicitations
C34: Données

Sheet NdC Détaillée
C3: ='Données d''Entrées'!K3 -> 0 | Z3: ratio | AA3: =MAX(AB74:AB823) -> 0

Sheet Informations
D3: Vérification d'Eléments Simples d'Assemblages | Y3: V2.5
Y4: 46114
D6: Avertissement :
D7: La présente feuille de calculs est fournie en l'état et ne peux engager la responsabilitée de son auteur. Son utilisation engage la seule responsabilité de son utilisateur. Il apartient à l'utilisateur de contrôler les résultats.
D9: Il est recommandé d'utiliser la présente feuille avec les normes associées.
D10: La présente Feuille a été créée par | L10: http://coursconstructionacier.fr | S10: et est sous licence | W10: CreativeCommon
D11: Merci de me contacter à | J11: cours.constructionacier@gmail.com | R11: pour signaler toute erreur dans cette feuille.
D13: Objectifs :
D14: L'ojectif de cette feuille est de donner des outils pour vérifier rapidement les composants des assemblages.
D16: Normes, Guides et Recommandations utilisées dans cette feuille :
D17: NF EN 1993-1-1 (Octobre 2005) : Calcul des structures en Acier : Règles générales et Règles pour les Bâtiments
D18: NF EN 1993-1-8 (Décembre 2005) : Calcul des structures en Acier : Calcul des assemblages
D19: NF EN 1993-1-8/NA (Juillet 2007) : Annexe Nationnale pour l'application de la NF EN 1993-1-8
D20: BNCM/CNC2M - N0175 : Recommandation CNC2M pour l'application de la NF EN 1993-1-8 Avril 2015
D21: SCI/BCSA - P398 : Joints in Steel Construction : Moment-Resisting Joints to Eurocode 3
D22: Revue Construction Métallique N°4-2010 : Flambement des doubles cornières selon méthode simplifiée
D23: DRV/SOUDIX+/MT/001-C (Juillet 2021) : Manuel Technique EN 1993-1-8 du Logiciel Soudix+
D24: NF EN 1992-4 (Septembre 2018) : Calcul des structures en Béton : Conception et calcul des éléments de fixation pour béton
D25: Revue Construction Métallique N°4-2018 : Analyse et amélioration des limites de rigidité des assemblages
D32: Légende :
E34: Cases des données à renseigner (Saisie manuelle ou menu déroulant) :
E36: Cases comportant des Alertes, des Commentaires ou des Schémas descriptifs : | X36: ! ?
E38: Cases contenant des Résultats :
D40: Onglets de la feuille de calcul :
E42: Feuilles Principales de l'Utilitaire
E43: Feuille 1 | I43: Feuille 2 | M43: Feuille 3 | P43: Feuille 4 | S43: Feuille 5 | V43: Feuille 6 | Y43: Feuille 7
E44: Informations | I44: Configuration | M44: Boulons | P44: Soudures | S44: Ancrages | V44: EN1992-4 | Y44: T Tendus
G46: Feuille 8 | K46: Feuille 9 | N46: Feuille 10 | Q46: Feuille 11 | T46: Feuille 12
G47: Composants | K47: Rigidité | N47: Efforts | Q47: Divers | T47: PRS
E49: Feuilles de données à ne pas modifier !
E50: Feuille 13 | H50: Feuille 14 | K50: Feuille 15 | O50: Feuille 16 | S50: Feuille 17 | W50: Feuille 18
E51: Data | H51: Profilés | K51: Cornières | O51: Tubes_SHS | S51: Tubes_RHS | W51: Tubes_CHS
D53: Révisions :
D55: Version | G55: Date | J55: Modification / Correction
D56: V0.4 | G56: 08/03/2022 | J56: Première Version
D57: V0.5 | G57: 44637 | J57: Ajout du poinçonnement
D58: V0.6 | G58: 44672 | J58: Ajout des tronçons en T à 4 boulons par rangé
D59: V0.7 | G59: 22/04/2022 | J59: Modification de la mise en forme
D60: V0.8a | G60: 13/07/2022 | J60: Ajout des tiges d'ancrages
D61: V0.8b | G61: 13/07/2022 | J61: Ajout des conditions d'articulation NF EN 1993-1-8 : §6.4.2
...

Sheet Configuration
D3: Configurations Générales de la Feuille | Y3: Langue
Y4: FR
D6: Coefficients partiels :
F8: γ_M0 = | H8: 1 | K8: Résistance des sections à la plastification
F10: γ_M1 = | H10: 1 | K10: Résistance à l'instabilité des membrures
F12: γ_M2 = | H12: 1.25 | K12: Résistance ultime des sections nettes — boulons, rivets, soudures
F14: γ_M3 = | H14: 1.25 | K14: Glissement d'assemblages boulonnés — catégorie C
F16: γ_M3,ser = | H16: 1.1 | K16: Glissement d'assemblages boulonnés — catégories A et B
F18: γ_M4 = | H18: 1 | K18: Résistance de la tige en traction — boulons HR injectés
F20: γ_M5 = | H20: 1 | K20: Résistance des assemblages bois — structures mixtes
F22: γ_M6,ser = | H22: 1.1 | K22: Résistance des boulons HR en traction
F24: γ_M7 = | H24: 1.1 | K24: Résistance des boulons précontraints — catégorie E

Sheet Boulons
C3: =IF(Configuration!$Y$4="EN","Bolt resistance","Résistance des boulons") -> Résistance des boulons | I3: NF EN 1993-1-8 §3.6.1 tbl.3.4 | J3: =MAX(I10,I8,I13) -> 0.24432516
C4: Ved = | D4: 2200 | E4: d = | F4: 12 | G4: =IF(Configuration!$Y$4="EN","Class","Classe") -> Classe | H4: 8.8 | I4: =IF(Configuration!$Y$4="EN","Sheared in","Cissaillé dans") -> Cissaillé dans | J4: Partie Filetée
C5: Ned = | D5: 2000 | E5: =IF(Configuration!$Y$4="EN","No. Bolts =","Nb Bls =") -> Nb Bls = | F5: 4 | G5: =IF(Configuration!$Y$4="EN","Number of shear planes =","Nombre de plans de cisaillement =") -> Nombre de plans de cisaillement = | J5: 1
D6: A = | E6: =VLOOKUP(F4,Data!$K$3:$P$20,4) -> 113 | F6: fyb = | G6: =VLOOKUP(H4,Data!$F$3:$H$16,2) -> 64 | H6: av = | I6: =VLOOKUP(H4,Data!$F$2:$I$16,4) -> 0.6
D7: As = | E7: =VLOOKUP(F4,Data!$K$3:$P$20,5) -> 84 | F7: fub = | G7: =VLOOKUP(H4,Data!$F$3:$H$16,3) -> 80
C8: =IF(Configuration!$Y$4="EN","Bolt resistance per shear plane in "&J4,"Résistance par boulon par plan de cisaillemment dans la "&J4) -> Résistance par boulon par plan de cisaillemment dans la Partie Filetée | I8: =(D4/(F5*J5))/E9 -> 0.17051091
D9: Fv,Rd = | E9: =IF(J4="Partie NON Filetée",(0.6*G7*E6)/G_M2,(I6*G7*E7)/G_M2) -> 3225.6
C10: =IF(Configuration!$Y$4="EN","Bolt resistance in tension only","Résistance par boulon en traction seule") -> Résistance par boulon en traction seule | I10: =(D5/F5)/E11 -> 0.10333995
D11: Ft,Rd = | E11: =(0.9*G7*E7)/G_M2 -> 4838.4
C12: =IF(Configuration!$Y$4="EN","Bolt resistance in tension and shear","Résistance par boulon en traction et cisaillement") -> Résistance par boulon en traction et cisaillement
G13: Fv,Ed/Fv,Rd + Ft,Ed/(1.4*Ft,Rd) | H13: =IF(I13<=1,"≤",">") -> ≤ | I13: =I8+(D5/F5)/(1.4*E11) -> 0.24432516
C15: ---------------------------------------------------------------------------------------------------------------------
C16: =IF(Configuration!$Y$4="EN","Bearing resistance: general case","Pression diamétrale : cas général") -> Pression diamétrale : cas général | I16: NF EN 1993-1-8 §3.6.1 tbl.3.4 | J16: =MAX(I19,I26,I33) -> 0.047958537 | M16: Pression diamétrale : cas général
E17: =O21&" * Boulons M"&O19&" - "&O20&" / Plat ép. "&O18&" mm - "&Q18 -> 8 * Boulons M12 - 8.8 / Plat ép. 8 mm - S275 | M17: Efforts | N17: Flg,Ed = | O17: 1700 | P17: Ftr,Ed = | Q17: 1400
E18: ="e1 = "&N24&" mm - p1 = "&N25&" mm - e2 = "&N26&" mm - p2 = "&N27&" mm" -> e1 = 63 mm - p1 = 56 mm - e2 = 22 mm - p2 = 100 mm | M18: Plat | N18: t = | O18: 8 | P18: Nuance | Q18: S275
C19: =IF(Configuration!$Y$4="EN","Longitudinal bearing","Pression longitudinale") -> Pression longitudinale | F19: Flg,Ed = | G19: =O17 -> 1700 | H19: Txlg = | I19: =(O17/O21)/E24 -> 0.025738857 | M19: Boulons | N19: Boulons | O19: 12 | P19: fu = | Q19: =VLOOKUP(Q18,Data!$A$3:$D$34,3,FALSE) -> 43
D20: αb,lg = min { | E20: =Q21/Q19 -> 1.8604651 | F20: =N24/(3*Q20) -> 1.5 | G20: =IF((N25/(3*Q20))-0.25<0,1,(N25/(3*Q20))-0.25) -> 1.0833333 | H20: 1.0 } | N20: Classe | O20: 8.8 | P20: d0 = | Q20: =VLOOKUP(O19,Data!$K$3:$Q$20,6,FALSE) -> 14
D21: αb,lg = | E21: =MIN(E20,F20,G20,1) -> 1 | N21: Nb Bls = | O21: 8 | P21: fub = | Q21: =VLOOKUP(O20,Data!$F$3:$I$16,3,FALSE) -> 80
D22: klg = min { | E22: =(2.8*N26/Q20)-1.7 -> 2.7 | F22: =IF(N27=0,2.5,(1.4*N27/Q20)-1.7) -> 8.3 | G22: 2.50 }
D23: klg = | E23: =MIN(E22,F22,2.5) -> 2.5 | N23: Vérification géométrique | P23: min | Q23: max
D24: Fb,lg,Rd = | E24: =E23*E21*Q19*O19*O18/G_M2 -> 8256 | M24: e1 (longi.) | N24: 63 | O24: =IF(OR(N24<P24,N24>Q24),2,0) -> 0 | P24: =1.2*Q20 -> 16.8 | Q24: =4*O18+40 -> 72
M25: p1 (longi.) | N25: 56 | O25: =IF(N25=0,1,IF(OR(N25<P25,N25>Q25),2,0)) -> 0 | P25: =2.2*Q20 -> 30.8 | Q25: =MIN(200,14*O18) -> 112
C26: =IF(Configuration!$Y$4="EN","Transverse bearing","Pression transversale") -> Pression transversale | F26: Ftr,Ed = | G26: =Q17 -> 1400 | H26: Txtr = | I26: =(Q17/O21)/E31 -> 0.040466438 | M26: e2 (trans.) | N26: 22 | O26: =IF(OR(N26<P26,N26>Q26),2,0) -> 0 | P26: =1.2*Q20 -> 16.8 | Q26: =4*O18+40 -> 72
D27: αb,tr = min { | E27: =Q21/Q19 -> 1.8604651 | F27: =N26/(3*Q20) -> 0.52380952 | G27: =IF((N27/(3*Q20))-0.25<0,1,(N27/(3*Q20))-0.25) -> 2.1309524 | H27: 1.0 } | M27: p2 (trans.) | N27: 100 | O27: =IF(N27=0,1,IF(OR(N27<P27,N27>Q27),2,0)) -> 0 | P27: =2.4*Q20 -> 33.6 | Q27: =MIN(200,14*O18) -> 112
D28: αb,tr = | E28: =MIN(E27,F27,G27,1) -> 0.52380952
D29: ktr = min { | E29: =(2.8*N24/Q20)-1.7 -> 10.9 | F29: =IF(N25=0,2.5,(1.4*N25/Q20)-1.7) -> 3.9 | G29: 2.50 }
D30: ktr = | E30: =MIN(E29,F29,2.5) -> 2.5
D31: Fb,tr,Rd,1 = | E31: =E30*E28*Q19*O19*O18/G_M2 -> 4324.5714
C33: =IF(Configuration!$Y$4="EN","Longitudinal-transverse interaction","Interaction longitudinale-transversale") -> Interaction longitudinale-transversale | H33: √(Txlg² + Txtr²) = | I33: =SQRT(I19^2+I26^2) -> 0.047958537
C34: ---------------------------------------------------------------------------------------------------------------------
C35: =IF(Configuration!$Y$4="EN","Bearing resistance: detailed case","Pression diamétrale : cas détaillé") -> Pression diamétrale : cas détaillé | I35: NF EN 1993-1-8 §3.6.1 tbl.3.4 | J35: =MAX(J49,J71,J94) -> 0.79952485 | M35: Pression diamétrale : cas détaillé
C36: =IF(Configuration!$Y$4="EN","Geometry","Géométrie") -> Géométrie | E36: e1,g = | F36: p1 = | G36: e1,d = | M36: Efforts | N36: Flg,Ed = | O36: 15000
D37: =O41&" ligne"&IF(O41=1,"","s") -> 1 ligne | E37: =IF(N45=0,"∞",N45&"mm") -> 30mm | F37: =IF(O42=1,0,O42-1&"x "&N46&"mm") -> 2x 100mm | G37: =IF(N47=0,"∞",N47&"mm") -> ∞ | H37: =O42&" colonne"&IF(O42=1,"","s") -> 3 colonnes | N37: Ftr,Ed = | O37: 4500
M38: Plat | N38: t = | O38: 8 | P38: Nuance | Q38: S235
C39: e2,h = | D39: =IF(N48=0,"∞",N48&"mm") -> 30mm | M39: Boulons | N39: Boulons | O39: 12 | P39: fu = | Q39: =VLOOKUP(Q38,Data!$A$3:$D$34,3,FALSE) -> 36
N40: Classe | O40: 8.8 | P40: d0 = | Q40: =VLOOKUP(O39,Data!$K$3:$Q$20,6,FALSE) -> 14
N41: Nb Lignes = | O41: 1 | P41: fub = | Q41: =VLOOKUP(O40,Data!$F$3:$I$16,3,FALSE) -> 80
C42: p2 = | D42: =IF(O41=1,0,O41-1&"x "&N49&"mm") -> 0 | N42: Nb Colonnes = | O42: 3 | P42: Nb Bls = | Q42: =O41*O42 -> 3
H43: Flg,Ed = | I43: =O36 -> 15000
N44: Vérification géométrique | P44: min | Q44: max
...

Sheet Soudures
A4: 1 | C4: =IF(Configuration!Y4="EN","Assemblies with front fillet welds","Assemblages par cordons frontaux") -> Assemblages par cordons frontaux | M4: Assemblages par cordons frontaux
C5: =IF(Configuration!Y4="EN","Steel "&N6&" - βw= "&U6&" - a = "&Q5&" mm","Acier "&N6&" - βw= "&U6&" - a = "&Q5&" mm") -> Acier S275 - βw= 0.85 - a = 5 mm | M5: NEd = | N5: 28000 | O5: daN | P5: a = | Q5: 5 | R5: mm | S5: fy | T5: fu | U5: βw
C6: NEd = | D6: =N5 -> 28000 | E6: daN | M6: Nuance | N6: S275 | P6: L = | Q6: 250 | R6: mm | S6: =VLOOKUP(N6,Data!$A$3:$D$34,2) -> 27.5 | T6: =VLOOKUP(N6,Data!$A$3:$D$34,3) -> 43 | U6: =VLOOKUP(N6,Data!$A$3:$D$34,4) -> 0.85
C7: leff = | D7: =Q6-2*Q5 -> 240 | E7: =IF(D7<=H7,"<",">") -> > | G7: llim = max{30 mm ; 6a} = | H7: =MAX(30,6*Q5) -> 30 | I7: =IF(D7<=H7,"NON OK !!","OK !") -> OK ! | M7: ? !
D8: √( σ⊥²+3τ⊥²) = | E8: =2*E9 -> 16.499158 | F8: =IF(E8<=H8,"<",">") -> < | G8: fu/(βw*γM2) = | H8: =T6/(U6*G_M2) -> 40.470588 | J8: =E8/H8 -> 0.40768269 | O8: √( σ⊥²+3(τ//²+ τ⊥²))
C9: et | D9: σ⊥ = τ⊥ = | E9: =0.25*SQRT(2)*N5/(Q5*D7) -> 8.2495791 | F9: =IF(E9<=H9,"<",">") -> < | G9: 0.9*fu/γM2 = | H9: =0.9*T6/G_M2 -> 30.96 | J9: =E9/H9 -> 0.26645927
C10: ---------------------------------------------------------------------------------------------------------------------------------------------------------------------------------
A11: 2 | C11: =IF(Configuration!Y4="EN","Assemblies with side fillet welds","Assemblages par cordons latéraux") -> Assemblages par cordons latéraux | M11: Assemblages par cordons latéraux
C12: =IF(Configuration!Y4="EN","Steel "&N13&" - βw= "&U13&" - a = "&Q12&" mm","Acier "&N13&" - βw= "&U13&" - a = "&Q12&" mm") -> Acier S235 - βw= 0.8 - a = 3 mm | M12: NEd = | N12: 3850 | O12: daN | P12: a = | Q12: 3 | R12: mm | S12: fy | T12: fu | U12: βw
C13: NEd = | D13: =N12 -> 3850 | E13: daN | M13: Nuance | N13: S235 | P13: L = | Q13: 60 | R13: mm | S13: =VLOOKUP(N13,Data!$A$3:$D$34,2) -> 23.5 | T13: =VLOOKUP(N13,Data!$A$3:$D$34,3) -> 36 | U13: =VLOOKUP(N13,Data!$A$3:$D$34,4) -> 0.8
C14: leff = | D14: =Q13-2*Q12 -> 54 | E14: =IF(D14<=H14,"<",">") -> > | G14: llim = max{30 mm ; 6a} = | H14: =MAX(30,6*Q12) -> 30 | I14: =IF(D14<=H14,"NON OK !!","OK !") -> OK ! | M14: ? !
D15: τ// = | E15: =N12/(2*Q12*D14) -> 11.882716
D16: √( 3τ//²) = | E16: =(SQRT(3)*N12)/(2*Q12*D14) -> 20.581468 | F16: =IF(E16<=H16,"<",">") -> < | G16: fu/(βw*γM2) = | H16: =T13/(U13*G_M2) -> 36 | J16: =E16/H16 -> 0.57170744
C17: ---------------------------------------------------------------------------------------------------------------------------------------------------------------------------------
A18: 3 | C18: =IF(Configuration!Y4="EN","Assemblies with oblique fillet weld","Assemblages par cordon oblique") -> Assemblages par cordon oblique | M18: Assemblages par cordon oblique
C19: =IF(Configuration!Y4="EN","Steel "&N20&" - βw= "&U20&" - a = "&Q19&" mm","Acier "&N20&" - βw= "&U20&" - a = "&Q19&" mm") -> Acier S235 - βw= 0.8 - a = 5 mm | M19: NEd = | N19: 25000 | O19: daN | P19: a = | Q19: 5 | R19: mm | S19: fy | T19: fu | U19: βw
C20: NEd = | D20: =N19 -> 25000 | E20: daN | M20: Nuance | N20: S235 | P20: L = | Q20: 250 | R20: mm | S20: =VLOOKUP(N20,Data!$A$3:$D$34,2) -> 23.5 | T20: =VLOOKUP(N20,Data!$A$3:$D$34,3) -> 36 | U20: =VLOOKUP(N20,Data!$A$3:$D$34,4) -> 0.8
G21: =IF(Q21<30,"α= "&Q21&"° <30°",IF(Q21>150,"α= "&Q21&"° >150°","30°≤ α= "&Q21&"° ≤150°")) -> 30°≤ α= 45° ≤150° | I21: =IF(Q21<30,"NON OK !!",IF(Q21>150,"NON OK !!","OK !")) -> OK ! | M21: ? ! | P21: α = | Q21: 45 | R21: °
C22: leff = | D22: =IF(P20="L =",Q20-2*Q19,Q20/SIN(RADIANS(Q21))) -> 240 | E22: =IF(D22<=H22,"<",">") -> > | G22: llim = max{30 mm ; 6a} = | H22: =MAX(30,6*Q19) -> 30 | I22: =IF(D22<=H22,"NON OK !!","OK !") -> OK !
D23: τ// = | E23: =(N19*COS(RADIANS(Q21)))/(Q19*D22) -> 14.731391
D24: √( σ⊥²+3(τ⊥²+τ//²) = | E24: =SQRT(E25^2+3*(E25^2+E23^2)) -> 32.940392 | F24: =IF(E24<=H24,"<",">") -> < | G24: fu/(βw*γM2) = | H24: =T20/(U20*G_M2) -> 36 | J24: =E24/H24 -> 0.9150109
C25: et | D25: σ⊥ = τ⊥ = | E25: =(SQRT(2)*N19*SIN(RADIANS(Q21)))/(2*Q19*D22) -> 10.416667 | F25: =IF(E25<=H25,"<",">") -> < | G25: 0.9*fu/γM2 = | H25: =0.9*T20/G_M2 -> 25.92 | J25: =E25/H25 -> 0.40187757
C26: ---------------------------------------------------------------------------------------------------------------------------------------------------------------------------------
A27: 4 | C27: =IF(Configuration!Y4="EN","Assemblies with 2 side fillet welds and 1 ordinary front fillet weld","Assemblages par 2 cordons latéraux et 1 cordon frontal ordinaire") -> Assemblages par 2 cordons latéraux et 1 cordon frontal ordinaire | M27: Assemblages par 2 cordons latéraux et 1 cordon frontal ordinaire
C28: =IF(Configuration!Y4="EN","Steel "&N29&" - βw= "&U29&" - a1= "&Q28&" mm - a2= "&Q30&" mm","Acier "&N29&" - βw= "&U29&" - a1= "&Q28&" mm - a2= "&Q30&" mm") -> Acier S235 - βw= 0.8 - a1= 5 mm - a2= 5 mm | M28: NEd = | N28: 25000 | O28: daN | P28: a1 = | Q28: 5 | R28: mm | S28: fy | T28: fu | U28: βw
C29: NEd = | D29: =N28 -> 25000 | E29: daN | M29: Nuance | N29: S235 | P29: L1 = | Q29: 250 | R29: mm | S29: =VLOOKUP(N29,Data!$A$3:$D$34,2) -> 23.5 | T29: =VLOOKUP(N29,Data!$A$3:$D$34,3) -> 36 | U29: =VLOOKUP(N29,Data!$A$3:$D$34,4) -> 0.8
M30: ? ! | P30: a2 = | Q30: 5 | R30: mm
C31: l1,eff = | D31: =Q29-Q28 -> 245 | E31: =IF(D31<=H31,"<",">") -> > | G31: llim = max{30 mm ; 6a} = | H31: =MAX(30,6*Q28) -> 30 | I31: =IF(D31<=H31,"NON OK !!","OK !") -> OK ! | P31: L2 = | Q31: 80 | R31: mm
C32: l2,eff = | D32: =Q31 -> 80 | E32: =IF(D32<=H32,"<",">") -> > | G32: llim = max{30 mm ; 6a} = | H32: =MAX(30,6*Q30) -> 30 | I32: =IF(D32<=H32,"NON OK !!","OK !") -> OK !
C33: =IF(Configuration!Y4="EN","Plastic distribution coefficients","Coefficients de distribution plastique") -> Coefficients de distribution plastique | F33: αf = | G33: =D32/(2*D31+D32) -> 0.14035088
F34: αl = | G34: =1-G33 -> 0.85964912
C35: =IF(Configuration!Y4="EN","Side fillet welds","Cordons latéraux") -> Cordons latéraux | G35: Nl,Ed = | H35: =G34*N28 -> 21491.228
D36: τ// = | E36: =H35/(2*Q28*D31) -> 8.7719298
D37: √( 3τ//²) = | E37: =(SQRT(3)*H35)/(2*Q28*D31) -> 15.193428 | F37: =IF(E37<=H37,"<",">") -> < | G37: fu/(βw*γM2) = | H37: =T29/(U29*G_M2) -> 36 | J37: =E37/H37 -> 0.42203967
C39: =IF(Configuration!Y4="EN","Front fillet weld","Cordon frontal") -> Cordon frontal | G39: Nf,Ed = | H39: =G33*N28 -> 3508.7719
D40: √( σ⊥²+3τ⊥²) = | E40: =2*E41 -> 12.405382 | F40: =IF(E40<=H40,"<",">") -> < | G40: fu/(βw*γM2) = | H40: =T29/(U29*G_M2) -> 36 | J40: =E40/H40 -> 0.34459395
C41: et | D41: σ⊥ = τ⊥ = | E41: =0.5*SQRT(2)*H39/(Q30*D32) -> 6.2026911 | F41: =IF(E41<=H41,"<",">") -> < | G41: 0.9*fu/γM2 = | H41: =0.9*T29/G_M2 -> 25.92 | J41: =E41/H41 -> 0.23930135
C42: ---------------------------------------------------------------------------------------------------------------------------------------------------------------------------------
A43: 5 | C43: =IF(Configuration!Y4="EN","Assemblies with 2 side fillet welds and 1 leading front fillet weld","Assemblages par 2 cordons latéraux et 1 cordon frontal d'attaque") -> Assemblages par 2 cordons latéraux et 1 cordon frontal d'attaque | M43: Assemblages par 2 cordons latéraux et 1 cordon frontal d'attaque
C44: =IF(Configuration!Y4="EN","Steel "&N45&" - βw= "&U45&" - a1= "&Q44&" mm - a2= "&Q46&" mm","Acier "&N45&" - βw= "&U45&" - a1= "&Q44&" mm - a2= "&Q46&" mm") -> Acier S235 - βw= 0.8 - a1= 5 mm - a2= 5 mm | M44: NEd = | N44: 25000 | O44: daN | P44: a1 = | Q44: 5 | R44: mm | S44: fy | T44: fu | U44: βw
...

Sheet Ancrages
C3: =IF(Configuration!Y4="EN","Resistance of anchor rods with bearing plates","Résistance des tiges d'ancrages à plaquettes") -> Résistance des tiges d'ancrages à plaquettes | I3: CNC2M-N0175 §6 | J3: =IF(Q5="OUI",MAX(I11:I27),MAX(I11:I31)) -> 0.80840606 | M3: Résistance des tiges d'ancrages à plaquettes
M4: Nt,Ed = | N4: 5100 | O4: d = | P4: 20 | Q4: Bêche
C5: =IF(Configuration!Y4="EN","Rods M"&P4&" - "&P5&" - L = "&N6&" mm","Tiges M"&P4&" - "&P5&" - L = "&N6&" mm") -> Tiges M20 - 8.8 - L = 200 mm | M5: VEd = | N5: 0 | O5: Nuance | P5: 8.8 | Q5: OUI
C6: =IF(Configuration!Y4="EN","Bearing plates thk."&P7&" mm - dr = "&N7&" mm","Plaquettes ép."&P7&" mm - dr = "&N7&" mm") -> Plaquettes ép.10 mm - dr = 50 mm | M6: L = | N6: 200 | O6: Béton | P6: C 30/37 | Q6: fcd
C7: =IF(Configuration!Y4="EN","Concrete "&P6,"Béton "&P6) -> Béton C 30/37 | M7: dr = | N7: 50 | O7: tpl = | P7: 10 | Q7: =VLOOKUP(P6,Data!$A$40:$H$128,2)/1.5 -> 2
C8: ="P1 = "&N8&" mm - P2 = "&P8&" mm" -> P1 = 100 mm - P2 = 150 mm | M8: P1 = | N8: 100 | O8: P2 = | P8: 150
C9: ="C1 = "&N9&" mm - C2 = "&P9&" mm" -> C1 = 0 mm - C2 = 100 mm | M9: C1 = | N9: 0 | O9: C2 = | P9: 100
M10: A | N10: As | O10: fyb | P10: fub | Q10: av
C11: =IF(Configuration!Y4="EN","Tensile resistance check","Vérification à la traction") -> Vérification à la traction | I11: =N4/E12 -> 0.42517007 | M11: =VLOOKUP(P4,Data!$K$3:$P$20,4) -> 314 | N11: =VLOOKUP(P4,Data!$K$3:$P$20,5) -> 245 | O11: =VLOOKUP(P5,Data!$F$3:$H$16,2) -> 64 | P11: =VLOOKUP(P5,Data!$F$3:$H$16,3) -> 80 | Q11: =VLOOKUP(P5,Data!$F$2:$I$16,4) -> 0.6
E12: =H12*(0.9*P11*N11/G_M2) -> 11995.2 | F12: daN | H12: 0.85
C14: =IF(Configuration!Y4="EN","Tensile resistance check in concrete","Vérification à la traction dans le béton") -> Vérification à la traction dans le béton | I14: =N4/G15 -> 0.80840606 | M14: Leff | N14: =N6 -> 200
G15: =2.55*Q7*PI()*((N7^2-P4^2)/4)*(1-N7/(2*G17)) -> 6308.7107 | H15: daN | M15: C1 | N15: =N9 -> 0
M16: C2 | N16: =P9 -> 100
G17: {=MIN(IF(N14:N18<>0,N14:N18))} -> 100 | M17: p1 | N17: =N8 -> 100
M18: p2 | N18: =P8 -> 150
C19: =IF(Configuration!Y4="EN","Bearing plate thickness check","Vérification de l'épaisseur des plaquettes") -> Vérification de l'épaisseur des plaquettes | I19: =IF(F20>P7,"NON OK !!","OK !!") -> OK !!
D20: tmin = | E20: 0.15 * dr = | F20: =0.15*N7 -> 7.5 | G20: =IF(F20>P7,">","≤") -> ≤ | H20: tpl
C22: =IF(Configuration!Y4="EN","Shear resistance check in concrete","Vérification au cisaillement dans le béton") -> Vérification au cisaillement dans le béton | I22: =N5/E23 -> 0
E23: =G25*P11*N11/G_M2 -> 3888.64 | F23: daN
G25: =0.44-0.0003*(10*IF(O11<23.5,23.5,IF(O11>64,64,O11))) -> 0.248
C27: =IF(Configuration!Y4="EN","Tension/shear interaction check","Vérification de l'interaction traction/cisaillement") -> Vérification de l'interaction traction/cisaillement | I27: =E29 -> 0.30369291
E29: =I22+(N4/(1.4*E12)) -> 0.30369291 | F29: =IF(E29>G29,">","≤") -> ≤ | G29: 1
C31: =IF(Configuration!Y4="EN","Concrete bearing pressure check","Vérification de la pression sur le béton") -> Vérification de la pression sur le béton | I31: =IF(Q5="OUI","--",N5/G32) -> --
G32: =IF(Q5="OUI","--",MIN(3*P4,N6)*PI()*(P4/2)*Q7) -> -- | H32: daN
C34: ---------------------------------------------------------------------------------------------------------------------
C35: =IF(Configuration!Y4="EN","Resistance of hooked anchor rods","Résistance des tiges d'ancrages à crosses") -> Résistance des tiges d'ancrages à crosses | I35: CNC2M-N0175 §6 | J35: =MAX(I40:I60) -> 0.77481636 | M35: Résistance des tiges d'ancrages à crosses
M36: Nt,Ed = | N36: 2770 | O36: d = | P36: 30 | Q36: fbd
C37: =IF(Configuration!Y4="EN","Rods M"&P36&" - "&P37&" - L1 = "&N38&" mm - r = "&P39&" mm - L2 = "&N39&" mm","Tiges M"&P36&" - "&P37&" - L1 = "&N38&" mm - r = "&P39&" mm - L2 = "&N39&" mm") -> Tiges M30 - S355 - L1 = 400 mm - r = 60 mm - L2 = 40 mm | M37: VEd = | N37: 4820 | O37: Nuance | P37: S355 | Q37: =0.36*SQRT(VLOOKUP(P38,Data!$A$40:$H$128,2))/1.5 -> 0.37947332
C38: =IF(Configuration!Y4="EN","Concrete "&P38,"Béton "&P38) -> Béton C 25/30 | M38: L1 = | N38: 400 | O38: Béton | P38: C 25/30 | Q38: fcd
M39: L2 = | N39: 40 | O39: r = | P39: 60 | Q39: =VLOOKUP(P38,Data!$A$40:$H$128,2)/1.5 -> 1.6666667
C40: =IF(Configuration!Y4="EN","Tensile resistance check","Vérification à la traction") -> Vérification à la traction | I40: =N36/E41 -> 0.16465291 | M40: A | N40: As | O40: fyb | P40: fub | Q40: av
E41: =H41*(0.9*P41*N41/G_M2) -> 16823.268 | F41: daN | H41: 0.85 | M41: =VLOOKUP(P36,Data!$K$3:$P$20,4) -> 707 | N41: =VLOOKUP(P36,Data!$K$3:$P$20,5) -> 561 | O41: =VLOOKUP(P37,Data!$F$3:$H$16,2) -> 35.5 | P41: =VLOOKUP(P37,Data!$F$3:$H$16,3) -> 49 | Q41: =VLOOKUP(P37,Data!$F$2:$I$16,4) -> 0.5
M42: Bêche | N42: OUI
C43: =IF(Configuration!Y4="EN","Tensile resistance check in concrete","Vérification à la traction dans le béton") -> Vérification à la traction dans le béton | I43: =N36/G44 -> 0.083821499
G44: =PI()*P36*(N38+6.4*P39+3.5*N39)*Q37 -> 33046.414 | H44: daN
C46: Vérification des dispositions constructives
E47: r | F47: ≥ | G47: 3d0 | I47: =IF(P39>=3*P36,"OK !!","NON OK !!") -> NON OK !!
C48: 1.5d0 | D48: ≤ | E48: L2 | F48: ≤ | G48: 2d0 | I48: =IF(AND(N39>=1.5*P36,N39<=2*P36),"OK !!","NON OK !!") -> NON OK !!
C50: =IF(Configuration!Y4="EN","Shear resistance check in concrete","Vérification au cisaillement dans le béton") -> Vérification au cisaillement dans le béton | I50: =N37/E51 -> 0.65720714
E51: =G53*P41*N41/G_M2 -> 7334.0652 | F51: daN
...

Sheet EN1992-4
C3: =IF(Configuration!Y4="EN","Anchor Resistance according to NF EN 1992-4; NF EN 1993-1-8 ","Résistance des Ancrages selon NF EN 1992-4 ; NF EN 1993-1-8 ") -> Résistance des Ancrages selon NF EN 1992-4 ; NF EN 1993-1-8 | J3: =MAX(J83,J89,J121,J128,J175,J201,J230,J239,J252,J259,J296,J301) -> 0.99600454
C5: =IF(Configuration!Y4="EN","Geometry","Géométrie") -> Géométrie
C6: =IF(Configuration!Y4="EN","Concrete","Béton") -> Béton
D7: C 30/37 | F7: fck = | G7: =10*VLOOKUP(D7,Data!$A$40:$H$128,2) -> 30 | H7: Mpa
D8: NON fissuré | E8: =IF(AND(E65<>"permante et transitoire",D8="NON fissuré"),"Lorsque la situation est accidentelle ou sismique, le béton doit être considéré comme Fissuré","") | O8: kcr,N / kucr,N | P8: k2 | Q8: τRk,cr / τRk,ucr | R8: k3 | S8: hmin | T8: k5 | U8: k8 | V8: k9
G9: =IF(Configuration!Y4="EN","Supplementary reinforcement in tension","Renforcements supplémentaires en traction") -> Renforcements supplémentaires en traction | H9: NON | O9: - | P9: - | Q9: [MPa] | R9: - | S9: [mm] | T9: - | U9: - | V9: -
G10: =IF(Configuration!Y4="EN","Supplementary reinforcement in shear","Renforcements supplémentaires en cisaillement") -> Renforcements supplémentaires en cisaillement | H10: NON | O10: Connu | P10: Connu | Q10: Connu | R10: Connu | S10: Connu | T10: Connu | U10: Connu | V10: Connu
D11: =IF(OR(H9="OUI",H10="OUI"),"Les renforcements supplémentaires ne sont pas étudiés dans cette feuille !","") | N11: Fissuré | O11: 7.7 | P11: 7.5 | Q11: 10.2 | R11: 7.7 | S11: 85 | T11: 8.7 | U11: 1.4 | V11: 1.7
C12: =IF(Configuration!Y4="EN","Anchor rods","Tiges d'ancrages") -> Tiges d'ancrages | N12: NON fissuré | O12: 11 | P12: 10.5 | Q12: 14.5 | R12: 11 | T12: 12.2 | U12: 2 | V12: 2.4
C13: =IF(Configuration!Y4="EN","Type","Type") -> Type | D13: Droite | F13: =IF(Configuration!Y4="EN","Fastening by "&IF(D13="Droite","bonding","mechanical interlock"),"Fixation par "&IF(D13="Droite","scellement","vérouillage de forme")) -> Fixation par scellement
C14: d = | D14: 20 | E14: As = | F14: =VLOOKUP(D14,Data!$K$3:$P$20,5) -> 245 | G14: mm²
C15: =IF(Configuration!Y4="EN","Grade","Nuance") -> Nuance | D15: 8.8 | E15: fyb = | F15: =VLOOKUP(D15,Data!$F$3:$H$16,2) -> 64 | G15: daN/mm² | H15: fub = | I15: =VLOOKUP(D15,Data!$F$3:$H$16,3) -> 80 | J15: daN/mm²
C16: hef = | D16: 230 | E16: mm
D17: =IF(Configuration!Y4="EN","Number of rods: n =","Nombre de Tiges : n =") -> Nombre de Tiges : n = | E17: =J40*J37 -> 6
I18: =IF(Configuration!Y4="EN","First row of rods is external","Première ligne de Tiges est extérieure") -> Première ligne de Tiges est extérieure | J18: NON
C20: =IF(Configuration!Y4="EN","Anchor bearing plates","Plaquettes d'ancrages") -> Plaquettes d'ancrages
C21: dr = | D21: 80 | E21: mm | F21: tpl = | G21: 10 | H21: mm
C22: Nuance | D22: S235 | E22: =IF(D13="Droite","N/A","") -> N/A | F22: fy = | G22: =VLOOKUP(D22,Data!A2:D33,2,FALSE) -> 23.5 | H22: daN/mm²
C24: =IF(Configuration!Y4="EN","Lever arm","Bras de levier") -> Bras de levier | E24: =IF(I25=0,IF(Configuration!Y4="EN","No lever arm!","Pas de bras de levier !"),IF(Configuration!Y4="EN","Lever arm of "&I25&" mm taken into account!","Bras de levier de "&I25&" mm pris en compte !")) -> Pas de bras de levier ! | N24: Vérifications pour les tiges sollicitées en traction
E25: =IF(Configuration!Y4="EN","Pre-grouting plate","Platine de préscellement") -> Platine de préscellement | F25: OUI | H25: la = | I25: =IF(F26=0,0,IF(AND(F25="OUI",F26<=0.5*D14),0,IF(F25="OUI",0,0.5*D14)+F26+0.5*F27)) -> 0 | J25: mm | N25: =J83 -> 0.092184601 | O25: Rupture de l'acier de la fixation
E26: =IF(Configuration!Y4="EN","grout thickness tgrout =","épaisseur du mortier tgrout =") -> épaisseur du mortier tgrout = | F26: 0 | H26: αM = | I26: 2 | N26: =J89 -> 0.69920629 | O26: Rupture par cône de béton
E27: =IF(Configuration!Y4="EN","plate thickness tp =","épaisseur de la platine tp =") -> épaisseur de la platine tp = | F27: 20 | H27: MEd = | I27: =D44*0.001*I25/I26 -> 0 | J27: daN.m | N27: =J121 -> 0 | O27: Rupture par extraction-glissement
N28: =J128 -> 0.51828331 | O28: Rupture combinée du béton et par extraction-glissement
C29: =IF(Configuration!Y4="EN","Dimensions","Dimensions") -> Dimensions | N29: =J175 -> 0.34554492 | O29: Rupture par fendage du béton
N30: =J201 -> 0 | O30: Rupture par éclatement du béton
C31: =IF(Configuration!Y4="EN","concrete thickness","épaisseur du béton") -> épaisseur du béton | I31: C2,2 = | J31: 0 | N31: Vérifications pour les tiges sollicitées en cisaillement
C32: h = | D32: 380 | N32: =J230 -> 0.2258716 | O32: Rupture de l'acier de la fixation sans bras de levier
I33: S2 = | J33: {=(SUM(F51:F60)-INDEX(F51:F60,J37))/(J37-1)} -> 150 | N33: =J239 -> 0 | O33: Rupture de l'acier de la fixation avec bras de levier
J34: =IF(J33<4*$D$14,"Smin = 4*d0","") | N34: =J252 -> 0.55309465 | O34: Rupture du béton par effet de levier
I35: C2,1 = | J35: 0 | N35: =J259 -> 0 | O35: Rupture du bord du béton
N36: Vérifications pour les tiges sollicitées en cisaillement et traction
I37: N2 = | J37: =COUNTA(E51:E60) -> 3 | N37: =J296 -> 0.05951598 | O37: Rupture de l'acier de la fixation
N38: =J301 -> 0.99600454 | O38: Modes de rupture du béton
C40: C1,1 = | D40: 140 | E40: S1 = | F40: 100 | G40: C1,2 = | H40: 140 | I40: N1 = | J40: 2
E41: =IF(AND(E100<>"permante et transitoire",D41="NON fissuré"),"Lorsque la situation est accidentelle ou sismique, le béton doit être considéré comme Fissuré","") | F41: =IF(F40<4*$D$14,"Smin = 4*d0","")
C42: =IF(Configuration!Y4="EN","Loading","Efforts") -> Efforts
C43: Nt,Ed = | D43: 2900 | E43: daN
C44: VEd = | D44: 8500 | E44: daN | G44: NEd = | H44: =D43+SUM(I51:I60) -> 5372.7273 | I44: daN
C45: MEd = | D45: 0 | E45: daN.m | G45: MEd = | H45: =D45+D44*0.001*D46 -> 680 | I45: daN.m
C46: Exc e = | D46: 80 | E46: mm
...

Sheet T Tendus
C3: =IF(Configuration!Y4="EN","General Data","Données Générales") -> Données Générales | AH3: =IF(Configuration!Y4="EN","Calculation of distances m","Calcul des distances m") -> Calcul des distances m
AI4: =IF(Configuration!Y4="EN","Weld","Soudure") -> Soudure | AM4: =IF(Configuration!Y4="EN","Fillet radius","Rayon de congés") -> Rayon de congés
G5: =IF(Configuration!Y4="EN","End plate thickness t =","Epaisseur de platine t =") -> Epaisseur de platine t = | H5: 15 | J5: mm | M5: =IF(Configuration!Y4="EN","Grade:","Nuance :") -> Nuance : | N5: S355 | R5: =IF(Configuration!Y4="EN","Bolts:","Boulons :") -> Boulons : | S5: 30 | V5: =IF(Configuration!Y4="EN","Class:","Classe :") -> Classe : | W5: S355 | AJ5: =IF(Configuration!Y4="EN","Fillet weld a =","Cordon de soudure a =") -> Cordon de soudure a = | AK5: 5 | AN5: =IF(Configuration!Y4="EN","fillet radius r =","rayon de congé r =") -> rayon de congé r = | AO5: 5
M6: fy = | N6: =VLOOKUP(N5,Data!$A$3:$B$34,2,FALSE) -> 35.5 | O6: daN/mm² | R6: As = | S6: =VLOOKUP(S5,Data!K3:O20,5,FALSE) -> 561 | U6: mm² | W6: fub = | X6: =VLOOKUP(W5,Data!$F$3:$H$16,3,FALSE) -> 49 | Y6: daN/mm² | AJ6: m = | AK6: 30 | AN6: m = | AO6: 30
AJ7: mx = | AK7: =AK6-SQRT(2)*0.8*AK5 -> 24.343146 | AN7: mx = | AO7: =AO6-0.8*AO5 -> 26
C8: --------------------------------------------------------------------------------------------------------------------------------
C9: =IF(Configuration!Y4="EN","Single Bolt Pair Working Alone","Paire de Boulons Travaillant Seuls") -> Paire de Boulons Travaillant Seuls
C11: =IF(Configuration!Y4="EN","Unstiffened outer bolt pair","Paire de boulons extérieurs non raidis") -> Paire de boulons extérieurs non raidis | V11: SCI P398 Step 1A | X11: FT,Rd = | Y11: =MIN(T14:U16) -> 18432.692 | AA11: daN
C12: e = | D12: 45 | F12: mm | G12: w = | H12: 90 | J12: mm | K12: mx = | L12: 39 | N12: mm | O12: ex = | P12: 45 | R12: mm | S12: n = | T12: =IF(MIN(D12,P12)>1.25*H12,1.25*H12,MIN(D12,P12)) -> 45 | V12: mm
F14: =IF(Configuration!Y4="EN","Failure mode 1:","Mode de ruine 1 :") -> Mode de ruine 1 : | H14: leff,1 = | I14: =MIN(L19,L22,L25,Z19,Z22,Z25,Z28) -> 90 | K14: mm | M14: Mpl,1,Rd = | N14: =0.25*(I14*0.001)*H5^2*N6/G_M0 -> 179.71875 | P14: daN.m | S14: FT,1,Rd = | T14: =4*N14/(0.001*L12) -> 18432.692 | V14: daN
F15: =IF(Configuration!Y4="EN","Failure mode 2:","Mode de ruine 2 :") -> Mode de ruine 2 : | H15: leff,2 = | I15: =MIN(Z19,Z22,Z25,Z28) -> 90 | K15: mm | M15: Mpl,2,Rd = | N15: =0.25*(I15*0.001)*H5^2*N6/G_M0 -> 179.71875 | P15: daN.m | S15: FT,2,Rd = | T15: =(2*N15+0.001*T12*T16)/(0.001*(T12+L12)) -> 25484.818 | V15: daN
F16: =IF(Configuration!Y4="EN","Failure mode 3:","Mode de ruine 3 :") -> Mode de ruine 3 : | M16: FB,Rd = | N16: =0.9*S6*X6/1.25 -> 19792.08 | P16: daN | S16: FT,3,Rd = | T16: =2*N16 -> 39584.16 | V16: daN
C17: =IF(Configuration!Y4="EN","Circular Pattern","Mode Circulaire") -> Mode Circulaire | Q17: =IF(Configuration!Y4="EN","Non-Circular Pattern","Mode non Circulaire") -> Mode non Circulaire
L19: =2*PI()*L12 -> 245.04423 | N19: mm | Z19: =0.5*H12+D12 -> 90 | AB19: mm
L22: =PI()*L12+2*P12 -> 212.52211 | N22: mm | Z22: =4*L12+1.25*P12 -> 212.25 | AB22: mm
L25: =PI()*L12+H12 -> 212.52211 | N25: mm | Z25: =2*L12+0.625*P12+D12 -> 151.125 | AB25: mm
Z28: =2*L12+0.625*P12+0.5*H12 -> 151.125 | AB28: mm
C31: ----------------------------------------------------------------------------------------------------------------------------------------------------------
C33: =IF(Configuration!Y4="EN","Stiffened outer bolt pair","Paire de boulons extérieurs raidis") -> Paire de boulons extérieurs raidis | V33: SCI P398 Step 1A | X33: FT,Rd = | Y33: =MIN(T36:U38) -> 28868.259 | AA33: daN
C34: e = | D34: 75 | F34: mm | G34: m = | H34: 61.8 | J34: mm | K34: mx = | L34: 61.8 | N34: mm | O34: ex = | P34: 75 | R34: mm | S34: n = | T34: =IF(MIN(D34,P34)>1.25*H34,1.25*H34,MIN(D34,P34)) -> 75 | V34: mm
F36: =IF(Configuration!Y4="EN","Failure mode 1:","Mode de ruine 1 :") -> Mode de ruine 1 : | H36: leff,1 = | I36: =MIN(L41,L44,Z41,Z44,Z47) -> 245.475 | K36: mm | M36: Mpl,1,Rd = | N36: =0.25*(I36*0.001)*H5^2*N6/G_M0 -> 490.18289 | P36: daN.m | S36: FT,1,Rd = | T36: =4*N36/(0.001*H34) -> 31727.048 | V36: daN
F37: =IF(Configuration!Y4="EN","Failure mode 2:","Mode de ruine 2 :") -> Mode de ruine 2 : | H37: leff,2 = | I37: =MIN(Z41,Z44,Z47) -> 245.475 | K37: mm | M37: Mpl,2,Rd = | N37: =0.25*(I37*0.001)*H5^2*N6/G_M0 -> 490.18289 | P37: daN.m | S37: FT,2,Rd = | T37: =(2*N37+0.001*T34*T38)/(0.001*(T34+H34)) -> 28868.259 | V37: daN
F38: =IF(Configuration!Y4="EN","Failure mode 3:","Mode de ruine 3 :") -> Mode de ruine 3 : | M38: FB,Rd = | N38: =0.9*S6*X6/1.25 -> 19792.08 | P38: daN | S38: FT,3,Rd = | T38: =2*N38 -> 39584.16 | V38: daN | AF38: λ2 \ α | AG38: =INDEX(AL40:AV40,MATCH(AG39,AL41:AV41,0)) -> 6.283 | AH38: =(AG38*(AI39-AH39)+AI38*(AH39-AG39))/(AI39-AG39) -> 6.1516859 | AI38: =INDEX(AL40:AV40,MATCH(AI39,AL41:AV41,0)) -> 6
C39: =IF(Configuration!Y4="EN","Circular Pattern","Mode Circulaire") -> Mode Circulaire | Q39: =IF(Configuration!Y4="EN","Non-Circular Pattern","Mode non Circulaire") -> Mode non Circulaire | AF39: =AK41 -> 0.45 | AG39: =INDEX(AL41:AV41,MATCH(T42,AL41:AV41,1)) -> 0.41951095 | AH39: =T42 -> 0.45175439 | AI39: {=INDEX(AL41:AV41,MATCH(T42,AL41:AV41,1)+1)} -> 0.489
AF40: =V42 -> 0.45175439 | AH40: =(AH38*(AF42-AF40)+AH41*(AF40-AF39))/(AF42-AF39) -> 6.1483122 | AK40: λ2 \ α | AL40: 8 | AM40: 8 | AN40: 7 | AO40: 6.283 | AP40: 6 | AQ40: 5.5 | AR40: 5 | AS40: 4.75 | AT40: 4.5 | AU40: 4.45 | AV40: 4.45
L41: =2*PI()*H34 -> 388.30085 | N41: mm | Z41: =X42*H34-(2*H34+0.625*D34)+P34 -> 284.4907 | AB41: mm | AF41: λ2 \ α | AG41: =INDEX(AL40:AV40,MATCH(AG42,AL42:AV42,0)) -> 6.283 | AH41: =(AG41*(AI42-AH42)+AI41*(AH42-AG42))/(AI42-AG42) -> 6.0555366 | AI41: =INDEX(AL40:AV40,MATCH(AI42,AL42:AV42,0)) -> 6 | AK41: =INDEX(Data!$Y$4:$Y$33,MATCH(V42,Data!$Y$4:$Y$33,1)) -> 0.45 | AL41: =VLOOKUP($AK41,Data!$Y$4:$AJ$33,2,FALSE) -> 0 | AM41: =VLOOKUP($AK41,Data!$Y$4:$AJ$33,3,FALSE) -> 0.234 | AN41: =VLOOKUP($AK41,Data!$Y$4:$AJ$33,4,FALSE) -> 0.314 | AO41: =VLOOKUP($AK41,Data!$Y$4:$AJ$33,5,FALSE) -> 0.41951095 | AP41: =VLOOKUP($AK41,Data!$Y$4:$AJ$33,6,FALSE) -> 0.489 | AQ41: =VLOOKUP($AK41,Data!$Y$4:$AJ$33,7,FALSE) -> 0.56484972 | AR41: =VLOOKUP($AK41,Data!$Y$4:$AJ$33,8,FALSE) -> 0.6643403 | AS41: =VLOOKUP($AK41,Data!$Y$4:$AJ$33,9,FALSE) -> 0.73586347 | AT41: =VLOOKUP($AK41,Data!$Y$4:$AJ$33,10,FALSE) -> 0.80830362 | AU41: =VLOOKUP($AK41,Data!$Y$4:$AJ$33,11,FALSE) -> 0.823892 | AV41: =VLOOKUP($AK41,Data!$Y$4:$AJ$33,12,FALSE) -> 1
S42: λ1 = | T42: =H34/(H34+D34) -> 0.45175439 | U42: λ2 = | V42: =L34/(H34+D34) -> 0.45175439 | W42: α = | X42: =AH40 -> 6.1483122 | AF42: =AK42 -> 0.5 | AG42: =INDEX(AL42:AV42,MATCH(T42,AL42:AV42,1)) -> 0.39750382 | AH42: =T42 -> 0.45175439 | AI42: {=INDEX($AL42:$AV42,MATCH(T42,$AL42:$AV42,1)+1)} -> 0.465 | AK42: {=INDEX(Data!$Y$4:$Y$33,MATCH(V42,Data!$Y$4:$Y$33,1)+1)} -> 0.5 | AL42: =VLOOKUP($AK42,Data!$Y$5:$AJ$34,2,FALSE) -> 0 | AM42: =VLOOKUP($AK42,Data!$Y$5:$AJ$34,3,FALSE) -> 0.234 | AN42: =VLOOKUP($AK42,Data!$Y$5:$AJ$34,4,FALSE) -> 0.298 | AO42: =VLOOKUP($AK42,Data!$Y$5:$AJ$34,5,FALSE) -> 0.39750382 | AP42: =VLOOKUP($AK42,Data!$Y$5:$AJ$34,6,FALSE) -> 0.465 | AQ42: =VLOOKUP($AK42,Data!$Y$5:$AJ$34,7,FALSE) -> 0.54330107 | AR42: =VLOOKUP($AK42,Data!$Y$5:$AJ$34,8,FALSE) -> 0.64462557 | AS42: =VLOOKUP($AK42,Data!$Y$5:$AJ$34,9,FALSE) -> 0.72027509 | AT42: =VLOOKUP($AK42,Data!$Y$5:$AJ$34,10,FALSE) -> 0.79775853 | AU42: =VLOOKUP($AK42,Data!$Y$5:$AJ$34,11,FALSE) -> 0.81426388 | AV42: =VLOOKUP($AK42,Data!$Y$5:$AJ$34,12,FALSE) -> 1
L44: =PI()*H34+2*P34 -> 344.15043 | N44: mm | Z44: =2*H34+0.625*D34+P34 -> 245.475 | AB44: mm
Z47: =4*H34+1.25*D34 -> 340.95 | AB47: mm
C50: ----------------------------------------------------------------------------------------------------------------------------------------------------------
C52: Paire de boulons intérieurs | V52: SCI P398 Step 1A | X52: FT,Rd = | Y52: =MIN(T55:U57) -> 25486.556 | AA52: daN
C53: e = | D53: 75 | F53: mm | G53: m = | H53: 204 | J53: mm | K53: m2 = | L53: 82 | N53: mm | S53: n = | T53: =IF(D53>1.25*H53,1.25*H53,D53) -> 75 | V53: mm
F55: Mode de ruine 1 : | H55: leff,1 = | I55: =MIN(L60,Z60) -> 1037.1048 | K55: mm | M55: Mpl,1,Rd = | N55: =0.25*(I55*0.001)*H5^2*N6/G_M0 -> 2070.9686 | P55: daN.m | S55: FT,1,Rd = | T55: =4*N55/(0.001*H53) -> 40607.227 | V55: daN
F56: Mode de ruine 2 : | H56: leff,2 = | I56: =MIN(Z60) -> 1037.1048 | K56: mm | M56: Mpl,2,Rd = | N56: =0.25*(I56*0.001)*H5^2*N6/G_M0 -> 2070.9686 | P56: daN.m | S56: FT,2,Rd = | T56: =(2*N56+0.001*T53*T57)/(0.001*(T53+H53)) -> 25486.556 | V56: daN
F57: Mode de ruine 3 : | M57: FB,Rd = | N57: =0.9*S6*X6/1.25 -> 19792.08 | P57: daN | S57: FT,3,Rd = | T57: =2*N57 -> 39584.16 | V57: daN | AF57: λ2 \ α | AG57: =INDEX(AL59:AV59,MATCH(AG58,AL60:AV60,0)) -> 5.5 | AH57: =(AG57*(AI58-AH58)+AI57*(AH58-AG58))/(AI58-AG58) -> 5.2668908 | AI57: =INDEX(AL59:AV59,MATCH(AI58,AL60:AV60,0)) -> 5
C58: Mode Circulaire | Q58: Mode non Circulaire | AF58: =AK60 -> 0.25 | AG58: =INDEX(AL60:AV60,MATCH(T61,AL60:AV60,1)) -> 0.69505858 | AH58: =T61 -> 0.7311828 | AI58: {=INDEX(AL60:AV60,MATCH(T61,AL60:AV60,1)+1)} -> 0.77254203
AF59: =V61 -> 0.29390681 | AH59: =(AH57*(AF61-AF59)+AH60*(AF59-AF58))/(AF61-AF58) -> 5.0838469 | AK59: λ2 \ α | AL59: 8 | AM59: 8 | AN59: 7 | AO59: 6.283 | AP59: 6 | AQ59: 5.5 | AR59: 5 | AS59: 4.75 | AT59: 4.5 | AU59: 4.45 | AV59: 4.45
L60: =2*PI()*H53 -> 1281.7698 | N60: mm | Z60: =X61*H53 -> 1037.1048 | AB60: mm | AF60: λ2 \ α | AG60: =INDEX(AL59:AV59,MATCH(AG61,AL61:AV61,0)) -> 5.5 | AH60: =(AG60*(AI61-AH61)+AI60*(AH61-AG61))/(AI61-AG61) -> 5.0584449 | AI60: =INDEX(AL59:AV59,MATCH(AI61,AL61:AV61,0)) -> 5 | AK60: =INDEX(Data!$Y$4:$Y$33,MATCH(V61,Data!$Y$4:$Y$33,1)) -> 0.25 | AL60: =VLOOKUP($AK60,Data!$Y$4:$AJ$33,2,FALSE) -> 0 | AM60: =VLOOKUP($AK60,Data!$Y$4:$AJ$33,3,FALSE) -> 0.332 | AN60: =VLOOKUP($AK60,Data!$Y$4:$AJ$33,4,FALSE) -> 0.4475 | AO60: =VLOOKUP($AK60,Data!$Y$4:$AJ$33,5,FALSE) -> 0.55659705 | AP60: =VLOOKUP($AK60,Data!$Y$4:$AJ$33,6,FALSE) -> 0.63 | AQ60: =VLOOKUP($AK60,Data!$Y$4:$AJ$33,7,FALSE) -> 0.69505858 | AR60: =VLOOKUP($AK60,Data!$Y$4:$AJ$33,8,FALSE) -> 0.77254203 | AS60: =VLOOKUP($AK60,Data!$Y$4:$AJ$33,9,FALSE) -> 0.81930718 | AT60: =VLOOKUP($AK60,Data!$Y$4:$AJ$33,10,FALSE) -> 0.87019868 | AU60: =VLOOKUP($AK60,Data!$Y$4:$AJ$33,11,FALSE) -> 0.89312277 | AV60: =VLOOKUP($AK60,Data!$Y$4:$AJ$33,12,FALSE) -> 1
S61: λ1 = | T61: =H53/(H53+D53) -> 0.7311828 | U61: λ2 = | V61: =L53/(H53+D53) -> 0.29390681 | W61: α = | X61: =AH59 -> 5.0838469 | AF61: =AK61 -> 0.3 | AG61: =INDEX(AL61:AV61,MATCH(T61,AL61:AV61,1)) -> 0.65425369 | AH61: =T61 -> 0.7311828 | AI61: {=INDEX($AL61:$AV61,MATCH(T61,$AL61:$AV61,1)+1)} -> 0.74136526 | AK61: {=INDEX(Data!$Y$4:$Y$33,MATCH(V61,Data!$Y$4:$Y$33,1)+1)} -> 0.3 | AL61: =VLOOKUP($AK61,Data!$Y$5:$AJ$34,2,FALSE) -> 0 | AM61: =VLOOKUP($AK61,Data!$Y$5:$AJ$34,3,FALSE) -> 0.289 | AN61: =VLOOKUP($AK61,Data!$Y$5:$AJ$34,4,FALSE) -> 0.399 | AO61: =VLOOKUP($AK61,Data!$Y$5:$AJ$34,5,FALSE) -> 0.51258278 | AP61: =VLOOKUP($AK61,Data!$Y$5:$AJ$34,6,FALSE) -> 0.585 | AQ61: =VLOOKUP($AK61,Data!$Y$5:$AJ$34,7,FALSE) -> 0.65425369 | AR61: =VLOOKUP($AK61,Data!$Y$5:$AJ$34,8,FALSE) -> 0.74136526 | AS61: =VLOOKUP($AK61,Data!$Y$5:$AJ$34,9,FALSE) -> 0.79317371 | AT61: =VLOOKUP($AK61,Data!$Y$5:$AJ$34,10,FALSE) -> 0.85048395 | AU61: =VLOOKUP($AK61,Data!$Y$5:$AJ$34,11,FALSE) -> 0.86836475 | AV61: =VLOOKUP($AK61,Data!$Y$5:$AJ$34,12,FALSE) -> 1
C63: ----------------------------------------------------------------------------------------------------------------------------------------------------------
...

Sheet Composants
C3: =IF(Configuration!Y4="EN","Column web panel in shear","Panneau d'âme de poteau en cisaillement") -> Panneau d'âme de poteau en cisaillement | J3: (NF EN1993-1-8 §6.2.6.1 (2) )
D4: =IF(Configuration!Y4="EN","Grade:","Nuance :") -> Nuance : | E4: S275 | G4: dc = | H4: 331 | I4: mm
D5: fy,wc = | E5: =VLOOKUP(E4,Data!$A$3:$D$33,2,FALSE) -> 27.5 | F5: daN/mm² | G5: tw = | H5: 8.6 | I5: mm
D6: ε = √235/fy,wc = | E6: =SQRT(235/(10*E5)) -> 0.92441628 | G6: Avc = | H6: =H4*H5 -> 2846.6 | I6: mm²
D7: dc / tw = | E7: =H4/H5 -> 38.488372 | F7: =IF(E7>H7,">","<") -> < | G7: 69ε = | H7: =69*E6 -> 63.784723 | I7: =IF(E7>H7,"NON OK !!!","OK !!") -> OK !!
C8: =IF(I8=0,"",IF(Configuration!Y4="EN","Presence of transverse stiffeners in tension and compression zones","Présence de raidisseurs transversaux en zones tendues et comprimées")) -> Présence de raidisseurs transversaux en zones tendues et comprimées | H8: Vwp,add,Rd = | I8: 1 | J8: daN
H9: Vwp,Rd = 0.9fy,wcAvc / √3 γM0 + Vwp,add,Rd = | I9: =I8+0.9*E5*H6/(G_M0*SQRT(3)) -> 40677.261 | J9: daN
C10: ---------------------------------------------------------------------------------------------------------------------------------------------------------------------------------
C11: =IF(Configuration!Y4="EN","Column web panel in shear","Panneau d'âme de poteau en cisaillement") -> Panneau d'âme de poteau en cisaillement | J11: (NF EN1993-1-8 §6.2.6.1 (4) )
C12: =IF(Configuration!Y4="EN","(Additional resistance with transverse web stiffeners in compression and tension zones)","(Résistance additionnelle en présence de raidisseurs d'âme transversaux dans les zones Comprimées et Tendues)") -> (Résistance additionnelle en présence de raidisseurs d'âme transversaux dans les zones Comprimées et Tendues)
C13: =IF(Configuration!Y4="EN","Column","Poteau") -> Poteau | D13: =IF(Configuration!Y4="EN","Grade:","Nuance :") -> Nuance : | E13: S275 | G13: ds = | H13: 500 | I13: mm
D14: fy,wc = | E14: =VLOOKUP(E13,Data!$A$3:$D$33,2,FALSE) -> 27.5 | F14: daN/mm² | G14: bf = | H14: 180 | I14: mm
D15: Mpl,fc,Rd = | E15: =E14*(0.001*H14*H15^2/4)/G_M0 -> 225.53438 | F15: daN.m | G15: tf = | H15: 13.5 | I15: mm
C16: =IF(Configuration!Y4="EN","Stiffener","Raidisseur") -> Raidisseur | D16: =IF(Configuration!Y4="EN","Grade:","Nuance :") -> Nuance : | E16: S235
D17: fy,wc = | E17: =VLOOKUP(E16,Data!$A$3:$D$33,2,FALSE) -> 23.5 | F17: daN/mm² | G17: bs = | H17: 105 | I17: mm
D18: Mpl,st,Rd = | E18: =E17*(0.001*H17*H18^2/4)/G_M0 -> 39.48 | F18: daN.m | G18: ts = | H18: 8 | I18: mm
G19: Vwp,add,Rd = min{ 4Mpl,fc,Rd / ds ; 2Mpl,fc,Rd + 2Mpl,st,Rd / ds } = | H19: =MIN(4*E15/(0.001*H13),(2*E15+2*E18)/(0.001*H13)) -> 1060.0575 | I19: daN
C20: ---------------------------------------------------------------------------------------------------------------------------------------------------------------------------------
C21: =IF(Configuration!Y4="EN","Column web panel in shear","Panneau d'âme de poteau en cisaillement") -> Panneau d'âme de poteau en cisaillement | J21: (NF EN1993-1-8 §6.2.6.1 (6 à 13) )
C22: =IF(Configuration!Y4="EN","(With supplementary web plate)","(En présence de doublure d'âme)") -> (En présence de doublure d'âme)
D23: =IF(Configuration!Y4="EN","Grade:","Nuance :") -> Nuance : | E23: S275 | G23: dc = | H23: 331 | I23: mm
D24: fy,wc = | E24: =VLOOKUP(E23,Data!$A$3:$D$33,2,FALSE) -> 27.5 | F24: daN/mm² | G24: tw = | H24: 8.6 | I24: mm
D25: ε = √235/fy,wc = | E25: =SQRT(235/(10*E24)) -> 0.92441628 | G25: Avc = | H25: =H23*H24+E27*E26 -> 6156.6 | I25: mm²
D26: ts = | E26: 10 | F26: mm | G26: ts | H26: =IF(E26>=H24,"≥","<") -> ≥ | I26: tw | J26: =IF(E26>=H24,"OK !!","NON OK !!!") -> OK !!
D27: bs = | E27: =H23 -> 331 | F27: =IF(E27>H27,">","<") -> < | G27: 40 ε ts = | H27: =40*E25*E26 -> 369.76651 | J27: =IF(E27>H27,"NON OK !!!","OK !!") -> OK !!
G28: bs | H28: =IF(E27>=H23,"≥","<") -> ≥ | I28: dc | J28: =IF(E27>=H23,"OK !!","NON OK !!!") -> OK !!
C29: =IF(I29=0,"",IF(Configuration!Y4="EN","Presence of transverse stiffeners in tension and compression zones","Présence de raidisseurs transversaux en zones tendues et comprimées")) -> Présence de raidisseurs transversaux en zones tendues et comprimées | H29: Vwp,add,Rd = | I29: 1 | J29: daN
H30: Vwp,Rd = 0.9fy,wcAvc / √3 γM0 + Vwp,add,Rd = | I30: =I29+0.9*E24*H25/(G_M0*SQRT(3)) -> 87975.238 | J30: daN
C31: ---------------------------------------------------------------------------------------------------------------------------------------------------------------------------------
C32: =IF(Configuration!Y4="EN","Column web in transverse compression","Âme de poteau comprimée transversalement") -> Âme de poteau comprimée transversalement | J32: (NF EN1993-1-8 §6.2.6.2)
C33: =IF(Configuration!Y4="EN","(Welded connection or end plate connection)","(Assemblage soudé ou par platine d'about)") -> (Assemblage soudé ou par platine d'about)
D34: =IF(Configuration!Y4="EN","Grade:","Nuance :") -> Nuance : | E34: S275 | G34: =IF(Configuration!Y4="EN","Column:","Poteau :") -> Poteau : | H34: HEA 300 | L34: =MATCH(H34,Profilés!$A$4:$A$182,0) -> 70
D35: fy,wc = | E35: =VLOOKUP(E34,Data!$A$3:$D$33,2,FALSE) -> 27.5 | F35: daN/mm² | G35: tp = | H35: 15 | I35: mm
G36: tfb = | H36: 14 | I36: mm
D37: =IF(Configuration!Y4="EN","Supplementary web plate:","Doublure d'âme :") -> Doublure d'âme : | E37: NON | G37: ab / ap = | H37: 4 | I37: mm
D38: β = | E38: 1 | G38: ac / rc = | H38: {=IF(LEFT(H34,3)="PRS",0.7*INDEX(Profilés!$E$4:$E$182,L34),INDEX(Profilés!$G$4:$G$182,L34))} -> 27 | I38: mm
D39: Avc = | E39: {=100*INDEX(Profilés!$M$4:$M$182,L34)} -> 3728 | F39: mm² | G39: tfc = | H39: {=INDEX(Profilés!$F$4:$F$182,L34)} -> 14 | I39: mm
D40: ω = | E40: =1/SQRT(1+IF(E38=1,1.3,5.2)*((H42*H41)/E39)^2) -> 0.82818591 | G40: dwc = | H40: {=INDEX(Profilés!$C$4:$C$182,L34)-2*(H38+H39)} -> 208 | I40: mm
D41: `l = | E41: =0.932*SQRT((H42*H40*E35)/(21000*H41^2)) -> 0.92328095 | G41: twc = | H41: {=IF(E37="NON",1,IF(E37=1,1.5,2))*INDEX(Profilés!$E$4:$E$182,L34)} -> 8.5 | I41: mm
D42: ρ = | E42: =IF(E41<=0.72,1,(E41-0.2)/(E41^2)) -> 0.84847544 | G42: beff,c,wc = | H42: =H36+2*SQRT(2)*H37+5*(H39+IF(LEFT(H34,3)="PRS",SQRT(2)*H38,H38))+2*H35 -> 260.31371 | I42: mm
...

Sheet Rigidité
C3: =IF(Configuration!Y4="EN","Rotational stiffness of connection","Rigidité en rotation d'assemblage") -> Rigidité en rotation d'assemblage | L3: NF EN 1993-1-8 §6.3 | R3: Type d'attache | S3: ψ | T3: Unilatéral | U3: Bilatéral - Moments égaux et opposés | V3: Bilatéral - Moments inégaux | W3: =MATCH(E5,T3:V3,0) -> 1 | X3: η
D4: =IF(Configuration!Y4="EN","Connection type:","Type d'attache :") -> Type d'attache : | E4: Poutre-poteau boulonné par platine d'about | J4: ψ = | K4: =VLOOKUP(E4,R4:S8,2,FALSE) -> 2.7 | R4: Poutre-poteau à attaches soudées | S4: 2.7 | T4: k1 ; k2 ; k3 | U4: k2 ; k3 | V4: k1 ; k2 ; k3 | X4: 2
D5: =IF(Configuration!Y4="EN","Laterality:","Latéralité :") -> Latéralité : | E5: Unilatéral | R5: Poutre-poteau à cornières de semelle boulonnées | S5: 3.1 | T5: k1 ; k2 ; k3 ; k4 ; k6 ; k10 ; k11* ; k12** | U5: k2 ; k3 ; k4 ; k6 ; k10 ; k11* ; k12** | V5: k1 ; k2 ; k3 ; k4 ; k6 ; k10 ; k11* ; k12** | X5: 2
R6: Poutre-poteau boulonné par platine d'about | S6: 2.7 | T6: k1 ; k2 ; k3 ; k4 ; k5 ; k10 | U6: k2 ; k3 ; k4 ; k5 ; k10 | V6: k1 ; k2 ; k3 ; k4 ; k5 ; k10 | X6: 2
C7: MEd = | D7: 12000 | E7: daN.m | F7: MRd = | G7: 15296 | H7: daN.m | I7: μ = | J7: =IF(D7<=(2/3)*G7,1,(1.5*D7/G7)^K4) -> 1.5519421 | K7: η = | L7: =VLOOKUP(E4,R4:X8,7,FALSE) -> 2 | R7: Continuité de poutre par platine d'about boulonnée | S7: 2.7 | T7: N/A | U7: k5,g ; k5,d ; k10 | V7: N/A | X7: 3
R8: Plaques d'assise de poteau | S8: 2.7 | T8: k13 ; k15 ; k16 | U8: N/A | V8: N/A | X8: 3
C9: =IF(Configuration!Y4="EN","Stiffness coefficients","Coefficients de rigidité") -> Coefficients de rigidité
G10: =IF(Configuration!Y4="EN","Stiffness coefficients ki to be considered","Coefficients de rigidité ki à prendre en compte") -> Coefficients de rigidité ki à prendre en compte | H10: =VLOOKUP(E4,R4:V8,MATCH(E5,R3:V3,0),FALSE) -> k1 ; k2 ; k3 ; k4 ; k5 ; k10 | K10: =IF(S10=1,"","( keq )") -> ( keq ) | R10: Nombre de rangées de boulons tendus : nb = | S10: =COUNTA(D14:D23) -> 6
D11: k1 [mm] | E11: k2 [mm] | F11: k6 [mm] | G11: k11 [mm] | H11: k17 [mm] | I11: k13 [mm] | J11: k12 [mm] | K11: k18 [mm]
D12: 2.4
C13: r | D13: hr [mm] | E13: k3,r [mm] | F13: k4,r [mm] | G13: k5,g,r [mm] | H13: k5,d,r [mm] | I13: k10,r [mm] | J13: k15,r [mm] | K13: k16,r [mm] | L13: keff,r [mm]
C14: 1 | D14: 484 | E14: 1.9 | F14: 12.8 | G14: 10.8 | I14: 5.7 | L14: {=IF(D14=0,"",1/SUMPRODUCT(IF(E14:K14<>0,E14:K14^-1,0)))} -> 1.1461686
C15: 2 | D15: 404 | E15: 1.5 | F15: 10 | G15: 7 | I15: 5.7 | L15: {=IF(D15=0,"",1/SUMPRODUCT(IF(E15:K15<>0,E15:K15^-1,0)))} -> 0.92169092
C16: 3 | D16: 324 | E16: 1.9 | F16: 12.5 | G16: 8.8 | I16: 5.7 | L16: {=IF(D16=0,"",1/SUMPRODUCT(IF(E16:K16<>0,E16:K16^-1,0)))} -> 1.1168308
C17: 4 | D17: 204 | E17: 1.9 | F17: 12.5 | G17: 8.8 | I17: 5.7 | L17: {=IF(D17=0,"",1/SUMPRODUCT(IF(E17:K17<>0,E17:K17^-1,0)))} -> 1.1168308
C18: 5 | D18: 124 | E18: 1.5 | F18: 10 | G18: 7 | I18: 5.7 | L18: {=IF(D18=0,"",1/SUMPRODUCT(IF(E18:K18<>0,E18:K18^-1,0)))} -> 0.92169092
C19: 6 | D19: 44 | E19: 1.9 | F19: 12.9 | G19: 9.9 | I19: 5.7 | L19: {=IF(D19=0,"",1/SUMPRODUCT(IF(E19:K19<>0,E19:K19^-1,0)))} -> 1.1359972
C20: 7 | L20: {=IF(D20=0,"",1/SUMPRODUCT(IF(E20:K20<>0,E20:K20^-1,0)))}
C21: 8 | L21: {=IF(D21=0,"",1/SUMPRODUCT(IF(E21:K21<>0,E21:K21^-1,0)))}
C22: 9 | L22: {=IF(D22=0,"",1/SUMPRODUCT(IF(E22:K22<>0,E22:K22^-1,0)))}
C23: 10 | L23: {=IF(D23=0,"",1/SUMPRODUCT(IF(E23:K23<>0,E23:K23^-1,0)))}
D25: zeq = | E25: {=SUMPRODUCT(D14:D23^2,L14:L23)/SUMPRODUCT(D14:D23,L14:L23)} -> 356.33354 | F25: mm | H25: Sj,ini = | I25: {=0.001*(21000*(E25)^2)/((SUMPRODUCT(IF(D12:K12<>0,D12:K12^-1,0)))+(E26)^-1)} -> 4241642.7 | K25: daN.m
D26: keq = | E26: =SUMPRODUCT(D14:D23,L14:L23)/E25 -> 4.7176838 | F26: mm | H26: Sj = Sj,ini /μ = | I26: =I25/J7 -> 2733119.2 | K26: daN.m | R26: Données : Revue CM N°4 - 2018
H27: Sj,d = Sj,ini /η = | I27: =I25/L7 -> 2120821.3 | K27: daN.m | S27: ρ = Ibhc / IcLb = | T27: =(J30*F31)/(J31*F30) -> 0.19247646 | U27: kb =
C28: =IF(Configuration!Y4="EN","Stiffness conditions","Conditions de rigidité") -> Conditions de rigidité | T28: Structure non contreventée : cas général | U28: 25
D29: =IF(Configuration!Y4="EN","Connection type:","Type d'assemblage :") -> Type d'assemblage : | E29: Structure non contreventée : cas général | T29: Structure contreventée : cas général | U29: 8
E30: =IF(Configuration!Y4="EN","Beam length: Lb =","Longeur poutre : Lb =") -> Longeur poutre : Lb = | F30: 18 | G30: m | I30: =IF(Configuration!Y4="EN","Beam inertia: Ib =","Inertie poutre : Ib =") -> Inertie poutre : Ib = | J30: 5790 | K30: cm4 | T30: Assemblage poutre-poteau de portique non contreventé | U30: =IF(OR(60/(1+2*T27)<8,60/(1+2*T27)>25),IF(60/(1+2*T27)<8,8,25),60/(1+2*T27)) -> 25
E31: =IF(Configuration!Y4="EN","Column height: hc =","Hauteur poteau : hc =") -> Hauteur poteau : hc = | F31: 5 | G31: m | I31: =IF(Configuration!Y4="EN","Column inertia: Ic =","Inertie poteau : Ic =") -> Inertie poteau : Ic = | J31: 8356 | K31: cm4 | T31: Assemblage poutre-poteau de portique contreventé | U31: =IF(OR(55/(1+3*T27)<8,55/(1+3*T27)>25),IF(55/(1+3*T27)<8,8,25),55/(1+3*T27)) -> 25
E32: kb = | F32: =VLOOKUP(E29,T28:U35,2,FALSE) -> 25 | T32: Assemblage de continuité au droit d'appuis intermédiaires | U32: 18
D33: Sj,rig = kbEIb / Lb = | E33: =F32*21000000000*J30*10^-8/F30 -> 1688750 | G33: daN.m | I33: Sj,pin = EIb / 2Lb = | J33: =0.5*21000000000*J30*10^-8/F30 -> 33775 | L33: daN.m | T33: Assemblage de continuité de traverse de portique si la flèche n'est pas critique | U33: 10
T34: Assemblage de continuité de traverse de portique si la flèche est critique | U34: 25
D35: =IF(I25<=J33,"Sj,ini ≤ Spin",IF(I25>=E33,"Sj,rig ≤ Sj,ini","Sj,pin < Sj,ini < Sj,rig")) -> Sj,rig ≤ Sj,ini | G35: =IF(Configuration!Y4="EN","The connection is ","L'assemblage est ") -> L'assemblage est | H35: =IF(I25<=J33,IF(Configuration!Y4="EN","PINNED","ARTICULÉ"),IF(I25>=E33,IF(Configuration!Y4="EN","RIGID","RIGIDE"),IF(Configuration!Y4="EN","SEMI-RIGID","SEMI-RIGIDE"))) -> RIGIDE | T35: Assemblage d'encastrement d'une console si la flèche est critique | U35: 30
C37: =IF(Configuration!Y4="EN","Moment-rotation diagram","Diagramme moment-rotation") -> Diagramme moment-rotation | O37: Sj,ini | P37: 0 | Q37: =(2/3)*G7/I25 -> 0.0024041001 | R37: =(S46*G7/I25) -> 0.010776809
P38: 0 | Q38: =(2/3)*G7 -> 10197.333 | R38: =G7 -> 15296
O39: Sj | P39: 0 | Q39: =G7/I26 -> 0.005596536 | R39: Sj,max = | S39: =I25/S46 -> 1419344 | T39: daN.m
P40: 0 | Q40: =G7 -> 15296 | S40: =IF(S39<=J33,"ARTICULÉ",IF(S39>=E33,"RIGIDE","SEMI-RIGIDE")) -> SEMI-RIGIDE | T40: =IF(S39<=J33,"Sj ≤ Spin",IF(S39>=E33,"Sj,rig ≤ Sj","Sj,pin < Sj < Sj,rig")) -> Sj,pin < Sj < Sj,rig
O41: Sj,d | P41: 0 | Q41: =G7/I27 -> 0.0072123002
P42: 0 | Q42: =G7 -> 15296
O43: MRd | P43: 0 | Q43: =MAX(R37,R50) -> 0.02102978
P44: =G7 -> 15296 | Q44: =P44 -> 15296
...

Sheet Efforts
C3: Efforts dans les boulons d'une platine d'about fléchie
C5: Nt,Ed = | E5: daN | I5: Première ligne de Tiges est extérieure | J5: NON
C6: VEd = | D6: 22800 | E6: daN | I6: Type d'analyse | J6: Elastique
C7: MEd = | E7: daN.m | I7: Nombre de boulons par ligne : Nb = | J7: 2
C8: Exc e = | D8: 250 | E8: mm | I8: Nombre de ligne : Nr = | J8: =COUNTA(E13:E22) -> 3
C9: MEd,Exc = | D9: =D7+D6*0.001*D8 -> 5700 | E9: daN.m | H9: Z = | I9: =IF(J5="OUI",E13-0.5*F13,E13) -> 400 | J9: mm
H10: MRd = Σ(di x Fti,eff,Rd) = | I10: =SUMPRODUCT(E13:E22,H13:H22)/1000 -> 7270.275 | J10: daN.m
D12: r | E12: dr | F12: Sr | G12: Ftr,Rd | H12: Ftr,eff,Rd | I12: Ftr,Ed
D13: 1 | E13: 400 | F13: =IF(E13-E14=0,"",E13-E14) -> 150 | G13: 12508 | H13: =G13 -> 12508 | I13: =H13*$D$9/$I$10 -> 9806.4516
D14: 2 | E14: 250 | F14: =IF(E14-E15=0,"",E14-E15) -> 150 | G14: 12508 | H14: =IF(E14=0,"",IF(J6="Elastique",$G$13*E14/$E$13,IF(J5="OUI",G14,MIN(G14,(G13*E14/E13))))) -> 7817.5 | I14: =IF(E14=0,"",H14*$D$9/$I$10) -> 6129.0323
D15: 3 | E15: 100 | F15: =IF(E15-E16=0,"",E15-E16) -> 100 | G15: 12508 | H15: =IF(E15=0,"",IF(J6="Elastique",$G$13*E15/$E$13,MIN(G15,(H14*E15/E14)))) -> 3127 | I15: =IF(E15=0,"",H15*$D$9/$I$10) -> 2451.6129
D16: 4 | F16: =IF(E16-E17=0,"",E16-E17) | H16: =IF(E16=0,"",IF(J7="Elastique",$G$13*E16/$E$13,MIN(G16,(H15*E16/E15)))) | I16: =IF(E16=0,"",H16*$D$9/$I$10)
D17: 5 | F17: =IF(E17-E18=0,"",E17-E18) | H17: =IF(E17=0,"",IF(J8="Elastique",$G$13*E17/$E$13,MIN(G17,(H16*E17/E16)))) | I17: =IF(E17=0,"",H17*$D$9/$I$10)
D18: 6 | F18: =IF(E18-E19=0,"",E18-E19) | H18: =IF(E18=0,"",IF(J9="Elastique",$G$13*E18/$E$13,MIN(G18,(H17*E18/E17)))) | I18: =IF(E18=0,"",H18*$D$9/$I$10)
D19: 7 | F19: =IF(E19-E20=0,"",E19-E20) | H19: =IF(E19=0,"",IF(J10="Elastique",$G$13*E19/$E$13,MIN(G19,(H18*E19/E18)))) | I19: =IF(E19=0,"",H19*$D$9/$I$10)
D20: 8 | F20: =IF(E20-E21=0,"",E20-E21) | H20: =IF(E20=0,"",IF(J11="Elastique",$G$13*E20/$E$13,MIN(G20,(H19*E20/E19)))) | I20: =IF(E20=0,"",H20*$D$9/$I$10)
D21: 9 | F21: =IF(E21-E22=0,"",E21-E22) | H21: =IF(E21=0,"",IF(J12="Elastique",$G$13*E21/$E$13,MIN(G21,(H20*E21/E20)))) | I21: =IF(E21=0,"",H21*$D$9/$I$10)
D22: 10 | F22: =IF(E22-E23=0,"",E22-E23) | H22: =IF(E22=0,"",IF(J13="Elastique",$G$13*E22/$E$13,MIN(G22,(H21*E22/E21)))) | I22: =IF(E22=0,"",H22*$D$9/$I$10)
D24: Cisaillement par boulon : | G24: Vi,Ed = | H24: =D6/(J7*J8) -> 3800 | I24: daN
D26: Traction par boulon [daN] :
D27: r | E27: i | F27: 1 | G27: 2 | H27: 3 | I27: 4
D28: 1 | E28: Ft1,i,Ed | F28: =IF($J$7=2,"",IF($I13="","",($I13/$J$7)+$D$5/($J$7*$J$8))) | G28: =IF($I13="","",($I13/$J$7)+$D$5/($J$7*$J$8)) -> 4903.2258 | H28: =IF($I13="","",($I13/$J$7)+$D$5/($J$7*$J$8)) -> 4903.2258 | I28: =IF($J$7=2,"",IF($I13="","",($I13/$J$7)+$D$5/($J$7*$J$8)))
D29: 2 | E29: Ft2,i,Ed | F29: =IF($J$7=2,"",IF($I14="","",($I14/$J$7)+$D$5/($J$7*$J$8))) | G29: =IF($I14="","",($I14/$J$7)+$D$5/($J$7*$J$8)) -> 3064.5161 | H29: =IF($I14="","",($I14/$J$7)+$D$5/($J$7*$J$8)) -> 3064.5161 | I29: =IF($J$7=2,"",IF($I14="","",($I14/$J$7)+$D$5/($J$7*$J$8)))
D30: 3 | E30: Ft3,i,Ed | F30: =IF($J$7=2,"",IF($I15="","",($I15/$J$7)+$D$5/($J$7*$J$8))) | G30: =IF($I15="","",($I15/$J$7)+$D$5/($J$7*$J$8)) -> 1225.8065 | H30: =IF($I15="","",($I15/$J$7)+$D$5/($J$7*$J$8)) -> 1225.8065 | I30: =IF($J$7=2,"",IF($I15="","",($I15/$J$7)+$D$5/($J$7*$J$8)))
D31: 4 | E31: Ft4,i,Ed | F31: =IF($J$7=2,"",IF($I16="","",($I16/$J$7)+$D$5/($J$7*$J$8))) | G31: =IF($I16="","",($I16/$J$7)+$D$5/($J$7*$J$8)) | H31: =IF($I16="","",($I16/$J$7)+$D$5/($J$7*$J$8)) | I31: =IF($J$7=2,"",IF($I16="","",($I16/$J$7)+$D$5/($J$7*$J$8)))
D32: 5 | E32: Ft5,i,Ed | F32: =IF($J$7=2,"",IF($I17="","",($I17/$J$7)+$D$5/($J$7*$J$8))) | G32: =IF($I17="","",($I17/$J$7)+$D$5/($J$7*$J$8)) | H32: =IF($I17="","",($I17/$J$7)+$D$5/($J$7*$J$8)) | I32: =IF($J$7=2,"",IF($I17="","",($I17/$J$7)+$D$5/($J$7*$J$8)))
D33: 6 | E33: Ft6,i,Ed | F33: =IF($J$7=2,"",IF($I18="","",($I18/$J$7)+$D$5/($J$7*$J$8))) | G33: =IF($I18="","",($I18/$J$7)+$D$5/($J$7*$J$8)) | H33: =IF($I18="","",($I18/$J$7)+$D$5/($J$7*$J$8)) | I33: =IF($J$7=2,"",IF($I18="","",($I18/$J$7)+$D$5/($J$7*$J$8)))
D34: 7 | E34: Ft7,i,Ed | F34: =IF($J$7=2,"",IF($I19="","",($I19/$J$7)+$D$5/($J$7*$J$8))) | G34: =IF($I19="","",($I19/$J$7)+$D$5/($J$7*$J$8)) | H34: =IF($I19="","",($I19/$J$7)+$D$5/($J$7*$J$8)) | I34: =IF($J$7=2,"",IF($I19="","",($I19/$J$7)+$D$5/($J$7*$J$8)))
D35: 8 | E35: Ft8,i,Ed | F35: =IF($J$7=2,"",IF($I20="","",($I20/$J$7)+$D$5/($J$7*$J$8))) | G35: =IF($I20="","",($I20/$J$7)+$D$5/($J$7*$J$8)) | H35: =IF($I20="","",($I20/$J$7)+$D$5/($J$7*$J$8)) | I35: =IF($J$7=2,"",IF($I20="","",($I20/$J$7)+$D$5/($J$7*$J$8)))
D36: 9 | E36: Ft9,i,Ed | F36: =IF($J$7=2,"",IF($I21="","",($I21/$J$7)+$D$5/($J$7*$J$8))) | G36: =IF($I21="","",($I21/$J$7)+$D$5/($J$7*$J$8)) | H36: =IF($I21="","",($I21/$J$7)+$D$5/($J$7*$J$8)) | I36: =IF($J$7=2,"",IF($I21="","",($I21/$J$7)+$D$5/($J$7*$J$8)))
D37: 10 | E37: Ft10,i,Ed | F37: =IF($J$7=2,"",IF($I22="","",($I22/$J$7)+$D$5/($J$7*$J$8))) | G37: =IF($I22="","",($I22/$J$7)+$D$5/($J$7*$J$8)) | H37: =IF($I22="","",($I22/$J$7)+$D$5/($J$7*$J$8)) | I37: =IF($J$7=2,"",IF($I22="","",($I22/$J$7)+$D$5/($J$7*$J$8)))
C39: ---------------------------------------------------------------------------------------------------------------------------------------------------------------------------------
C40: Efforts dans les boulons d'une éclisse
