Workbook
Name G_M0: Configuration!$H$8
Name G_M1: Configuration!$H$10
Name G_M2: Configuration!$H$12
Name G_M3: Configuration!$H$14
Name G_M3ser: Configuration!$H$16
Name G_M4: Configuration!$H$18
Name G_M5: Configuration!$H$20
Name G_M6ser: Configuration!$H$22
Name G_M7: Configuration!$H$24

Sheet Données d'Entrées
C3: Description de l'attache | I3: ?
C5: Schéma | AA5: Zoom
C28: Solicitations
C34: Données

Sheet NdC Détaillée
C3: ='Données d''Entrées'!K3 -> 0 | Z3: ratio | AA3: =MAX(AB74:AB823) -> 0

Sheet Informations
D3: Vérification d'Eléments Simples d'Assemblages | Y3: V2.5
Y4: 46114
D6: Avertissement :
D7: La présente feuille de calculs est fournie en l'état et ne peux engager la responsabilitée de son auteur. Son utilisation engage la seule responsabilité de son utilisateur. Il apartient à l'utilisateur de contrôler les résultats.
D9: Il est recommandé d'utiliser la présente feuille avec les normes associées.
D10: La présente Feuille a été créée par | L10: http://coursconstructionacier.fr | S10: et est sous licence | W10: CreativeCommon
D11: Merci de me contacter à | J11: cours.constructionacier@gmail.com | R11: pour signaler toute erreur dans cette feuille.
D13: Objectifs :
D14: L'ojectif de cette feuille est de donner des outils pour vérifier rapidement les composants des assemblages.
D16: Normes, Guides et Recommandations utilisées dans cette feuille :
D17: NF EN 1993-1-1 (Octobre 2005) : Calcul des structures en Acier : Règles générales et Règles pour les Bâtiments
D18: NF EN 1993-1-8 (Décembre 2005) : Calcul des structures en Acier : Calcul des assemblages
D19: NF EN 1993-1-8/NA (Juillet 2007) : Annexe Nationnale pour l'application de la NF EN 1993-1-8
D20: BNCM/CNC2M - N0175 : Recommandation CNC2M pour l'application de la NF EN 1993-1-8 Avril 2015
D21: SCI/BCSA - P398 : Joints in Steel Construction : Moment-Resisting Joints to Eurocode 3
D22: Revue Construction Métallique N°4-2010 : Flambement des doubles cornières selon méthode simplifiée
D23: DRV/SOUDIX+/MT/001-C (Juillet 2021) : Manuel Technique EN 1993-1-8 du Logiciel Soudix+
D24: NF EN 1992-4 (Septembre 2018) : Calcul des structures en Béton : Conception et calcul des éléments de fixation pour béton
D25: Revue Construction Métallique N°4-2018 : Analyse et amélioration des limites de rigidité des assemblages
D32: Légende :
E34: Cases des données à renseigner (Saisie manuelle ou menu déroulant) :
E36: Cases comportant des Alertes, des Commentaires ou des Schémas descriptifs : | X36: ! ?
E38: Cases contenant des Résultats :
D40: Onglets de la feuille de calcul :
E42: Feuilles Principales de l'Utilitaire
E43: Feuille 1 | I43: Feuille 2 | M43: Feuille 3 | P43: Feuille 4 | S43: Feuille 5 | V43: Feuille 6 | Y43: Feuille 7
E44: Informations | I44: Configuration | M44: Boulons | P44: Soudures | S44: Ancrages | V44: EN1992-4 | Y44: T Tendus
G46: Feuille 8 | K46: Feuille 9 | N46: Feuille 10 | Q46: Feuille 11 | T46: Feuille 12
G47: Composants | K47: Rigidité | N47: Efforts | Q47: Divers | T47: PRS
E49: Feuilles de données à ne pas modifier !
E50: Feuille 13 | H50: Feuille 14 | K50: Feuille 15 | O50: Feuille 16 | S50: Feuille 17 | W50: Feuille 18
E51: Data | H51: Profilés | K51: Cornières | O51: Tubes_SHS | S51: Tubes_RHS | W51: Tubes_CHS
D53: Révisions :
D55: Version | G55: Date | J55: Modification / Correction
D56: V0.4 | G56: 08/03/2022 | J56: Première Version
D57: V0.5 | G57: 44637 | J57: Ajout du poinçonnement
D58: V0.6 | G58: 44672 | J58: Ajout des tronçons en T à 4 boulons par rangé
D59: V0.7 | G59: 22/04/2022 | J59: Modification de la mise en forme
D60: V0.8a | G60: 13/07/2022 | J60: Ajout des tiges d'ancrages
D61: V0.8b | G61: 13/07/2022 | J61: Ajout des conditions d'articulation NF EN 1993-1-8 : §6.4.2
D62: V0.8c | G62: 13/07/2022 | J62: Ajout des bêches
D63: V0.8d | G63: 20/07/2022 | J63: Ajout des cas de soudures avec efforts simples
D64: V0.8e | G64: 44805 | J64: Ajout de nuances d'acier + résistance > 40mm
J65: Ajout des petits Ø de boulons + correction diamètre moyen sous tête
D66: V0.8f | G66: 03/09/2022 | J66: Ajout du coefficient de rédution pour les assemblages longs
D67: V0.8g | G67: 13/09/2022 | J67: Mise à jour de la vérification des boulons
D68: V0.8h | G68: 15/09/2022 | J68: Ajout des ancrages par tige droite
J69: Correction de la traction dans le béton des tiges à crosse
D70: V0.9a | G70: 05/10/2022 | J70: Ajout des cas de soudures complexes
D71: V0.9b | G71: 26/10/2022 | J71: Correction des valeurs de résistance du béton
D72: V0.9c | G72: 04/11/2022 | J72: Ajout des Scellement de barres selon NF EN 1992
J73: Ajout des vérification de carelles
D74: V0.9d | G74: 28/12/2022 | J74: Ajout des vérifications des ruines du béton selon NF EN 1993-2-4
D75: V0.9e | G75: 30/12/2022 | J75: Correction des ruines du béton selon NF EN 1992-4
J76: Ajout coefficients partiels
J77: Correction de la contrainte admissible tau,ucr et tau,cr
D78: V1.0a | G78: 07/01/2023 | J78: Ajout des onglets "Composants" ; "Rigidité" ; "CIDECT" ; "Efforts"
J79: Homogénisation de la charte graphique
J80: Ajout des coefficients de rigidité ki
J81: Ajout du calcul de rigidité en rotation
D82: V1.0b | G82: 10/01/2023 | J82: Ajout des noms des composants
J83: Ajout de la vérification à la pression localisée sur le béton
J84: Ajout de la vérification des platines de sabots (modèle par poutre sur deux appuis)
J85: Ajout de la vérification des assises de sabots (modèle par poutre sur deux appuis)
D86: V1.0c | G86: 17/01/2023 | J86: Ajout des assemblages soudés de goussets
J87: Ajout des assemblages soudés sur deux côtés d'un gousset
J88: Ajout des assemblages soudés en T non raidi
J89: Ajout des coefficient réducteur pour les assemblages soudés long
J90: Ajout des composants
D91: V1.1a | G91: 19/01/2023 | J91: Suppression de l'onglet "CIDECT" pour création d'un outil séparé
J92: Ajout des efforts dans les boulons d'une platine d'about fléchie
J93: Ajout des efforts dans les boulons d'une éclisse
D94: V1.1b | G94: 20/01/2023 | J94: Ajout des attaches par axes d'articulation
J95: Correction d'une erreur dans le calcul des efforts dans les boulons d'une éclisse
D96: V1.1c | G96: 45099 | J96: Ajout de la BdD des Bétons Légers
D97: V1.2 | G97: 14/08/2023 | J97: Protection de la feuille
D98: V1.2a | G98: 13/08/2023 | J98: Modification de la présentation du calcul des boulons
J99: Déplacement des conditions d'articulation dans l'onglet "Boulons"
J100: Modification de la méthode de vérification de la pression diamétrale
J101: Ajout du coefficient β en cas de cornière tendue attachée par une aile
D102: V1.2b | G102: 14/11/2023 | J102: Correction de la distribution des efforts dans les boulons d'une platine d'about fléchie
J103: Ajout Elastique/Plastique pour les efforts dans les boulons d'une platine d'about fléchie
D104: V1.2c | G104: 29/03/2024 | J104: Ajout des personalisations de coefficients ATE - EN1992-4
D105: V1.2d | G105: 08/04/2024 | J105: Correction du tronçon en Té tendu doublement raidi
D106: V2 | G106: 18/06/2024 | J106: Passage en V2
D107: V2.1 | G107: 04/09/2024 | J107: Correction des cellules verouillées
J108: Ajout des soudures sur Profils en U
D109: V2.2 | G109: 18/10/2024 | J109: Ajout de la classe de boulons 12.9
J110: Ajout de Lcr Manuel pour le flambement des barres
D111: V2.3 | G111: 07/11/2024 | J111: Correction et amélioration du diagramme moment-rotation
D112: V2.3a | G112: 08/11/2024 | J112: Correction de sélection des données pour le flambement des barres
D113: V2.3b | G113: 28/11/2024 | J113: Divers : Ajout de la vérification des cornières en traction
D114: V2.3c | G114: 11/12/2024 | J114: Correction du coefficient Alpha_bc des tiges d'ancrages droites
D115: V2.3d | G115: 12/12/2024 | J115: Correction du coefficient Alpha_bc des tiges d'ancrages droites (unité)
D116: V2.4 | G116: 05/02/2025 | J116: Modification présentation boulons
J117: Ajout de la valeur de Sj,d pour l'analyse de rigidité des assemblages
J118: Correction du texte des formules d'ancrages "d0" corrigé en "d"
D119: V2.4a | G119: 30/04/2025 | J119: Correction tronçon en Té tendu boulons extérieurs non raidis
D120: V2.4b | G120: 28/05/2025 | J120: Ajout de la condition d'articulation des pieds de poteaux
J121: Ajout de la prise en compte de la présence d'une bêche sur les ancrages
...

Sheet Configuration
D3: Configurations Générales de la Feuille | Y3: Langue
Y4: FR
D6: Coefficients partiels :
F8: γ_M0 = | H8: 1 | K8: Résistance des sections à la plastification
F10: γ_M1 = | H10: 1 | K10: Résistance à l'instabilité des membrures
F12: γ_M2 = | H12: 1.25 | K12: Résistance ultime des sections nettes — boulons, rivets, soudures
F14: γ_M3 = | H14: 1.25 | K14: Glissement d'assemblages boulonnés — catégorie C
F16: γ_M3,ser = | H16: 1.1 | K16: Glissement d'assemblages boulonnés — catégories A et B
F18: γ_M4 = | H18: 1 | K18: Résistance de la tige en traction — boulons HR injectés
F20: γ_M5 = | H20: 1 | K20: Résistance des assemblages bois — structures mixtes
F22: γ_M6,ser = | H22: 1.1 | K22: Résistance des boulons HR en traction
F24: γ_M7 = | H24: 1.1 | K24: Résistance des boulons précontraints — catégorie E

Sheet Boulons
C3: =IF(Configuration!$Y$4="EN","Bolt resistance","Résistance des boulons") -> Résistance des boulons | I3: NF EN 1993-1-8 §3.6.1 tbl.3.4 | J3: =MAX(I10,I8,I13) -> 0.24432516
C4: Ved = | D4: 2200 | E4: d = | F4: 12 | G4: =IF(Configuration!$Y$4="EN","Class","Classe") -> Classe | H4: 8.8 | I4: =IF(Configuration!$Y$4="EN","Sheared in","Cissaillé dans") -> Cissaillé dans | J4: Partie Filetée
C5: Ned = | D5: 2000 | E5: =IF(Configuration!$Y$4="EN","No. Bolts =","Nb Bls =") -> Nb Bls = | F5: 4 | G5: =IF(Configuration!$Y$4="EN","Number of shear planes =","Nombre de plans de cisaillement =") -> Nombre de plans de cisaillement = | J5: 1
D6: A = | E6: =VLOOKUP(F4,Data!$K$3:$P$20,4) -> 113 | F6: fyb = | G6: =VLOOKUP(H4,Data!$F$3:$H$16,2) -> 64 | H6: av = | I6: =VLOOKUP(H4,Data!$F$2:$I$16,4) -> 0.6
D7: As = | E7: =VLOOKUP(F4,Data!$K$3:$P$20,5) -> 84 | F7: fub = | G7: =VLOOKUP(H4,Data!$F$3:$H$16,3) -> 80
C8: =IF(Configuration!$Y$4="EN","Bolt resistance per shear plane in "&J4,"Résistance par boulon par plan de cisaillemment dans la "&J4) -> Résistance par boulon par plan de cisaillemment dans la Partie Filetée | I8: =(D4/(F5*J5))/E9 -> 0.17051091
D9: Fv,Rd = | E9: =IF(J4="Partie NON Filetée",(0.6*G7*E6)/G_M2,(I6*G7*E7)/G_M2) -> 3225.6
C10: =IF(Configuration!$Y$4="EN","Bolt resistance in tension only","Résistance par boulon en traction seule") -> Résistance par boulon en traction seule | I10: =(D5/F5)/E11 -> 0.10333995
D11: Ft,Rd = | E11: =(0.9*G7*E7)/G_M2 -> 4838.4
C12: =IF(Configuration!$Y$4="EN","Bolt resistance in tension and shear","Résistance par boulon en traction et cisaillement") -> Résistance par boulon en traction et cisaillement
G13: Fv,Ed/Fv,Rd + Ft,Ed/(1.4*Ft,Rd) | H13: =IF(I13<=1,"≤",">") -> ≤ | I13: =I8+(D5/F5)/(1.4*E11) -> 0.24432516
C15: ---------------------------------------------------------------------------------------------------------------------
C16: =IF(Configuration!$Y$4="EN","Bearing resistance: general case","Pression diamétrale : cas général") -> Pression diamétrale : cas général | I16: NF EN 1993-1-8 §3.6.1 tbl.3.4 | J16: =MAX(I19,I26,I33) -> 0.047958537 | M16: Pression diamétrale : cas général
E17: =O21&" * Boulons M"&O19&" - "&O20&" / Plat ép. "&O18&" mm - "&Q18 -> 8 * Boulons M12 - 8.8 / Plat ép. 8 mm - S275 | M17: Efforts | N17: Flg,Ed = | O17: 1700 | P17: Ftr,Ed = | Q17: 1400
E18: ="e1 = "&N24&" mm - p1 = "&N25&" mm - e2 = "&N26&" mm - p2 = "&N27&" mm" -> e1 = 63 mm - p1 = 56 mm - e2 = 22 mm - p2 = 100 mm | M18: Plat | N18: t = | O18: 8 | P18: Nuance | Q18: S275
C19: =IF(Configuration!$Y$4="EN","Longitudinal bearing","Pression longitudinale") -> Pression longitudinale | F19: Flg,Ed = | G19: =O17 -> 1700 | H19: Txlg = | I19: =(O17/O21)/E24 -> 0.025738857 | M19: Boulons | N19: Boulons | O19: 12 | P19: fu = | Q19: =VLOOKUP(Q18,Data!$A$3:$D$34,3,FALSE) -> 43
D20: αb,lg = min { | E20: =Q21/Q19 -> 1.8604651 | F20: =N24/(3*Q20) -> 1.5 | G20: =IF((N25/(3*Q20))-0.25<0,1,(N25/(3*Q20))-0.25) -> 1.0833333 | H20: 1.0 } | N20: Classe | O20: 8.8 | P20: d0 = | Q20: =VLOOKUP(O19,Data!$K$3:$Q$20,6,FALSE) -> 14
D21: αb,lg = | E21: =MIN(E20,F20,G20,1) -> 1 | N21: Nb Bls = | O21: 8 | P21: fub = | Q21: =VLOOKUP(O20,Data!$F$3:$I$16,3,FALSE) -> 80
D22: klg = min { | E22: =(2.8*N26/Q20)-1.7 -> 2.7 | F22: =IF(N27=0,2.5,(1.4*N27/Q20)-1.7) -> 8.3 | G22: 2.50 }
D23: klg = | E23: =MIN(E22,F22,2.5) -> 2.5 | N23: Vérification géométrique | P23: min | Q23: max
D24: Fb,lg,Rd = | E24: =E23*E21*Q19*O19*O18/G_M2 -> 8256 | M24: e1 (longi.) | N24: 63 | O24: =IF(OR(N24<P24,N24>Q24),2,0) -> 0 | P24: =1.2*Q20 -> 16.8 | Q24: =4*O18+40 -> 72
M25: p1 (longi.) | N25: 56 | O25: =IF(N25=0,1,IF(OR(N25<P25,N25>Q25),2,0)) -> 0 | P25: =2.2*Q20 -> 30.8 | Q25: =MIN(200,14*O18) -> 112
C26: =IF(Configuration!$Y$4="EN","Transverse bearing","Pression transversale") -> Pression transversale | F26: Ftr,Ed = | G26: =Q17 -> 1400 | H26: Txtr = | I26: =(Q17/O21)/E31 -> 0.040466438 | M26: e2 (trans.) | N26: 22 | O26: =IF(OR(N26<P26,N26>Q26),2,0) -> 0 | P26: =1.2*Q20 -> 16.8 | Q26: =4*O18+40 -> 72
D27: αb,tr = min { | E27: =Q21/Q19 -> 1.8604651 | F27: =N26/(3*Q20) -> 0.52380952 | G27: =IF((N27/(3*Q20))-0.25<0,1,(N27/(3*Q20))-0.25) -> 2.1309524 | H27: 1.0 } | M27: p2 (trans.) | N27: 100 | O27: =IF(N27=0,1,IF(OR(N27<P27,N27>Q27),2,0)) -> 0 | P27: =2.4*Q20 -> 33.6 | Q27: =MIN(200,14*O18) -> 112
D28: αb,tr = | E28: =MIN(E27,F27,G27,1) -> 0.52380952
D29: ktr = min { | E29: =(2.8*N24/Q20)-1.7 -> 10.9 | F29: =IF(N25=0,2.5,(1.4*N25/Q20)-1.7) -> 3.9 | G29: 2.50 }
D30: ktr = | E30: =MIN(E29,F29,2.5) -> 2.5
D31: Fb,tr,Rd,1 = | E31: =E30*E28*Q19*O19*O18/G_M2 -> 4324.5714
C33: =IF(Configuration!$Y$4="EN","Longitudinal-transverse interaction","Interaction longitudinale-transversale") -> Interaction longitudinale-transversale | H33: √(Txlg² + Txtr²) = | I33: =SQRT(I19^2+I26^2) -> 0.047958537
C34: ---------------------------------------------------------------------------------------------------------------------
C35: =IF(Configuration!$Y$4="EN","Bearing resistance: detailed case","Pression diamétrale : cas détaillé") -> Pression diamétrale : cas détaillé | I35: NF EN 1993-1-8 §3.6.1 tbl.3.4 | J35: =MAX(J49,J71,J94) -> 0.79952485 | M35: Pression diamétrale : cas détaillé
C36: =IF(Configuration!$Y$4="EN","Geometry","Géométrie") -> Géométrie | E36: e1,g = | F36: p1 = | G36: e1,d = | M36: Efforts | N36: Flg,Ed = | O36: 15000
D37: =O41&" ligne"&IF(O41=1,"","s") -> 1 ligne | E37: =IF(N45=0,"∞",N45&"mm") -> 30mm | F37: =IF(O42=1,0,O42-1&"x "&N46&"mm") -> 2x 100mm | G37: =IF(N47=0,"∞",N47&"mm") -> ∞ | H37: =O42&" colonne"&IF(O42=1,"","s") -> 3 colonnes | N37: Ftr,Ed = | O37: 4500
M38: Plat | N38: t = | O38: 8 | P38: Nuance | Q38: S235
C39: e2,h = | D39: =IF(N48=0,"∞",N48&"mm") -> 30mm | M39: Boulons | N39: Boulons | O39: 12 | P39: fu = | Q39: =VLOOKUP(Q38,Data!$A$3:$D$34,3,FALSE) -> 36
N40: Classe | O40: 8.8 | P40: d0 = | Q40: =VLOOKUP(O39,Data!$K$3:$Q$20,6,FALSE) -> 14
N41: Nb Lignes = | O41: 1 | P41: fub = | Q41: =VLOOKUP(O40,Data!$F$3:$I$16,3,FALSE) -> 80
C42: p2 = | D42: =IF(O41=1,0,O41-1&"x "&N49&"mm") -> 0 | N42: Nb Colonnes = | O42: 3 | P42: Nb Bls = | Q42: =O41*O42 -> 3
H43: Flg,Ed = | I43: =O36 -> 15000
N44: Vérification géométrique | P44: min | Q44: max
C45: e2,b = | D45: =IF(N50=0,"∞",N50&"mm") -> 30mm | M45: e1,g = | N45: 30 | O45: =IF(N45=0,1,IF(OR(N45<P45,N45>Q45),2,0)) -> 0 | P45: =1.2*Q40 -> 16.8 | Q45: =4*O38+40 -> 72
M46: p1 = | N46: 100 | O46: =IF(N46=0,1,IF(OR(N46<P46,N46>Q46),2,0)) -> 0 | P46: =2.2*Q40 -> 30.8 | Q46: =MIN(200,14*O38) -> 112
M47: e1,d = | N47: 0 | O47: =IF(N47=0,1,IF(OR(N47<P47,N47>Q47),2,0)) -> 1 | P47: =1.2*Q40 -> 16.8 | Q47: =4*O38+40 -> 72
F48: Ftr,Ed = | G48: =O37 -> 4500 | M48: e2,h = | N48: 30 | O48: =IF(N48=0,1,IF(OR(N48<P48,N48>Q48),2,0)) -> 0 | P48: =1.2*Q40 -> 16.8 | Q48: =4*O38+40 -> 72
C49: =IF(Configuration!$Y$4="EN","Longitudinal bearing","Pression longitudinale") -> Pression longitudinale | J49: =O36/I69 -> 0.79952485 | M49: p2 = | N49: 0 | O49: =IF(N49=0,1,IF(OR(N49<P49,N49>Q49),2,0)) -> 1 | P49: =2.4*Q40 -> 33.6 | Q49: =MIN(200,14*O38) -> 112
C50: =IF(Configuration!$Y$4="EN","Calculation of αb","Calcul des αb") -> Calcul des αb | F50: =$Q$41/$Q$39 -> 2.2222222 | H50: Rive gauche : αb = | I50: {=MIN(IF(F50:F51<>0,F50:F51),1)} -> 0.71428571 | M50: e2,b = | N50: 30 | O50: =IF(N50=0,1,IF(OR(N50<P50,N50>Q50),2,0)) -> 0 | P50: =1.2*Q40 -> 16.8 | Q50: =4*O38+40 -> 72
F51: =$N$45/(3*$Q$40) -> 0.71428571 | H51: Interieur : αb = | I51: =MIN(F50,F52,1) -> 1
F52: =IF($O$42=1,0,($N$46/(3*$Q$40))-0.25) -> 2.1309524 | H52: Rive droite : αb = | I52: =IF(F53=0,MIN(F50,1),MIN(F50,F53,1)) -> 1 | N52: ?!
F53: =$N$47/(3*$Q$40) -> 0 | N53: ?!
C54: =IF(Configuration!$Y$4="EN","Calculation of k1","Calcul des k1") -> Calcul des k1 | F54: =IF($N$48=0,0,(2.8*$N$48/$Q$40)-1.7) -> 4.3 | H54: Rive haute : k1 = | I54: {=MIN(IF(F54:F55<>0,F54:F55),2.5)} -> 2.5
F55: =IF($O$41=1,0,(1.4*$N$49/$Q$40)-1.7) -> 0 | H55: Interieur : k1 = | I55: =MIN(F55,2.5) -> 0
F56: =IF($N$50=0,0,(2.8*$N$50/$Q$40)-1.7) -> 4.3 | H56: Rive basse : k1 = | I56: {=MIN(IF(F55:F56<>0,F55:F56),2.5)} -> 2.5
C57: =IF(Configuration!$Y$4="EN","Calculation for bolts in left edge column","Calcul boulons de la colonne en rive gauche") -> Calcul boulons de la colonne en rive gauche
E58: =IF(Configuration!$Y$4="EN","Top edge bolt:","Boulon en rive haute :") -> Boulon en rive haute : | F58: Fb,Rd = | G58: =I50*I54*$Q$39*$O$39*$O$38/G_M2 -> 4937.1429 | H58: Nb Bls = | I58: =IF($O$42=1,IF(G58<=G66,1,0),1) -> 1 | M58: =IF(SUM(I58:I68)=$Q$42,"OK","ERREUR!") -> OK
E59: =IF(Configuration!$Y$4="EN","Inner bolts:","Boulons intérieurs :") -> Boulons intérieurs : | F59: Fb,Rd = | G59: =I50*I55*$Q$39*$O$39*$O$38/G_M2 -> 0 | H59: Nb Bls = | I59: =IF($O$42=1,IF(G59<=G67,IF($O$41<=2,0,$O$41-2),0),IF($O$41<=2,0,$O$41-2)) -> 0
E60: =IF(Configuration!$Y$4="EN","Bottom edge bolt:","Boulon en rive basse :") -> Boulon en rive basse : | F60: Fb,Rd = | G60: =I50*I56*$Q$39*$O$39*$O$38/G_M2 -> 4937.1429 | H60: Nb Bls = | I60: =IF($O$42=1,IF(G60<=G68,IF($O$41<2,0,1),0),IF($O$41<2,0,1)) -> 0
C61: =IF(Configuration!$Y$4="EN","Calculation for bolts in inner columns","Calcul boulons des colonnes intérieures") -> Calcul boulons des colonnes intérieures
E62: =IF(Configuration!$Y$4="EN","Top edge bolt:","Boulon en rive haute :") -> Boulon en rive haute : | F62: Fb,Rd = | G62: =I51*I54*$Q$39*$O$39*$O$38/G_M2 -> 6912 | H62: Nb Bls = | I62: =IF($O$41=1,IF(G62>=G64,IF($O$42<=2,0,$O$42-2),0),IF($O$42<=2,0,$O$42-2)) -> 1
E63: =IF(Configuration!$Y$4="EN","Inner bolts:","Boulons intérieurs :") -> Boulons intérieurs : | F63: Fb,Rd = | G63: =I51*I55*$Q$39*$O$39*$O$38/G_M2 -> 0 | H63: Nb Bls = | I63: =IF($O$42<=2,0,IF($O$41<=2,0,$O$41-2)*($O$42-2)) -> 0
E64: =IF(Configuration!$Y$4="EN","Bottom edge bolt:","Boulon en rive basse :") -> Boulon en rive basse : | F64: Fb,Rd = | G64: =I51*I56*$Q$39*$O$39*$O$38/G_M2 -> 6912 | H64: Nb Bls = | I64: =IF($O$41=1,IF(G62<=G64,0,IF($O$42<=2,0,$O$42-2)),IF($O$42<=2,0,$O$42-2)) -> 0
C65: =IF(Configuration!$Y$4="EN","Calculation for bolts in right edge column","Calcul boulons de la colonne rive droite") -> Calcul boulons de la colonne rive droite
E66: =IF(Configuration!$Y$4="EN","Top edge bolt:","Boulon en rive haute :") -> Boulon en rive haute : | F66: Fb,Rd = | G66: =I52*I54*$Q$39*$O$39*$O$38/G_M2 -> 6912 | H66: Nb Bls = | I66: =IF($O$42=1,IF(G66<G58,1,0),1) -> 1
E67: =IF(Configuration!$Y$4="EN","Inner bolts:","Boulons intérieurs :") -> Boulons intérieurs : | F67: Fb,Rd = | G67: =I52*I55*$Q$39*$O$39*$O$38/G_M2 -> 0 | H67: Nb Bls = | I67: =IF($O$42=1,IF(G67<G59,IF($O$41<=2,0,$O$41-2),0),IF($O$41<=2,0,$O$41-2)) -> 0
E68: =IF(Configuration!$Y$4="EN","Bottom edge bolt:","Boulon en rive basse :") -> Boulon en rive basse : | F68: Fb,Rd = | G68: =I52*I56*$Q$39*$O$39*$O$38/G_M2 -> 6912 | H68: Nb Bls = | I68: =IF($O$42=1,IF(G68<G60,IF($O$41<2,0,1),0),IF($O$41<2,0,1)) -> 0
C69: =IF(Configuration!$Y$4="EN","Longitudinal bearing resistance","Résistance à la pression diamétrale longitudinale") -> Résistance à la pression diamétrale longitudinale | H69: Fb,lg,Rd = | I69: =SUMPRODUCT(G58:G68,I58:I68) -> 18761.143
C71: =IF(Configuration!$Y$4="EN","Transverse bearing","Pression transversale") -> Pression transversale | J71: =O37/I91 -> 0.30381944
C72: =IF(Configuration!$Y$4="EN","Calculation of αb","Calcul des αb") -> Calcul des αb | F72: =$Q$41/$Q$39 -> 2.2222222 | H72: Rive haute : αb = | I72: {=MIN(IF(F72:F73<>0,F72:F73),1)} -> 0.71428571
F73: =$N$48/(3*$Q$40) -> 0.71428571 | H73: Interieur : αb = | I73: =MIN(F72,F74,1) -> 0
F74: =IF($O$41=1,0,($N$49/(3*$Q$40))-0.25) -> 0 | H74: Rive basse : αb = | I74: =IF(F75=0,MIN(F72,1),MIN(F72,F75,1)) -> 0.71428571
F75: =$N$50/(3*$Q$40) -> 0.71428571
C76: =IF(Configuration!$Y$4="EN","Calculation of k1","Calcul des k1") -> Calcul des k1 | F76: =IF($N$45=0,0,(2.8*$N$45/$Q$40)-1.7) -> 4.3 | H76: Rive gauche : k1 = | I76: {=MIN(IF(F76:F77<>0,F76:F77),2.5)} -> 2.5
F77: =IF($O$42=1,0,(1.4*$N$46/$Q$40)-1.7) -> 8.3 | H77: Interieur : k1 = | I77: =MIN(F77,2.5) -> 2.5
F78: =IF($N$47=0,0,(2.8*$N$47/$Q$40)-1.7) -> 0 | H78: Rive droite : k1 = | I78: {=MIN(IF(F77:F78<>0,F77:F78),2.5)} -> 2.5
C79: =IF(Configuration!$Y$4="EN","Calculation for bolts in top edge row","Calcul boulons de la ligne en rive haute") -> Calcul boulons de la ligne en rive haute
E80: =IF(Configuration!$Y$4="EN","Left edge bolt:","Boulon en rive gauche :") -> Boulon en rive gauche : | F80: Fb,Rd = | G80: =I72*I76*$Q$39*$O$39*$O$38/G_M2 -> 4937.1429 | H80: Nb Bls = | I80: =IF($O$41=1,IF(G80<=G88,1,0),1) -> 1 | M80: =IF(SUM(I80:I90)=$Q$42,"OK","ERREUR!") -> OK
E81: =IF(Configuration!$Y$4="EN","Inner bolts:","Boulons intérieurs :") -> Boulons intérieurs : | F81: Fb,Rd = | G81: =I72*I77*$Q$39*$O$39*$O$38/G_M2 -> 4937.1429 | H81: Nb Bls = | I81: =IF($O$41=1,IF(G81<=G89,IF($O$42<=2,0,$O$42-2),0),IF($O$42<=2,0,$O$42-2)) -> 1
E82: =IF(Configuration!$Y$4="EN","Right edge bolt:","Boulon en rive droite :") -> Boulon en rive droite : | F82: Fb,Rd = | G82: =I72*I78*$Q$39*$O$39*$O$38/G_M2 -> 4937.1429 | H82: Nb Bls = | I82: =IF($O$41=1,IF(G82<=G90,IF($O$42<2,0,1),0),IF($O$42<2,0,1)) -> 1
C83: =IF(Configuration!$Y$4="EN","Calculation for bolts in inner rows","Calcul boulons des lignes intérieures") -> Calcul boulons des lignes intérieures
E84: =IF(Configuration!$Y$4="EN","Left edge bolt:","Boulon en rive gauche :") -> Boulon en rive gauche : | F84: Fb,Rd = | G84: =I73*I76*$Q$39*$O$39*$O$38/G_M2 -> 0 | H84: Nb Bls = | I84: =IF($O$42=1,IF(G84>=G86,IF($O$41<=2,0,$O$41-2),0),IF($O$41<=2,0,$O$41-2)) -> 0
E85: =IF(Configuration!$Y$4="EN","Inner bolts:","Boulons intérieurs :") -> Boulons intérieurs : | F85: Fb,Rd = | G85: =I73*I77*$Q$39*$O$39*$O$38/G_M2 -> 0 | H85: Nb Bls = | I85: =IF($O$41<=2,0,IF($O$42<=2,0,$O$42-2)*($O$41-2)) -> 0
E86: =IF(Configuration!$Y$4="EN","Right edge bolt:","Boulon en rive droite :") -> Boulon en rive droite : | F86: Fb,Rd = | G86: =I73*I78*$Q$39*$O$39*$O$38/G_M2 -> 0 | H86: Nb Bls = | I86: =IF($O$42=1,IF(G84<=G86,0,IF($O$41<=2,0,$O$41-2)),IF($O$41<=2,0,$O$41-2)) -> 0
C87: =IF(Configuration!$Y$4="EN","Calculation for bolts in bottom edge row","Calcul boulons de la ligne rive basse") -> Calcul boulons de la ligne rive basse
E88: =IF(Configuration!$Y$4="EN","Left edge bolt:","Boulon en rive gauche :") -> Boulon en rive gauche : | F88: Fb,Rd = | G88: =I74*I76*$Q$39*$O$39*$O$38/G_M2 -> 4937.1429 | H88: Nb Bls = | I88: =IF($O$41=1,IF(G88<G80,1,0),1) -> 0
E89: =IF(Configuration!$Y$4="EN","Inner bolts:","Boulons intérieurs :") -> Boulons intérieurs : | F89: Fb,Rd = | G89: =I74*I77*$Q$39*$O$39*$O$38/G_M2 -> 4937.1429 | H89: Nb Bls = | I89: =IF($O$41=1,IF(G89<G81,IF($O$42<=2,0,$O$42-2),0),IF($O$42<=2,0,$O$42-2)) -> 0
E90: =IF(Configuration!$Y$4="EN","Right edge bolt:","Boulon en rive droite :") -> Boulon en rive droite : | F90: Fb,Rd = | G90: =I74*I78*$Q$39*$O$39*$O$38/G_M2 -> 4937.1429 | H90: Nb Bls = | I90: =IF($O$41=1,IF(G90<G82,IF($O$42<2,0,1),0),IF($O$42<2,0,1)) -> 0
C91: =IF(Configuration!$Y$4="EN","Longitudinal bearing resistance","Résistance à la pression diamétrale longitudinale") -> Résistance à la pression diamétrale longitudinale | H91: Fb,tr,Rd = | I91: =SUMPRODUCT(G80:G90,I80:I90) -> 14811.429
C93: =IF(Configuration!$Y$4="EN","Longitudinal-transverse interaction","Interaction longitudinale-transversale") -> Interaction longitudinale-transversale
J94: =J49^2+J71^2 -> 0.73154625
C96: --------------------------------------------------------------------------------------------------------------------- | M96: Poinçonnement
C97: =IF(Configuration!$Y$4="EN","Punching shear","Poinçonnement") -> Poinçonnement | I97: NF EN 1993-1-8 §3.6.1 tbl.3.4 | J97: =N97/D99 -> 0.1451622 | M97: Ned = | N97: 5200 | O97: Nuance | P97: S355 | Q97: fy | R97: fu
C98: dm = | D98: =VLOOKUP(N98,Data!K3:Q20,7,FALSE) -> 32.32 | F98: tp = | G98: =P98 -> 15 | M98: d = | N98: 20 | O98: t = | P98: 15 | Q98: =VLOOKUP(P97,Data!$A$3:$D$34,2,FALSE) -> 35.5 | R98: =VLOOKUP(P97,Data!$A$3:$D$34,3,FALSE) -> 49
C99: Bp,Rd = | D99: =0.6*PI()*D98*P98*R98/G_M2 -> 35821.998 | F99: =IF(Configuration!$Y$4="EN","Punching shear resistance per bolt","Résistance par boulon au poinçonnement") -> Résistance par boulon au poinçonnement
C100: --------------------------------------------------------------------------------------------------------------------- | M100: Cisaillement de Bloc
C101: =IF(Configuration!$Y$4="EN","Block shear","Cisaillement de Bloc") -> Cisaillement de Bloc | I101: NF EN 1993-1-8 §3.10.2 | J101: =N101/H103 -> 0.53856492 | M101: Ned = | N101: 3500 | O101: Nuance | P101: S235 | Q101: fy | R101: fu
C102: Ant = | D102: =N102 -> 114 | F102: Anv = | G102: =N103 -> 237 | M102: Ant = | N102: 114 | O102: Type | P102: Centré | Q102: =VLOOKUP(P101,Data!$A$3:$D$34,2,FALSE) -> 23.5 | R102: =VLOOKUP(P101,Data!$A$3:$D$34,3,FALSE) -> 36
G103: =IF(P102="Centré","Veff1,Rd =","Veff2,Rd =") -> Veff1,Rd = | H103: =((P103*(R102*D102))/G_M2)+((Q102*G102)/(G_M0*SQRT(3))) -> 6498.7523 | M103: Anv = | N103: 237 | P103: =IF(P102="Centré",1,0.5) -> 1
C104: ---------------------------------------------------------------------------------------------------------------------
C105: =IF(Configuration!$Y$4="EN","Net area shear","Cisaillement Aire nette") -> Cisaillement Aire nette | J105: =N106/H106 -> 0.28039675 | M105: Cisaillement Aire nette
C106: Anet = | D106: =N107 -> 552 | G106: Vnet,Rd = | H106: =(Q107*D106)/(G_M0*SQRT(3)) -> 7489.3877 | M106: Ved = | N106: 2100 | O106: Nuance | P106: S235 | Q106: fy | R106: fu
M107: Anet = | N107: 552 | Q107: =VLOOKUP(P106,Data!$A$3:$D$34,2,FALSE) -> 23.5 | R107: =VLOOKUP(P106,Data!$A$3:$D$34,3,FALSE) -> 36
...

Sheet Soudures
A4: 1 | C4: =IF(Configuration!Y4="EN","Assemblies with front fillet welds","Assemblages par cordons frontaux") -> Assemblages par cordons frontaux | M4: Assemblages par cordons frontaux
C5: =IF(Configuration!Y4="EN","Steel "&N6&" - βw= "&U6&" - a = "&Q5&" mm","Acier "&N6&" - βw= "&U6&" - a = "&Q5&" mm") -> Acier S275 - βw= 0.85 - a = 5 mm | M5: NEd = | N5: 28000 | O5: daN | P5: a = | Q5: 5 | R5: mm | S5: fy | T5: fu | U5: βw
C6: NEd = | D6: =N5 -> 28000 | E6: daN | M6: Nuance | N6: S275 | P6: L = | Q6: 250 | R6: mm | S6: =VLOOKUP(N6,Data!$A$3:$D$34,2) -> 27.5 | T6: =VLOOKUP(N6,Data!$A$3:$D$34,3) -> 43 | U6: =VLOOKUP(N6,Data!$A$3:$D$34,4) -> 0.85
C7: leff = | D7: =Q6-2*Q5 -> 240 | E7: =IF(D7<=H7,"<",">") -> > | G7: llim = max{30 mm ; 6a} = | H7: =MAX(30,6*Q5) -> 30 | I7: =IF(D7<=H7,"NON OK !!","OK !") -> OK ! | M7: ? !
D8: √( σ⊥²+3τ⊥²) = | E8: =2*E9 -> 16.499158 | F8: =IF(E8<=H8,"<",">") -> < | G8: fu/(βw*γM2) = | H8: =T6/(U6*G_M2) -> 40.470588 | J8: =E8/H8 -> 0.40768269 | O8: √( σ⊥²+3(τ//²+ τ⊥²))
C9: et | D9: σ⊥ = τ⊥ = | E9: =0.25*SQRT(2)*N5/(Q5*D7) -> 8.2495791 | F9: =IF(E9<=H9,"<",">") -> < | G9: 0.9*fu/γM2 = | H9: =0.9*T6/G_M2 -> 30.96 | J9: =E9/H9 -> 0.26645927
C10: ---------------------------------------------------------------------------------------------------------------------------------------------------------------------------------
A11: 2 | C11: =IF(Configuration!Y4="EN","Assemblies with side fillet welds","Assemblages par cordons latéraux") -> Assemblages par cordons latéraux | M11: Assemblages par cordons latéraux
C12: =IF(Configuration!Y4="EN","Steel "&N13&" - βw= "&U13&" - a = "&Q12&" mm","Acier "&N13&" - βw= "&U13&" - a = "&Q12&" mm") -> Acier S235 - βw= 0.8 - a = 3 mm | M12: NEd = | N12: 3850 | O12: daN | P12: a = | Q12: 3 | R12: mm | S12: fy | T12: fu | U12: βw
C13: NEd = | D13: =N12 -> 3850 | E13: daN | M13: Nuance | N13: S235 | P13: L = | Q13: 60 | R13: mm | S13: =VLOOKUP(N13,Data!$A$3:$D$34,2) -> 23.5 | T13: =VLOOKUP(N13,Data!$A$3:$D$34,3) -> 36 | U13: =VLOOKUP(N13,Data!$A$3:$D$34,4) -> 0.8
C14: leff = | D14: =Q13-2*Q12 -> 54 | E14: =IF(D14<=H14,"<",">") -> > | G14: llim = max{30 mm ; 6a} = | H14: =MAX(30,6*Q12) -> 30 | I14: =IF(D14<=H14,"NON OK !!","OK !") -> OK ! | M14: ? !
D15: τ// = | E15: =N12/(2*Q12*D14) -> 11.882716
D16: √( 3τ//²) = | E16: =(SQRT(3)*N12)/(2*Q12*D14) -> 20.581468 | F16: =IF(E16<=H16,"<",">") -> < | G16: fu/(βw*γM2) = | H16: =T13/(U13*G_M2) -> 36 | J16: =E16/H16 -> 0.57170744
C17: ---------------------------------------------------------------------------------------------------------------------------------------------------------------------------------
A18: 3 | C18: =IF(Configuration!Y4="EN","Assemblies with oblique fillet weld","Assemblages par cordon oblique") -> Assemblages par cordon oblique | M18: Assemblages par cordon oblique
C19: =IF(Configuration!Y4="EN","Steel "&N20&" - βw= "&U20&" - a = "&Q19&" mm","Acier "&N20&" - βw= "&U20&" - a = "&Q19&" mm") -> Acier S235 - βw= 0.8 - a = 5 mm | M19: NEd = | N19: 25000 | O19: daN | P19: a = | Q19: 5 | R19: mm | S19: fy | T19: fu | U19: βw
C20: NEd = | D20: =N19 -> 25000 | E20: daN | M20: Nuance | N20: S235 | P20: L = | Q20: 250 | R20: mm | S20: =VLOOKUP(N20,Data!$A$3:$D$34,2) -> 23.5 | T20: =VLOOKUP(N20,Data!$A$3:$D$34,3) -> 36 | U20: =VLOOKUP(N20,Data!$A$3:$D$34,4) -> 0.8
G21: =IF(Q21<30,"α= "&Q21&"° <30°",IF(Q21>150,"α= "&Q21&"° >150°","30°≤ α= "&Q21&"° ≤150°")) -> 30°≤ α= 45° ≤150° | I21: =IF(Q21<30,"NON OK !!",IF(Q21>150,"NON OK !!","OK !")) -> OK ! | M21: ? ! | P21: α = | Q21: 45 | R21: °
C22: leff = | D22: =IF(P20="L =",Q20-2*Q19,Q20/SIN(RADIANS(Q21))) -> 240 | E22: =IF(D22<=H22,"<",">") -> > | G22: llim = max{30 mm ; 6a} = | H22: =MAX(30,6*Q19) -> 30 | I22: =IF(D22<=H22,"NON OK !!","OK !") -> OK !
D23: τ// = | E23: =(N19*COS(RADIANS(Q21)))/(Q19*D22) -> 14.731391
D24: √( σ⊥²+3(τ⊥²+τ//²) = | E24: =SQRT(E25^2+3*(E25^2+E23^2)) -> 32.940392 | F24: =IF(E24<=H24,"<",">") -> < | G24: fu/(βw*γM2) = | H24: =T20/(U20*G_M2) -> 36 | J24: =E24/H24 -> 0.9150109
C25: et | D25: σ⊥ = τ⊥ = | E25: =(SQRT(2)*N19*SIN(RADIANS(Q21)))/(2*Q19*D22) -> 10.416667 | F25: =IF(E25<=H25,"<",">") -> < | G25: 0.9*fu/γM2 = | H25: =0.9*T20/G_M2 -> 25.92 | J25: =E25/H25 -> 0.40187757
C26: ---------------------------------------------------------------------------------------------------------------------------------------------------------------------------------
A27: 4 | C27: =IF(Configuration!Y4="EN","Assemblies with 2 side fillet welds and 1 ordinary front fillet weld","Assemblages par 2 cordons latéraux et 1 cordon frontal ordinaire") -> Assemblages par 2 cordons latéraux et 1 cordon frontal ordinaire | M27: Assemblages par 2 cordons latéraux et 1 cordon frontal ordinaire
C28: =IF(Configuration!Y4="EN","Steel "&N29&" - βw= "&U29&" - a1= "&Q28&" mm - a2= "&Q30&" mm","Acier "&N29&" - βw= "&U29&" - a1= "&Q28&" mm - a2= "&Q30&" mm") -> Acier S235 - βw= 0.8 - a1= 5 mm - a2= 5 mm | M28: NEd = | N28: 25000 | O28: daN | P28: a1 = | Q28: 5 | R28: mm | S28: fy | T28: fu | U28: βw
C29: NEd = | D29: =N28 -> 25000 | E29: daN | M29: Nuance | N29: S235 | P29: L1 = | Q29: 250 | R29: mm | S29: =VLOOKUP(N29,Data!$A$3:$D$34,2) -> 23.5 | T29: =VLOOKUP(N29,Data!$A$3:$D$34,3) -> 36 | U29: =VLOOKUP(N29,Data!$A$3:$D$34,4) -> 0.8
M30: ? ! | P30: a2 = | Q30: 5 | R30: mm
C31: l1,eff = | D31: =Q29-Q28 -> 245 | E31: =IF(D31<=H31,"<",">") -> > | G31: llim = max{30 mm ; 6a} = | H31: =MAX(30,6*Q28) -> 30 | I31: =IF(D31<=H31,"NON OK !!","OK !") -> OK ! | P31: L2 = | Q31: 80 | R31: mm
C32: l2,eff = | D32: =Q31 -> 80 | E32: =IF(D32<=H32,"<",">") -> > | G32: llim = max{30 mm ; 6a} = | H32: =MAX(30,6*Q30) -> 30 | I32: =IF(D32<=H32,"NON OK !!","OK !") -> OK !
C33: =IF(Configuration!Y4="EN","Plastic distribution coefficients","Coefficients de distribution plastique") -> Coefficients de distribution plastique | F33: αf = | G33: =D32/(2*D31+D32) -> 0.14035088
F34: αl = | G34: =1-G33 -> 0.85964912
C35: =IF(Configuration!Y4="EN","Side fillet welds","Cordons latéraux") -> Cordons latéraux | G35: Nl,Ed = | H35: =G34*N28 -> 21491.228
D36: τ// = | E36: =H35/(2*Q28*D31) -> 8.7719298
D37: √( 3τ//²) = | E37: =(SQRT(3)*H35)/(2*Q28*D31) -> 15.193428 | F37: =IF(E37<=H37,"<",">") -> < | G37: fu/(βw*γM2) = | H37: =T29/(U29*G_M2) -> 36 | J37: =E37/H37 -> 0.42203967
C39: =IF(Configuration!Y4="EN","Front fillet weld","Cordon frontal") -> Cordon frontal | G39: Nf,Ed = | H39: =G33*N28 -> 3508.7719
D40: √( σ⊥²+3τ⊥²) = | E40: =2*E41 -> 12.405382 | F40: =IF(E40<=H40,"<",">") -> < | G40: fu/(βw*γM2) = | H40: =T29/(U29*G_M2) -> 36 | J40: =E40/H40 -> 0.34459395
C41: et | D41: σ⊥ = τ⊥ = | E41: =0.5*SQRT(2)*H39/(Q30*D32) -> 6.2026911 | F41: =IF(E41<=H41,"<",">") -> < | G41: 0.9*fu/γM2 = | H41: =0.9*T29/G_M2 -> 25.92 | J41: =E41/H41 -> 0.23930135
C42: ---------------------------------------------------------------------------------------------------------------------------------------------------------------------------------
A43: 5 | C43: =IF(Configuration!Y4="EN","Assemblies with 2 side fillet welds and 1 leading front fillet weld","Assemblages par 2 cordons latéraux et 1 cordon frontal d'attaque") -> Assemblages par 2 cordons latéraux et 1 cordon frontal d'attaque | M43: Assemblages par 2 cordons latéraux et 1 cordon frontal d'attaque
C44: =IF(Configuration!Y4="EN","Steel "&N45&" - βw= "&U45&" - a1= "&Q44&" mm - a2= "&Q46&" mm","Acier "&N45&" - βw= "&U45&" - a1= "&Q44&" mm - a2= "&Q46&" mm") -> Acier S235 - βw= 0.8 - a1= 5 mm - a2= 5 mm | M44: NEd = | N44: 25000 | O44: daN | P44: a1 = | Q44: 5 | R44: mm | S44: fy | T44: fu | U44: βw
C45: NEd = | D45: =N44 -> 25000 | E45: daN | M45: Nuance | N45: S235 | P45: L1 = | Q45: 260 | R45: mm | S45: =VLOOKUP(N45,Data!$A$3:$D$34,2) -> 23.5 | T45: =VLOOKUP(N45,Data!$A$3:$D$34,3) -> 36 | U45: =VLOOKUP(N45,Data!$A$3:$D$34,4) -> 0.8
M46: ? ! | P46: a2 = | Q46: 5 | R46: mm
C47: l1,eff = | D47: =Q45-Q44 -> 255 | E47: =IF(D47<=H47,"<",">") -> > | G47: llim = max{30 mm ; 6a} = | H47: =MAX(30,6*Q44) -> 30 | I47: =IF(D47<=H47,"NON OK !!","OK !") -> OK ! | P47: L2 = | Q47: 80 | R47: mm
C48: l2,eff = | D48: =Q47 -> 80 | E48: =IF(D48<=H48,"<",">") -> > | G48: llim = max{30 mm ; 6a} = | H48: =MAX(30,6*Q46) -> 30 | I48: =IF(D48<=H48,"NON OK !!","OK !") -> OK !
C49: =IF(Configuration!Y4="EN","Plastic distribution coefficients","Coefficients de distribution plastique") -> Coefficients de distribution plastique | F49: αf = | G49: =D48/(2*D47+D48) -> 0.13559322
F50: αl = | G50: =1-G49 -> 0.86440678
C51: =IF(Configuration!Y4="EN","Side fillet welds","Cordons latéraux") -> Cordons latéraux | G51: Nl,Ed = | H51: =G50*N44 -> 21610.169
D52: τ// = | E52: =H51/(2*Q44*D47) -> 8.4745763
D53: √( 3τ//²) = | E53: =(SQRT(3)*H51)/(2*Q44*D47) -> 14.678397 | F53: =IF(E53<=H53,"<",">") -> < | G53: fu/(βw*γM2) = | H53: =T45/(U45*G_M2) -> 36 | J53: =E53/H53 -> 0.40773324
C55: =IF(Configuration!Y4="EN","Front fillet weld","Cordon frontal") -> Cordon frontal | G55: Nf,Ed = | H55: =G49*N44 -> 3389.8305
D56: √( σ⊥²+3τ⊥²) = | E56: =2*E57 -> 11.984861 | F56: =IF(E56<=H56,"<",">") -> < | G56: fu/(βw*γM2) = | H56: =T45/(U45*G_M2) -> 36 | J56: =E56/H56 -> 0.3329128
C57: et | D57: σ⊥ = τ⊥ = | E57: =0.5*SQRT(2)*H55/(Q46*D48) -> 5.9924303 | F57: =IF(E57<=H57,"<",">") -> < | G57: 0.9*fu/γM2 = | H57: =0.9*T45/G_M2 -> 25.92 | J57: =E57/H57 -> 0.23118944
C58: ---------------------------------------------------------------------------------------------------------------------------------------------------------------------------------
A59: 6 | C59: =IF(Configuration!Y4="EN","Assemblies with 2 side fillet welds and 2 front fillet welds","Assemblages par 2 cordons latéraux et 2 cordons frontaux") -> Assemblages par 2 cordons latéraux et 2 cordons frontaux | M59: Assemblages par 2 cordons latéraux et 2 cordons frontaux
C60: =IF(Configuration!Y4="EN","Steel "&N61&" - βw= "&U61&" - a1= "&Q60&" mm - a2= "&Q60&" mm","Acier "&N61&" - βw= "&U61&" - a1= "&Q60&" mm - a2= "&Q60&" mm") -> Acier S235 - βw= 0.8 - a1= 5 mm - a2= 5 mm | M60: NEd = | N60: 70000 | O60: daN | P60: a1 = | Q60: 5 | R60: mm | S60: fy | T60: fu | U60: βw
C61: NEd = | D61: =N60 -> 70000 | E61: daN | M61: Nuance | N61: S235 | P61: L1 = | Q61: 250 | R61: mm | S61: =VLOOKUP(N61,Data!$A$3:$D$34,2) -> 23.5 | T61: =VLOOKUP(N61,Data!$A$3:$D$34,3) -> 36 | U61: =VLOOKUP(N61,Data!$A$3:$D$34,4) -> 0.8
M62: ? ! | P62: a2 = | Q62: 5 | R62: mm
C63: l1,eff = | D63: =Q61 -> 250 | E63: =IF(D63<=H63,"<",">") -> > | G63: llim = max{30 mm ; 6a} = | H63: =MAX(30,6*Q60) -> 30 | I63: =IF(D63<=H63,"NON OK !!","OK !") -> OK ! | P63: L2 = | Q63: 80 | R63: mm
C64: l2,eff = | D64: =Q63 -> 80 | E64: =IF(D64<=H64,"<",">") -> > | G64: llim = max{30 mm ; 6a} = | H64: =MAX(30,6*Q62) -> 30 | I64: =IF(D64<=H64,"NON OK !!","OK !") -> OK !
C65: =IF(Configuration!Y4="EN","Plastic distribution coefficients","Coefficients de distribution plastique") -> Coefficients de distribution plastique
D66: αor = αat = | E66: =D64/(D63+D64) -> 0.24242424 | F66: αl = | G66: =1-2*E66 -> 0.51515152
C67: =IF(Configuration!Y4="EN","Side fillet welds","Cordons latéraux") -> Cordons latéraux | G67: Nl,Ed = | H67: =G66*N60 -> 36060.606
D68: τ// = | E68: =H67/(2*Q60*D63) -> 14.424242
D69: √( 3τ//²) = | E69: =(SQRT(3)*H67)/(2*Q60*D63) -> 24.983521 | F69: =IF(E69<=H69,"<",">") -> < | G69: fu/(βw*γM2) = | H69: =T61/(U61*G_M2) -> 36 | J69: =E69/H69 -> 0.69398669
C71: =IF(Configuration!Y4="EN","Front fillet welds","Cordons frontaux") -> Cordons frontaux | G71: Nat,Ed = | H71: =E66*N60 -> 16969.697
D72: √( σ⊥²+3τ⊥²) = | E72: =2*E73 -> 59.996939 | F72: =IF(E72<=H72,"<",">") -> > | G72: fu/(βw*γM2) = | H72: =T61/(U61*G_M2) -> 36 | J72: =E72/H72 -> 1.6665816
C73: et | D73: σ⊥ = τ⊥ = | E73: =0.5*SQRT(2)*H71/(Q62*D64) -> 29.99847 | F73: =IF(E73<=H73,"<",">") -> > | G73: 0.9*fu/γM2 = | H73: =0.9*T61/G_M2 -> 25.92 | J73: =E73/H73 -> 1.1573484
C74: ---------------------------------------------------------------------------------------------------------------------------------------------------------------------------------
A75: 7 | C75: =IF(Configuration!Y4="EN","Welded assembly of an I or H section","Assemblage soudé d'une section en I ou H") -> Assemblage soudé d'une section en I ou H | M75: Assemblage soudé d'une section en I ou H
M76: NEd = | N76: 7500 | O76: daN | P76: afs = | Q76: 5 | R76: mm | S76: Lfs = | T76: 110 | U76: mm | V76: fy | W76: fu | X76: βw
C77: =IF(Configuration!Y4="EN","Steel "&N79&" - βw= "&X77&" - af= "&Q76&" mm - aw= "&Q77&" mm","Acier "&N79&" - βw= "&X77&" - af= "&Q76&" mm - aw= "&Q77&" mm") -> Acier S275 - βw= 0.85 - af= 5 mm - aw= 5 mm | M77: Vz,Ed = | N77: 18000 | O77: daN | P77: aw = | Q77: 5 | R77: mm | S77: Lns = | T77: 40 | U77: mm | V77: =VLOOKUP(N79,Data!$A$3:$D$34,2) -> 27.5 | W77: =VLOOKUP(N79,Data!$A$3:$D$34,3) -> 43 | X77: =VLOOKUP(N79,Data!$A$3:$D$34,4) -> 0.85
M78: MEd = | N78: 0 | O78: daN*m | P78: afi = | Q78: =Q76 -> 5 | R78: mm | S78: Lw = | T78: 178 | U78: mm
C79: NEd = | D79: =N76 -> 7500 | E79: daN | M79: Nuance | N79: S275 | P79: tfs = | Q79: 12.5 | R79: mm | S79: Lni = | T79: =T77 -> 40 | U79: mm
C80: Vz,Ed = | D80: =N77 -> 18000 | E80: daN | M80: ? ! | P80: hw = | Q80: 201.6 | R80: mm | S80: Lfi = | T80: =T76 -> 110 | U80: mm
C81: MEd = | D81: =N78 -> 0 | E81: daN*m | P81: tfi = | Q81: =Q79 -> 12.5 | R81: mm
C84: lf,eff = | D84: =T76 -> 110 | E84: =IF(D84<=H84,"<",">") -> > | G84: llim = max{30 mm ; 6a} = | H84: =MAX(30,6*Q76) -> 30 | I84: =IF(D84<=H84,"NON OK !!","OK !") -> OK !
C85: ln,eff = | D85: =T77 -> 40 | E85: =IF(D85<=H85,"<",">") -> > | G85: llim = max{30 mm ; 6a} = | H85: =MAX(30,6*Q76) -> 30 | I85: =IF(D85<=H85,"NON OK !!","OK !") -> OK !
C86: lw,eff = | D86: =T78 -> 178 | E86: =IF(D86<=H86,"<",">") -> > | G86: llim = max{30 mm ; 6a} = | H86: =MAX(30,6*Q77) -> 30 | I86: =IF(D86<=H86,"NON OK !!","OK !") -> OK !
C88: =IF(Configuration!Y4="EN","Stresses due to axial force NEd","Contraintes dues à l'effort normal NEd") -> Contraintes dues à l'effort normal NEd
E89: =IF(Configuration!Y4="EN","Tensile weld area: Sa =","Aire des soudures tendues : Sa =") -> Aire des soudures tendues : Sa = | F89: =Q76*(T76+2*T77)+2*Q77*T78+Q78*(T80+2*T79) -> 3680
D90: σ⊥,N = τ⊥,N = | E90: =(SQRT(2)/2)*(D79/F89) -> 1.4411144 | G90: τ//,N = | H90: 0
C91: =IF(Configuration!Y4="EN","Stresses due to bending moment MEd","Contraintes dues au moment fléchissant MEd") -> Contraintes dues au moment fléchissant MEd
E92: =IF(Configuration!Y4="EN","Outer weld distance: dext =","Distance du cordon extérieur : dext =") -> Distance du cordon extérieur : dext = | F92: =0.5*(Q80+0.5*SQRT(2)*(Q76+Q78)+(Q79+Q81))/10 -> 11.683553
E93: =IF(Configuration!Y4="EN","Inner weld distance: dint =","Distance du cordon intérieur : dint =") -> Distance du cordon intérieur : dint = | F93: =0.5*(Q80-0.5*SQRT(2)*(Q76+Q78))/10 -> 9.7264466
E94: =IF(Configuration!Y4="EN","Weld moment of inertia: Iy =","Inertie des cordons de soudure : Iy =") -> Inertie des cordons de soudure : Iy = | F94: =2*(0.01*(T77*Q76+T79*Q78))*F93^2+(0.01*(T76*Q76+T80*Q78))*F92^2 -> 2258.3897
D95: σ⊥,Ms = τ⊥,Ms = | E95: =-0.5*SQRT(2)*D81*F92/F94 -> 0 | G95: τ//,M = | H95: 0
D96: σ⊥,Mi = τ⊥,Mi = | E96: =0.5*SQRT(2)*D81*F92/F94 -> 0 | G96: τ//,M = | H96: 0
C97: =IF(Configuration!Y4="EN","Stresses due to shear force VEd","Contraintes dues à l'effort tranchant VEd") -> Contraintes dues à l'effort tranchant VEd
D98: σ⊥,V = τ⊥,V = | E98: 0 | G98: τ//,V = | H98: =N77/(2*T78*Q77) -> 10.11236
C100: =IF(Configuration!Y4="EN","Weld Check","Vérification des Cordons") -> Vérification des Cordons
C101: =IF(Configuration!Y4="EN","Point A: Upper flange","Point A : Semelle supérieure") -> Point A : Semelle supérieure
D102: σ⊥,A = σ⊥,N + σ⊥,Ms = | E102: =E90+E95 -> 1.4411144 | G102: τ⊥,A = τ⊥,N + τ⊥,Ms = | H102: =E90+E95 -> 1.4411144
D103: √( σ⊥²+3(τ//²+ τ⊥²)) = | E103: =SQRT(E102^2+3*(H102^2)) -> 2.8822287 | F103: =IF(E103<=H103,"<",">") -> < | G103: fu/(βw*γM2) = | H103: =W77/(X77*G_M2) -> 40.470588 | J103: =ABS(E103/H103) -> 0.071217861
C104: et | D104: σ⊥ = | E104: =E102 -> 1.4411144 | F104: =IF(E104<=H104,"<",">") -> < | G104: 0.9*fu/γM2 = | H104: =0.9*W77/G_M2 -> 30.96 | J104: =ABS(E104/H104) -> 0.046547622
C105: =IF(Configuration!Y4="EN","Point B: Lower flange","Point B : Semelle inférieure") -> Point B : Semelle inférieure
D106: σ⊥,B = σ⊥,N + σ⊥,Ms = | E106: =E90+E96 -> 1.4411144 | G106: τ⊥,B = τ⊥,N + τ⊥,Ms = | H106: =E90+E96 -> 1.4411144
D107: √( σ⊥²+3(τ//²+ τ⊥²)) = | E107: =SQRT(E106^2+3*(H106^2)) -> 2.8822287 | F107: =IF(E107<=H107,"<",">") -> < | G107: fu/(βw*γM2) = | H107: =W77/(X77*G_M2) -> 40.470588 | J107: =ABS(E107/H107) -> 0.071217861
C108: et | D108: σ⊥ = | E108: =E106 -> 1.4411144 | F108: =IF(E108<=H108,"<",">") -> < | G108: 0.9*fu/γM2 = | H108: =0.9*W77/G_M2 -> 30.96 | J108: =ABS(E108/H108) -> 0.046547622
C109: =IF(Configuration!Y4="EN","Point C: Web","Point C : Âme") -> Point C : Âme
D110: σ⊥,C = σ⊥,N et τ⊥,C = τ⊥,N = | E110: =E90 -> 1.4411144 | G110: τ//,C = τ//,V = | H110: =H98 -> 10.11236
...

Sheet Ancrages
C3: =IF(Configuration!Y4="EN","Resistance of anchor rods with bearing plates","Résistance des tiges d'ancrages à plaquettes") -> Résistance des tiges d'ancrages à plaquettes | I3: CNC2M-N0175 §6 | J3: =IF(Q5="OUI",MAX(I11:I27),MAX(I11:I31)) -> 0.80840606 | M3: Résistance des tiges d'ancrages à plaquettes
M4: Nt,Ed = | N4: 5100 | O4: d = | P4: 20 | Q4: Bêche
C5: =IF(Configuration!Y4="EN","Rods M"&P4&" - "&P5&" - L = "&N6&" mm","Tiges M"&P4&" - "&P5&" - L = "&N6&" mm") -> Tiges M20 - 8.8 - L = 200 mm | M5: VEd = | N5: 0 | O5: Nuance | P5: 8.8 | Q5: OUI
C6: =IF(Configuration!Y4="EN","Bearing plates thk."&P7&" mm - dr = "&N7&" mm","Plaquettes ép."&P7&" mm - dr = "&N7&" mm") -> Plaquettes ép.10 mm - dr = 50 mm | M6: L = | N6: 200 | O6: Béton | P6: C 30/37 | Q6: fcd
C7: =IF(Configuration!Y4="EN","Concrete "&P6,"Béton "&P6) -> Béton C 30/37 | M7: dr = | N7: 50 | O7: tpl = | P7: 10 | Q7: =VLOOKUP(P6,Data!$A$40:$H$128,2)/1.5 -> 2
C8: ="P1 = "&N8&" mm - P2 = "&P8&" mm" -> P1 = 100 mm - P2 = 150 mm | M8: P1 = | N8: 100 | O8: P2 = | P8: 150
C9: ="C1 = "&N9&" mm - C2 = "&P9&" mm" -> C1 = 0 mm - C2 = 100 mm | M9: C1 = | N9: 0 | O9: C2 = | P9: 100
M10: A | N10: As | O10: fyb | P10: fub | Q10: av
C11: =IF(Configuration!Y4="EN","Tensile resistance check","Vérification à la traction") -> Vérification à la traction | I11: =N4/E12 -> 0.42517007 | M11: =VLOOKUP(P4,Data!$K$3:$P$20,4) -> 314 | N11: =VLOOKUP(P4,Data!$K$3:$P$20,5) -> 245 | O11: =VLOOKUP(P5,Data!$F$3:$H$16,2) -> 64 | P11: =VLOOKUP(P5,Data!$F$3:$H$16,3) -> 80 | Q11: =VLOOKUP(P5,Data!$F$2:$I$16,4) -> 0.6
E12: =H12*(0.9*P11*N11/G_M2) -> 11995.2 | F12: daN | H12: 0.85
C14: =IF(Configuration!Y4="EN","Tensile resistance check in concrete","Vérification à la traction dans le béton") -> Vérification à la traction dans le béton | I14: =N4/G15 -> 0.80840606 | M14: Leff | N14: =N6 -> 200
G15: =2.55*Q7*PI()*((N7^2-P4^2)/4)*(1-N7/(2*G17)) -> 6308.7107 | H15: daN | M15: C1 | N15: =N9 -> 0
M16: C2 | N16: =P9 -> 100
G17: {=MIN(IF(N14:N18<>0,N14:N18))} -> 100 | M17: p1 | N17: =N8 -> 100
M18: p2 | N18: =P8 -> 150
C19: =IF(Configuration!Y4="EN","Bearing plate thickness check","Vérification de l'épaisseur des plaquettes") -> Vérification de l'épaisseur des plaquettes | I19: =IF(F20>P7,"NON OK !!","OK !!") -> OK !!
D20: tmin = | E20: 0.15 * dr = | F20: =0.15*N7 -> 7.5 | G20: =IF(F20>P7,">","≤") -> ≤ | H20: tpl
C22: =IF(Configuration!Y4="EN","Shear resistance check in concrete","Vérification au cisaillement dans le béton") -> Vérification au cisaillement dans le béton | I22: =N5/E23 -> 0
E23: =G25*P11*N11/G_M2 -> 3888.64 | F23: daN
G25: =0.44-0.0003*(10*IF(O11<23.5,23.5,IF(O11>64,64,O11))) -> 0.248
C27: =IF(Configuration!Y4="EN","Tension/shear interaction check","Vérification de l'interaction traction/cisaillement") -> Vérification de l'interaction traction/cisaillement | I27: =E29 -> 0.30369291
E29: =I22+(N4/(1.4*E12)) -> 0.30369291 | F29: =IF(E29>G29,">","≤") -> ≤ | G29: 1
C31: =IF(Configuration!Y4="EN","Concrete bearing pressure check","Vérification de la pression sur le béton") -> Vérification de la pression sur le béton | I31: =IF(Q5="OUI","--",N5/G32) -> --
G32: =IF(Q5="OUI","--",MIN(3*P4,N6)*PI()*(P4/2)*Q7) -> -- | H32: daN
C34: ---------------------------------------------------------------------------------------------------------------------
C35: =IF(Configuration!Y4="EN","Resistance of hooked anchor rods","Résistance des tiges d'ancrages à crosses") -> Résistance des tiges d'ancrages à crosses | I35: CNC2M-N0175 §6 | J35: =MAX(I40:I60) -> 0.77481636 | M35: Résistance des tiges d'ancrages à crosses
M36: Nt,Ed = | N36: 2770 | O36: d = | P36: 30 | Q36: fbd
C37: =IF(Configuration!Y4="EN","Rods M"&P36&" - "&P37&" - L1 = "&N38&" mm - r = "&P39&" mm - L2 = "&N39&" mm","Tiges M"&P36&" - "&P37&" - L1 = "&N38&" mm - r = "&P39&" mm - L2 = "&N39&" mm") -> Tiges M30 - S355 - L1 = 400 mm - r = 60 mm - L2 = 40 mm | M37: VEd = | N37: 4820 | O37: Nuance | P37: S355 | Q37: =0.36*SQRT(VLOOKUP(P38,Data!$A$40:$H$128,2))/1.5 -> 0.37947332
C38: =IF(Configuration!Y4="EN","Concrete "&P38,"Béton "&P38) -> Béton C 25/30 | M38: L1 = | N38: 400 | O38: Béton | P38: C 25/30 | Q38: fcd
M39: L2 = | N39: 40 | O39: r = | P39: 60 | Q39: =VLOOKUP(P38,Data!$A$40:$H$128,2)/1.5 -> 1.6666667
C40: =IF(Configuration!Y4="EN","Tensile resistance check","Vérification à la traction") -> Vérification à la traction | I40: =N36/E41 -> 0.16465291 | M40: A | N40: As | O40: fyb | P40: fub | Q40: av
E41: =H41*(0.9*P41*N41/G_M2) -> 16823.268 | F41: daN | H41: 0.85 | M41: =VLOOKUP(P36,Data!$K$3:$P$20,4) -> 707 | N41: =VLOOKUP(P36,Data!$K$3:$P$20,5) -> 561 | O41: =VLOOKUP(P37,Data!$F$3:$H$16,2) -> 35.5 | P41: =VLOOKUP(P37,Data!$F$3:$H$16,3) -> 49 | Q41: =VLOOKUP(P37,Data!$F$2:$I$16,4) -> 0.5
M42: Bêche | N42: OUI
C43: =IF(Configuration!Y4="EN","Tensile resistance check in concrete","Vérification à la traction dans le béton") -> Vérification à la traction dans le béton | I43: =N36/G44 -> 0.083821499
G44: =PI()*P36*(N38+6.4*P39+3.5*N39)*Q37 -> 33046.414 | H44: daN
C46: Vérification des dispositions constructives
E47: r | F47: ≥ | G47: 3d0 | I47: =IF(P39>=3*P36,"OK !!","NON OK !!") -> NON OK !!
C48: 1.5d0 | D48: ≤ | E48: L2 | F48: ≤ | G48: 2d0 | I48: =IF(AND(N39>=1.5*P36,N39<=2*P36),"OK !!","NON OK !!") -> NON OK !!
C50: =IF(Configuration!Y4="EN","Shear resistance check in concrete","Vérification au cisaillement dans le béton") -> Vérification au cisaillement dans le béton | I50: =N37/E51 -> 0.65720714
E51: =G53*P41*N41/G_M2 -> 7334.0652 | F51: daN
G53: =0.44-0.0003*(10*IF(O41<23.5,23.5,IF(O41>64,64,O41))) -> 0.3335
C55: =IF(Configuration!Y4="EN","Tension/shear interaction check","Vérification de l'interaction traction/cisaillement") -> Vérification de l'interaction traction/cisaillement | I55: =E57 -> 0.77481636
E57: =I50+(N36/(1.4*E41)) -> 0.77481636 | F57: =IF(E57>G57,">","≤") -> ≤ | G57: 1
C59: =IF(Configuration!Y4="EN","Concrete bearing pressure check","Vérification de la pression sur le béton") -> Vérification de la pression sur le béton | I59: =IF(N42="OUI","--",N37/G60) -> --
G60: =IF(N42="OUI","--",MIN(3*P36,N38)*PI()*(P36/2)*Q39) -> -- | H60: daN
C62: ---------------------------------------------------------------------------------------------------------------------
C63: =IF(Configuration!Y4="EN","Resistance of straight anchor rods","Résistance des tiges d'ancrages droites") -> Résistance des tiges d'ancrages droites | I63: CNC2M-N0175 §6 | J63: =MAX(I68:I84) -> 0.96997189 | M63: Résistance des tiges d'ancrages droites
M64: Nt,Ed = | N64: 70000 | O64: d = | P64: 48
C65: =IF(Configuration!Y4="EN","Rods M"&P64&" - "&P65&" - L = "&N66&" mm","Tiges M"&P64&" - "&P65&" - L = "&N66&" mm") -> Tiges M48 - 8.8 - L = 1000 mm | M65: VEd = | N65: 0 | O65: Nuance | P65: 8.8 | Q65: av
C66: =IF(Configuration!Y4="EN","Concrete "&P66,"Béton "&P66) -> Béton C 30/37 | M66: L = | N66: 1000 | O66: Béton | P66: C 30/37 | Q66: =VLOOKUP(P65,Data!$F$2:$I$16,4) -> 0.6
M67: As | N67: fyb | O67: fub | P67: fcd | Q67: fbd
C68: =IF(Configuration!Y4="EN","Tensile resistance check","Vérification à la traction") -> Vérification à la traction | I68: =N64/E69 -> 0.96997189 | M68: =VLOOKUP(P64,Data!$K$3:$P$20,5) -> 1474 | N68: =VLOOKUP(P65,Data!$F$3:$H$16,2) -> 64 | O68: =VLOOKUP(P65,Data!$F$3:$H$16,3) -> 80 | P68: =VLOOKUP(P66,Data!$A$40:$H$128,2)/1.5 -> 2 | Q68: =0.36*SQRT(10*VLOOKUP(P66,Data!$A$40:$H$128,2))/1.5 -> 1.3145341
E69: =H69*(0.9*O68*M68/G_M2) -> 72167.04 | F69: daN | H69: 0.85
C71: =IF(Configuration!Y4="EN","Tensile resistance check in concrete","Vérification à la traction dans le béton") -> Vérification à la traction dans le béton | I71: =N64/E72 -> 0.35313036
E72: =PI()*P64*N66*Q68 -> 198227.08 | F72: daN
C74: =IF(Configuration!Y4="EN","Shear resistance check in concrete","Vérification au cisaillement dans le béton") -> Vérification au cisaillement dans le béton | I74: =N65/E75 -> 0
E75: =G77*O68*M68/G_M2 -> 23395.328 | F75: daN
G77: =0.44-0.0003*(10*IF(N68<23.5,23.5,IF(N68>64,64,N68))) -> 0.248
C79: =IF(Configuration!Y4="EN","Tension/shear interaction check","Vérification de l'interaction traction/cisaillement") -> Vérification de l'interaction traction/cisaillement | I79: =E81 -> 0.69283706
E81: =I74+(N64/(1.4*E69)) -> 0.69283706 | F81: =IF(E81>G81,">","≤") -> ≤ | G81: 1
C83: =IF(Configuration!Y4="EN","Concrete bearing pressure check","Vérification de la pression sur le béton") -> Vérification de la pression sur le béton | I83: =N65/G84 -> 0
G84: =MIN(3*P64,N66)*PI()*(P64/2)*P68 -> 21714.688 | H84: daN
C86: ---------------------------------------------------------------------------------------------------------------------
C87: =IF(Configuration!Y4="EN","Equivalent tension due to bending in an anchor rod","Traction équivalente à la flexion dans une tige") -> Traction équivalente à la flexion dans une tige
C88: VEd = | D88: 23000 | E88: d = | F88: 16 | G88: tp = | H88: 10
F89: Ft,Ed,éq = | G89: =D88*(H88/F88)*((5*PI())/6) -> 37633.662 | H89: daN
C90: ---------------------------------------------------------------------------------------------------------------------
C91: =IF(Configuration!Y4="EN","Resistance of headed stud connectors (Nelson type)","Résistance des bêches en connecteurs à tête (type Nelson)") -> Résistance des bêches en connecteurs à tête (type Nelson) | J91: =MAX(I100:I112) -> 0.73378369 | M91: Résistance des bêches en connecteurs à tête (type Nelson)
M92: Nt,Ed = | N92: 0 | O92: d1 = | P92: 22
C93: ="Ø"&P92&"x"&P93&" - d5= "&M96&" mm - k= "&N96&" mm - S235 - Béton "&P94 -> Ø22x125 - d5= 35 mm - k= 10 mm - S235 - Béton C 25/30 | M93: VEd = | N93: 4820 | O93: L2 = | P93: 125 | Q93: fck
C94: ="V_Ed = "&N93&" daN"&IF(N92=0,""," - N_Ed = "&N92&" daN") -> V_Ed = 4820 daN | M94: Coeff Réduction | N94: 0.75 | O94: Béton | P94: C 25/30 | Q94: =VLOOKUP(P94,Data!$A$40:$H$128,2) -> 2.5
C95: =IF(Configuration!Y4="EN","Minimum distance between connectors","Distance minimale entre connecteurs") -> Distance minimale entre connecteurs | M95: d5 | N95: k | O95: A | P95: fub | Q95: Ecm
C96: =IF(Configuration!Y4="EN","In the direction of the shear force","Dans le sens de l'effort tranchant") -> Dans le sens de l'effort tranchant | H96: 5 x d1 = | I96: =5*P92 -> 110 | M96: =VLOOKUP(P92,Data!J40:L45,2) -> 35 | N96: =VLOOKUP(P92,Data!J40:L45,3) -> 10 | O96: =0.25*PI()*P92^2 -> 380.13271 | P96: =VLOOKUP("S235",Data!$F$3:$H$16,3,FALSE) -> 36 | Q96: =VLOOKUP(P94,Data!$A$40:$H$128,8)*100 -> 3147.5806
C97: =IF(Configuration!Y4="EN","Normal to the shear force direction (slab and solid wall)","Normal au sens de l'effort tranchant (dalle et voile plein)") -> Normal au sens de l'effort tranchant (dalle et voile plein) | H97: 2.5 x d1 = | I97: =2.5*P92 -> 55
C98: =IF(Configuration!Y4="EN","Normal to the shear force direction (other cases)","Normal au sens de l'effort tranchant (autres cas)") -> Normal au sens de l'effort tranchant (autres cas) | H98: 4 x d1 = | I98: =4*P92 -> 88
C100: =IF(Configuration!Y4="EN","Shear check","Vérification au cisaillement") -> Vérification au cisaillement | I100: =N93/G109 -> 0.73378369
E102: =0.8*P96*PI()*0.25*P92^2/H102 -> 8758.2577 | F102: daN | G102: où γv = | H102: 1.25
F104: ="où "&IF(H105>4,"α =","α = 0.2*(L2/d1+1) =") -> où α = | H104: =IF(H105>4,1,0.2*(H105+1)) -> 1
E105: =(0.29*H104*P92^2*SQRT(Q94*Q96))/H102 -> 9960.7441 | F105: daN | G105: L2/d1 = | H105: =P93/P92 -> 5.6818182
G107: =MIN(E102,E105) -> 8758.2577 | H107: daN
F109: =IF(N94=1,"P_Rd =",N94&" * P_Rd =") -> 0.75 * P_Rd = | G109: =N94*G107 -> 6568.6932 | H109: daN
C111: =IF(Configuration!Y4="EN","Tension check","Vérification en traction") -> Vérification en traction
C112: NEd | D112: =IF(N92<=0.1*G109,"≤",">") -> ≤ | E112: 0.1 x PRd | I112: =IF(N92<=0.1*G109,"OK !!","NON OK !!") -> OK !!
D113: =IF(N92<=0.1*G109,IF(Configuration!Y4="EN","Tension force can be neglected","L'effort de traction peut être négligé"),IF(Configuration!Y4="EN","The shear/tension interaction is outside the scope of EN 1994","L'interaction cisaillement/traction n'entre pas dans le domaine d'application de l'EN 1994")) -> L'effort de traction peut être négligé
C115: --------------------------------------------------------------------------------------------------------------------- | M115: Résistance des bêches en profils bi-symétriques
C116: =IF(Configuration!Y4="EN","Resistance of bi-symmetric profile shear keys","Résistance des bêches en profils bi-symétriques") -> Résistance des bêches en profils bi-symétriques | J116: =MAX(I120:I150) -> 0.84376781 | M116: Vz,Ed = | N116: 5000 | O116: Profil | P116: HEA 120
M117: Vy,Ed = | N117: 5000 | O117: Ln = | P117: 150
D118: ="Ø"&P116&" - Ln= "&P117&" mm - "&P118 -> ØHEA 120 - Ln= 150 mm - S235 | M118: Béton | N118: C 25/30 | O118: Nuance | P118: S235
M119: fcd = | N119: fy = | O119: fu =
C120: =IF(Configuration!Y4="EN","Check of constructive provisions","Vérification des dispositions constructives") -> Vérification des dispositions constructives | J120: =MAX(I121:I134) -> 0.43560455 | M120: =VLOOKUP(N118,Data!$A$40:$H$128,2,FALSE)/1.5 -> 1.6666667 | N120: =VLOOKUP(P118,Data!$A$3:$D$34,2,FALSE) -> 23.5 | O120: =VLOOKUP(P118,Data!$A$3:$D$34,3,FALSE) -> 36
C121: 60 | D121: =IF(P117>=60,"≤",">") -> ≤ | E121: Ln | F121: =IF(P117<=1.5*M122,"≤",">") -> ≤ | G121: 1.5*hn = | H121: =1.5*M122 -> 171 | I121: =IF(AND(P117>=60,P117<=1.5*M122),"OK !!","NON OK !!") -> OK !! | M121: hn = | N121: bn = | O121: tw = | P121: tf =
C122: bn | D122: =IF(N122<=F122,"≤",">") -> ≤ | E122: 20*tfn = | F122: =20*P122 -> 160 | I122: =IF(N122<=F122,"OK !!","NON OK !!") -> OK !! | M122: =VLOOKUP($P$116,Profilés!$A$4:$R$182,3,FALSE) -> 114 | N122: =VLOOKUP($P$116,Profilés!$A$4:$R$182,4,FALSE) -> 120 | O122: =VLOOKUP($P$116,Profilés!$A$4:$R$182,5,FALSE) -> 5 | P122: =VLOOKUP($P$116,Profilés!$A$4:$R$182,6,FALSE) -> 8
C123: hn-2*tfn | D123: =IF(M122-2*P122<=F123,"≤",">") -> ≤ | E123: 40*twn = | F123: =40*O122 -> 200 | I123: =IF(M122-2*P122<=F123,"OK !!","NON OK !!") -> OK !! | M123: Av,z = | N123: Wel,y = | O123: Av,y = | P123: Wel,z =
M124: =VLOOKUP($P$116,Profilés!$A$4:$R$182,13,FALSE)*100 -> 846 | N124: =VLOOKUP($P$116,Profilés!$A$4:$R$182,10,FALSE) -> 106.3 | O124: =VLOOKUP($P$116,Profilés!$A$4:$R$182,18,FALSE)*100 -> 1920 | P124: =VLOOKUP($P$116,Profilés!$A$4:$R$182,15,FALSE) -> 38.48
C125: =IF(Configuration!Y4="EN","Check of the shear key along its strong axis","Vérification de la bêche selon son axe fort") -> Vérification de la bêche selon son axe fort
C126: =IF(Configuration!Y4="EN","Check of the concrete resistance","Vérification de la résistance du béton") -> Vérification de la résistance du béton | I126: =N116/F127 -> 0.16666667
D127: Vz,c,Rd = | E127: fcd bn Ln = | F127: =M120*N122*P117 -> 30000 | G127: daN
C129: =IF(Configuration!Y4="EN","Check of the shear resistance","Vérification de la résistance au cisaillement") -> Vérification de la résistance au cisaillement | I129: =N116/F130 -> 0.43560455
D130: Vz,Rd = | F130: =M124*N120/(G_M0*SQRT(3)) -> 11478.301 | G130: daN
C132: =IF(Configuration!Y4="EN","Check of the bending resistance","Vérification de la résistance en flexion") -> Vérification de la résistance en flexion | I132: =F133/F134 -> 0.10007806
...

Sheet EN1992-4
C3: =IF(Configuration!Y4="EN","Anchor Resistance according to NF EN 1992-4; NF EN 1993-1-8 ","Résistance des Ancrages selon NF EN 1992-4 ; NF EN 1993-1-8 ") -> Résistance des Ancrages selon NF EN 1992-4 ; NF EN 1993-1-8 | J3: =MAX(J83,J89,J121,J128,J175,J201,J230,J239,J252,J259,J296,J301) -> 0.99600454
C5: =IF(Configuration!Y4="EN","Geometry","Géométrie") -> Géométrie
C6: =IF(Configuration!Y4="EN","Concrete","Béton") -> Béton
D7: C 30/37 | F7: fck = | G7: =10*VLOOKUP(D7,Data!$A$40:$H$128,2) -> 30 | H7: Mpa
D8: NON fissuré | E8: =IF(AND(E65<>"permante et transitoire",D8="NON fissuré"),"Lorsque la situation est accidentelle ou sismique, le béton doit être considéré comme Fissuré","") | O8: kcr,N / kucr,N | P8: k2 | Q8: τRk,cr / τRk,ucr | R8: k3 | S8: hmin | T8: k5 | U8: k8 | V8: k9
G9: =IF(Configuration!Y4="EN","Supplementary reinforcement in tension","Renforcements supplémentaires en traction") -> Renforcements supplémentaires en traction | H9: NON | O9: - | P9: - | Q9: [MPa] | R9: - | S9: [mm] | T9: - | U9: - | V9: -
G10: =IF(Configuration!Y4="EN","Supplementary reinforcement in shear","Renforcements supplémentaires en cisaillement") -> Renforcements supplémentaires en cisaillement | H10: NON | O10: Connu | P10: Connu | Q10: Connu | R10: Connu | S10: Connu | T10: Connu | U10: Connu | V10: Connu
D11: =IF(OR(H9="OUI",H10="OUI"),"Les renforcements supplémentaires ne sont pas étudiés dans cette feuille !","") | N11: Fissuré | O11: 7.7 | P11: 7.5 | Q11: 10.2 | R11: 7.7 | S11: 85 | T11: 8.7 | U11: 1.4 | V11: 1.7
C12: =IF(Configuration!Y4="EN","Anchor rods","Tiges d'ancrages") -> Tiges d'ancrages | N12: NON fissuré | O12: 11 | P12: 10.5 | Q12: 14.5 | R12: 11 | T12: 12.2 | U12: 2 | V12: 2.4
C13: =IF(Configuration!Y4="EN","Type","Type") -> Type | D13: Droite | F13: =IF(Configuration!Y4="EN","Fastening by "&IF(D13="Droite","bonding","mechanical interlock"),"Fixation par "&IF(D13="Droite","scellement","vérouillage de forme")) -> Fixation par scellement
C14: d = | D14: 20 | E14: As = | F14: =VLOOKUP(D14,Data!$K$3:$P$20,5) -> 245 | G14: mm²
C15: =IF(Configuration!Y4="EN","Grade","Nuance") -> Nuance | D15: 8.8 | E15: fyb = | F15: =VLOOKUP(D15,Data!$F$3:$H$16,2) -> 64 | G15: daN/mm² | H15: fub = | I15: =VLOOKUP(D15,Data!$F$3:$H$16,3) -> 80 | J15: daN/mm²
C16: hef = | D16: 230 | E16: mm
D17: =IF(Configuration!Y4="EN","Number of rods: n =","Nombre de Tiges : n =") -> Nombre de Tiges : n = | E17: =J40*J37 -> 6
I18: =IF(Configuration!Y4="EN","First row of rods is external","Première ligne de Tiges est extérieure") -> Première ligne de Tiges est extérieure | J18: NON
C20: =IF(Configuration!Y4="EN","Anchor bearing plates","Plaquettes d'ancrages") -> Plaquettes d'ancrages
C21: dr = | D21: 80 | E21: mm | F21: tpl = | G21: 10 | H21: mm
C22: Nuance | D22: S235 | E22: =IF(D13="Droite","N/A","") -> N/A | F22: fy = | G22: =VLOOKUP(D22,Data!A2:D33,2,FALSE) -> 23.5 | H22: daN/mm²
C24: =IF(Configuration!Y4="EN","Lever arm","Bras de levier") -> Bras de levier | E24: =IF(I25=0,IF(Configuration!Y4="EN","No lever arm!","Pas de bras de levier !"),IF(Configuration!Y4="EN","Lever arm of "&I25&" mm taken into account!","Bras de levier de "&I25&" mm pris en compte !")) -> Pas de bras de levier ! | N24: Vérifications pour les tiges sollicitées en traction
E25: =IF(Configuration!Y4="EN","Pre-grouting plate","Platine de préscellement") -> Platine de préscellement | F25: OUI | H25: la = | I25: =IF(F26=0,0,IF(AND(F25="OUI",F26<=0.5*D14),0,IF(F25="OUI",0,0.5*D14)+F26+0.5*F27)) -> 0 | J25: mm | N25: =J83 -> 0.092184601 | O25: Rupture de l'acier de la fixation
E26: =IF(Configuration!Y4="EN","grout thickness tgrout =","épaisseur du mortier tgrout =") -> épaisseur du mortier tgrout = | F26: 0 | H26: αM = | I26: 2 | N26: =J89 -> 0.69920629 | O26: Rupture par cône de béton
E27: =IF(Configuration!Y4="EN","plate thickness tp =","épaisseur de la platine tp =") -> épaisseur de la platine tp = | F27: 20 | H27: MEd = | I27: =D44*0.001*I25/I26 -> 0 | J27: daN.m | N27: =J121 -> 0 | O27: Rupture par extraction-glissement
N28: =J128 -> 0.51828331 | O28: Rupture combinée du béton et par extraction-glissement
C29: =IF(Configuration!Y4="EN","Dimensions","Dimensions") -> Dimensions | N29: =J175 -> 0.34554492 | O29: Rupture par fendage du béton
N30: =J201 -> 0 | O30: Rupture par éclatement du béton
C31: =IF(Configuration!Y4="EN","concrete thickness","épaisseur du béton") -> épaisseur du béton | I31: C2,2 = | J31: 0 | N31: Vérifications pour les tiges sollicitées en cisaillement
C32: h = | D32: 380 | N32: =J230 -> 0.2258716 | O32: Rupture de l'acier de la fixation sans bras de levier
I33: S2 = | J33: {=(SUM(F51:F60)-INDEX(F51:F60,J37))/(J37-1)} -> 150 | N33: =J239 -> 0 | O33: Rupture de l'acier de la fixation avec bras de levier
J34: =IF(J33<4*$D$14,"Smin = 4*d0","") | N34: =J252 -> 0.55309465 | O34: Rupture du béton par effet de levier
I35: C2,1 = | J35: 0 | N35: =J259 -> 0 | O35: Rupture du bord du béton
N36: Vérifications pour les tiges sollicitées en cisaillement et traction
I37: N2 = | J37: =COUNTA(E51:E60) -> 3 | N37: =J296 -> 0.05951598 | O37: Rupture de l'acier de la fixation
N38: =J301 -> 0.99600454 | O38: Modes de rupture du béton
C40: C1,1 = | D40: 140 | E40: S1 = | F40: 100 | G40: C1,2 = | H40: 140 | I40: N1 = | J40: 2
E41: =IF(AND(E100<>"permante et transitoire",D41="NON fissuré"),"Lorsque la situation est accidentelle ou sismique, le béton doit être considéré comme Fissuré","") | F41: =IF(F40<4*$D$14,"Smin = 4*d0","")
C42: =IF(Configuration!Y4="EN","Loading","Efforts") -> Efforts
C43: Nt,Ed = | D43: 2900 | E43: daN
C44: VEd = | D44: 8500 | E44: daN | G44: NEd = | H44: =D43+SUM(I51:I60) -> 5372.7273 | I44: daN
C45: MEd = | D45: 0 | E45: daN.m | G45: MEd = | H45: =D45+D44*0.001*D46 -> 680 | I45: daN.m
C46: Exc e = | D46: 80 | E46: mm
C48: =IF(Configuration!Y4="EN","Load Distribution","Distribution des Efforts") -> Distribution des Efforts
D50: i | E50: di | F50: Si | G50: Fti,Rd | H50: Fti,eff,Rd | I50: Fti,Ed
D51: 1 | E51: 350 | F51: =IF(E51-E52=0,"",E51-E52) -> 150 | G51: 3500 | H51: =G51 -> 3500 | I51: =H51*$H$45/$H$62 -> 1442.4242
D52: 2 | E52: 200 | F52: =IF(E52-E53=0,"",E52-E53) -> 150 | G52: 3500 | H52: =IF(J18="OUI",G52,(G51*E52/E51)) -> 2000 | I52: =H52*$H$45/$H$62 -> 824.24242
D53: 3 | E53: 50 | F53: =IF(E53-E54=0,"",E53-E54) -> 50 | G53: 3500 | H53: =MIN(G52*E53/IF($J$18="OUI",$E$52,$E$51),G53) -> 500 | I53: =H53*$H$45/$H$62 -> 206.06061
D54: 4 | F54: =IF(E54-E55=0,"",E54-E55) | H54: =MIN(G53*E54/IF($J$18="OUI",$E$52,$E$51),G54) -> 0 | I54: =H54*$H$45/$H$62 -> 0
D55: 5 | F55: =IF(E55-E56=0,"",E55-E56) | H55: =MIN(G54*E55/IF($J$18="OUI",$E$52,$E$51),G55) -> 0 | I55: =H55*$H$45/$H$62 -> 0
D56: 6 | F56: =IF(E56-E57=0,"",E56-E57) | H56: =MIN(G55*E56/IF($J$18="OUI",$E$52,$E$51),G56) -> 0 | I56: =H56*$H$45/$H$62 -> 0
D57: 7 | F57: =IF(E57-E58=0,"",E57-E58) | H57: =MIN(G56*E57/IF($J$18="OUI",$E$52,$E$51),G57) -> 0 | I57: =H57*$H$45/$H$62 -> 0
D58: 8 | F58: =IF(E58-E59=0,"",E58-E59) | H58: =MIN(G57*E58/IF($J$18="OUI",$E$52,$E$51),G58) -> 0 | I58: =H58*$H$45/$H$62 -> 0
D59: 9 | F59: =IF(E59-E60=0,"",E59-E60) | H59: =MIN(G58*E59/IF($J$18="OUI",$E$52,$E$51),G59) -> 0 | I59: =H59*$H$45/$H$62 -> 0
D60: 10 | F60: =IF(E60-E61=0,"",E60-E61) | H60: =MIN(G59*E60/IF($J$18="OUI",$E$52,$E$51),G60) -> 0 | I60: =H60*$H$45/$H$62 -> 0
C62: Z = | D62: =IF(J18="OUI",E51-0.5*F51,E51) -> 350 | E62: mm | G62: MRd = Σ(di x Fti,eff,Rd) = | H62: =SUMPRODUCT(E51:E60,H51:H60)/1000 -> 1650 | I62: daN.m
C64: =IF(Configuration!Y4="EN","Partial Safety Factors","Coefficients Partiels") -> Coefficients Partiels
D65: Situation | E65: permante et transitoire
C67: =IF(Configuration!Y4="EN","Fastener steel failure","Rupture de l'acier de fixation") -> Rupture de l'acier de fixation | N67: =1+MATCH(E65,O67:Q67,0) -> 2 | O67: permante et transitoire | P67: accidentelle | Q67: sismique | R67: fuk/fyk | S67: fyk/fuk | T67: fuk | U67: fyk
C68: =IF(Configuration!Y4="EN","Tension","Traction") -> Traction | G68: γMs,t = | H68: =VLOOKUP(G68,$N$68:$Q$79,$N$67,FALSE) -> 1.5 | N68: γMs,t = | O68: =MAX(1.2*R68,1.4) -> 1.5 | P68: =MAX(1.05*R68,1.25) -> 1.3125 | Q68: =MAX(1.05*R68,1.25) -> 1.3125 | R68: =T68/U68 -> 1.25 | S68: =U68/T68 -> 0.8 | T68: =I15 -> 80 | U68: =F15 -> 64
C69: =IF(Configuration!Y4="EN","Shear with or without lever arm","Cisaillement avec ou sans bras de levier") -> Cisaillement avec ou sans bras de levier | G69: γMs,v = | H69: =VLOOKUP(G69,$N$68:$Q$79,$N$67,FALSE) -> 1.25 | N69: γMs,v = | O69: =IF(AND(S68<=0.8,T68<=80),MAX(R68,1.25),1.5) -> 1.25 | P69: =IF(AND(S68<=0.8,T68<=80),MAX(R68,1.25),1.3) -> 1.25 | Q69: =IF(AND(S68<=0.8,T68<=80),MAX(R68,1.25),1.3) -> 1.25
C71: =IF(Configuration!Y4="EN","Steel failure - supplementary reinforcement","Rupture de l'acier - renforcement supplémentaire") -> Rupture de l'acier - renforcement supplémentaire
C72: =IF(Configuration!Y4="EN","Tension","Traction") -> Traction | G72: γMs,re = | H72: =VLOOKUP(G72,$N$68:$Q$79,$N$67,FALSE) -> 1.15 | N72: γMs,re = | O72: 1.15 | P72: 1 | Q72: 1
C74: =IF(Configuration!Y4="EN","Concrete-related failure","Rupture liée au béton") -> Rupture liée au béton
C75: =IF(Configuration!Y4="EN","Concrete cone failure","Rupture par cône de béton") -> Rupture par cône de béton | G75: γMc = γc x γinst = | H75: =H76*H77 -> 1.5 | N75: γMc =
C76: =IF(Configuration!Y4="EN","Concrete edge failure","Rupture du bord du béton") -> Rupture du bord du béton | G76: γc = | H76: =VLOOKUP(G76,$N$68:$Q$79,$N$67,FALSE) -> 1.5 | N76: γc = | O76: 1.5 | P76: 1.2 | Q76: 1.3
G77: γinst = | H77: =VLOOKUP(G77,$N$68:$Q$79,$N$67,FALSE) -> 1 | N77: γinst = | O77: 1 | P77: 1 | Q77: 1
C78: =IF(Configuration!Y4="EN","Concrete splitting failure","Rupture par fendage du béton") -> Rupture par fendage du béton | G78: γMsp = γMc = | H78: =H75 -> 1.5 | N78: γMsp =
C79: =IF(Configuration!Y4="EN","Pull-out failure or combined concrete cone and pull-out failure","Rupture par extraction glissement ou rupture combinée du béton et par extraction glissement ") -> Rupture par extraction glissement ou rupture combinée du béton et par extraction glissement | N79: γMp =
G80: γMp = γMc = | H80: =H75 -> 1.5
C82: =IF(Configuration!Y4="EN","Checks for anchors loaded in tension","Vérifications pour les tiges sollicitées en traction") -> Vérifications pour les tiges sollicitées en traction
C83: =IF(Configuration!Y4="EN","Fastener steel failure","Rupture de l'acier de la fixation") -> Rupture de l'acier de la fixation | I83: (NF EN1993-1-8) | J83: =E84/F86 -> 0.092184601
D84: Fed = | E84: =D43/E17+MAX(I51:I60)/J40 -> 1204.5455 | F84: daN
E86: Ft,Rd = As * fub /γMs,t = | F86: =F14*I15/H68 -> 13066.667 | G86: daN | H86: =IF(Configuration!Y4="EN","Resistance per anchor","Résistance pour une tige") -> Résistance pour une tige
C89: =IF(Configuration!Y4="EN","Concrete cone failure","Rupture par cône de béton") -> Rupture par cône de béton | I89: (NF EN1992-4 §7.2.1.4) | J89: =$H$44/G94 -> 0.69920629
C90: hef = | D90: =$D$16 -> 230 | E90: mm | G90: =IF(R106>=3,"h'ef =","hef =") -> hef = | H90: =IF(R106>=3,G115,D16) -> 230 | I90: mm
C91: Scr,N = | D91: =3*$D$16 -> 690 | E91: mm | G91: =IF(R106>=3,"S'cr,N =","Scr,N =") -> Scr,N = | H91: =3*H90 -> 690 | I91: mm
C92: Ccr,N = | D92: =D91/2 -> 345 | E92: mm | G92: =IF(R106>=3,"C'cr,N =","Ccr,N =") -> Ccr,N = | H92: =H91/2 -> 345 | I92: mm
F94: NRk,c / γMc = | G94: =G96/H75 -> 7684.0374 | H94: daN
N95: kcr,N = | O95: =IF($O$10="Connu",O11,7.7) -> 7.7 | P95: Béton fissuré
F96: = | G96: =E99*H101*F104*F106*F108*F111 -> 11526.056 | H96: daN | N96: kucr,N = | O96: =IF($O$10="Connu",O12,11) -> 11 | P96: Béton NON fissuré | U96: mm | V96: daN
T97: CdG N | U97: {=(0.5*(SUM(F51:F60)-INDEX(F51:F60,J37)))} -> 150 | V97: =D43 -> 2900 | W97: =PRODUCT(U97:V97) -> 435000
T98: CdG M | U98: =(SUMPRODUCT(E51:E60,I51:I60)/SUM(I51:I60)) -> 275 | V98: =SUM(I51:I60) -> 2472.7273 | W98: =PRODUCT(U98:V98) -> 680000
D99: = | E99: =0.1*H99*SQRT(G7)*H90^1.5 -> 21015.758 | F99: daN | G99: k1 = | H99: =IF($D$8="Fissuré",O95,O96) -> 11 | I99: =IF(D8="Fissuré",P95,P96) -> Béton NON fissuré | P99: Scr,N2 | Q99: =SUM(Q100:Q102) -> 990 | V99: =SUM(V97:V98) -> 5372.7273 | W99: =SUM(W97:W98) -> 1115000
P100: C22 | Q100: =IF(J31=0,H92,MIN(H92,$J$31)) -> 345 | R100: =IF($J$31=0,0,IF($J$31<D92,1,0)) -> 0
D101: A0c,N = | E101: =H91*H91 -> 476100 | F101: mm² | G101: = | H101: =E102/E101 -> 0.79017013 | P101: S2 | Q101: =MIN(($J$37-1)*$J$33,($J$37-1)*H91) -> 300 | V101: eN = | W101: =IF(H45=0,0,(W99/V99)-U97) -> 57.529611 | X101: mm
D102: Ac,N = | E102: =Q105*Q99 -> 376200 | F102: mm² | P102: C21 | Q102: =IF(J35=0,H92,MIN(H92,$J$35)) -> 345 | R102: =IF($J$35=0,0,IF($J$35<D92,1,0)) -> 0
E104: = | F104: =IF(0.7+0.3*(N109/H92)>1,1,0.7+0.3*(N109/H92)) -> 0.82173913 | N104: C11 | O104: S1 | P104: C12 | Q104: Scr,N1
N105: =IF(D40=0,H92,MIN(H92,$D$40)) -> 140 | O105: =MIN(($J$40-1)*$F$40,($J$40-1)*H91) -> 100 | P105: =IF(H40=0,H92,MIN(H92,$H$40)) -> 140 | Q105: =SUM(N105:P105) -> 380
E106: = | F106: =IF(H90<100,0.5+(H90/200),1) -> 1 | N106: =IF($D$40=0,0,IF($D$40<D92,1,0)) -> 1 | P106: =IF($H$40=0,0,IF($H$40<D92,1,0)) -> 1 | R106: =SUM(N106,P106,R102,R100) -> 2
E108: = | F108: =1/(1+2*(F110/H91)) -> 0.8570798
M109: C = | N109: =MIN(N105,P105,Q102,Q100) -> 140
E110: eN = | F110: =$W$101 -> 57.529611 | G110: mm
F111: =IF($D$62/$D$16>=1.5,IF(2-($D$62/(1.5*$D$16))<=0,1,2-($D$62/(1.5*$D$16))),1) -> 0.98550725
C113: =IF(R106>=3,IF(Configuration!Y4="EN","3 or more edge distances are less than Ccr,n","3 distances au bord (ou plus) sont inférieures à Ccr,n"),IF(Configuration!Y4="EN","Less than 3 edge distances are less than Ccr,n. h'ef is not used.","moins de 3 distances au bord sont inférieures à Ccr,n. h'ef n'est pas utilisé.")) -> moins de 3 distances au bord sont inférieures à Ccr,n. h'ef n'est pas utilisé. | I113: =IF(R106>=3," (NF EN1992-4 §7.2.1.4 (8) )","")
F115: = | G115: =MAX(D16*MAX(J31,J35,H40,D40)/D92,D16*MAX(F40,J33)/D91) -> 93.333333 | H115: mm
F118: = | G118: =3*G115 -> 280 | H118: mm
A120: =IF(G121="N/A","N/A","") -> N/A
C121: =IF(Configuration!Y4="EN","Pull-out failure","Rupture par extraction-glissement") -> Rupture par extraction-glissement | G121: =IF(D13="Droite","N/A","") -> N/A | I121: (NF EN1992-4 §7.2.1.5) | J121: =IF(D13="Droite",0,$H$44/F122) -> 0
E122: NRk,p / γMp = | F122: =F124/H80 -> 98960.169 | G122: daN
E124: NRk,p = k2 * Ah * fck = | F124: =E125*E126*G7*0.1 -> 148440.25 | G124: daN | M124: k2 = | N124: =IF($P$10="Connu",P11,7.5) -> 7.5 | O124: Béton fissuré
D125: k2 = | E125: =IF($D$8="Fissuré",N124,N125) -> 10.5 | F125: =IF(A39="Fissuré",O124,O125) -> Béton NON fissuré | M125: k2 = | N125: =IF($P$10="Connu",P12,10.5) -> 10.5 | O125: Béton NON fissuré
D126: Ah = | E126: =0.25*PI()*(D21^2-D14^2) -> 4712.389 | F126: mm²
...

Sheet T Tendus
C3: =IF(Configuration!Y4="EN","General Data","Données Générales") -> Données Générales | AH3: =IF(Configuration!Y4="EN","Calculation of distances m","Calcul des distances m") -> Calcul des distances m
AI4: =IF(Configuration!Y4="EN","Weld","Soudure") -> Soudure | AM4: =IF(Configuration!Y4="EN","Fillet radius","Rayon de congés") -> Rayon de congés
G5: =IF(Configuration!Y4="EN","End plate thickness t =","Epaisseur de platine t =") -> Epaisseur de platine t = | H5: 15 | J5: mm | M5: =IF(Configuration!Y4="EN","Grade:","Nuance :") -> Nuance : | N5: S355 | R5: =IF(Configuration!Y4="EN","Bolts:","Boulons :") -> Boulons : | S5: 30 | V5: =IF(Configuration!Y4="EN","Class:","Classe :") -> Classe : | W5: S355 | AJ5: =IF(Configuration!Y4="EN","Fillet weld a =","Cordon de soudure a =") -> Cordon de soudure a = | AK5: 5 | AN5: =IF(Configuration!Y4="EN","fillet radius r =","rayon de congé r =") -> rayon de congé r = | AO5: 5
M6: fy = | N6: =VLOOKUP(N5,Data!$A$3:$B$34,2,FALSE) -> 35.5 | O6: daN/mm² | R6: As = | S6: =VLOOKUP(S5,Data!K3:O20,5,FALSE) -> 561 | U6: mm² | W6: fub = | X6: =VLOOKUP(W5,Data!$F$3:$H$16,3,FALSE) -> 49 | Y6: daN/mm² | AJ6: m = | AK6: 30 | AN6: m = | AO6: 30
AJ7: mx = | AK7: =AK6-SQRT(2)*0.8*AK5 -> 24.343146 | AN7: mx = | AO7: =AO6-0.8*AO5 -> 26
C8: --------------------------------------------------------------------------------------------------------------------------------
C9: =IF(Configuration!Y4="EN","Single Bolt Pair Working Alone","Paire de Boulons Travaillant Seuls") -> Paire de Boulons Travaillant Seuls
C11: =IF(Configuration!Y4="EN","Unstiffened outer bolt pair","Paire de boulons extérieurs non raidis") -> Paire de boulons extérieurs non raidis | V11: SCI P398 Step 1A | X11: FT,Rd = | Y11: =MIN(T14:U16) -> 18432.692 | AA11: daN
C12: e = | D12: 45 | F12: mm | G12: w = | H12: 90 | J12: mm | K12: mx = | L12: 39 | N12: mm | O12: ex = | P12: 45 | R12: mm | S12: n = | T12: =IF(MIN(D12,P12)>1.25*H12,1.25*H12,MIN(D12,P12)) -> 45 | V12: mm
F14: =IF(Configuration!Y4="EN","Failure mode 1:","Mode de ruine 1 :") -> Mode de ruine 1 : | H14: leff,1 = | I14: =MIN(L19,L22,L25,Z19,Z22,Z25,Z28) -> 90 | K14: mm | M14: Mpl,1,Rd = | N14: =0.25*(I14*0.001)*H5^2*N6/G_M0 -> 179.71875 | P14: daN.m | S14: FT,1,Rd = | T14: =4*N14/(0.001*L12) -> 18432.692 | V14: daN
F15: =IF(Configuration!Y4="EN","Failure mode 2:","Mode de ruine 2 :") -> Mode de ruine 2 : | H15: leff,2 = | I15: =MIN(Z19,Z22,Z25,Z28) -> 90 | K15: mm | M15: Mpl,2,Rd = | N15: =0.25*(I15*0.001)*H5^2*N6/G_M0 -> 179.71875 | P15: daN.m | S15: FT,2,Rd = | T15: =(2*N15+0.001*T12*T16)/(0.001*(T12+L12)) -> 25484.818 | V15: daN
F16: =IF(Configuration!Y4="EN","Failure mode 3:","Mode de ruine 3 :") -> Mode de ruine 3 : | M16: FB,Rd = | N16: =0.9*S6*X6/1.25 -> 19792.08 | P16: daN | S16: FT,3,Rd = | T16: =2*N16 -> 39584.16 | V16: daN
C17: =IF(Configuration!Y4="EN","Circular Pattern","Mode Circulaire") -> Mode Circulaire | Q17: =IF(Configuration!Y4="EN","Non-Circular Pattern","Mode non Circulaire") -> Mode non Circulaire
L19: =2*PI()*L12 -> 245.04423 | N19: mm | Z19: =0.5*H12+D12 -> 90 | AB19: mm
L22: =PI()*L12+2*P12 -> 212.52211 | N22: mm | Z22: =4*L12+1.25*P12 -> 212.25 | AB22: mm
L25: =PI()*L12+H12 -> 212.52211 | N25: mm | Z25: =2*L12+0.625*P12+D12 -> 151.125 | AB25: mm
Z28: =2*L12+0.625*P12+0.5*H12 -> 151.125 | AB28: mm
C31: ----------------------------------------------------------------------------------------------------------------------------------------------------------
C33: =IF(Configuration!Y4="EN","Stiffened outer bolt pair","Paire de boulons extérieurs raidis") -> Paire de boulons extérieurs raidis | V33: SCI P398 Step 1A | X33: FT,Rd = | Y33: =MIN(T36:U38) -> 28868.259 | AA33: daN
C34: e = | D34: 75 | F34: mm | G34: m = | H34: 61.8 | J34: mm | K34: mx = | L34: 61.8 | N34: mm | O34: ex = | P34: 75 | R34: mm | S34: n = | T34: =IF(MIN(D34,P34)>1.25*H34,1.25*H34,MIN(D34,P34)) -> 75 | V34: mm
F36: =IF(Configuration!Y4="EN","Failure mode 1:","Mode de ruine 1 :") -> Mode de ruine 1 : | H36: leff,1 = | I36: =MIN(L41,L44,Z41,Z44,Z47) -> 245.475 | K36: mm | M36: Mpl,1,Rd = | N36: =0.25*(I36*0.001)*H5^2*N6/G_M0 -> 490.18289 | P36: daN.m | S36: FT,1,Rd = | T36: =4*N36/(0.001*H34) -> 31727.048 | V36: daN
F37: =IF(Configuration!Y4="EN","Failure mode 2:","Mode de ruine 2 :") -> Mode de ruine 2 : | H37: leff,2 = | I37: =MIN(Z41,Z44,Z47) -> 245.475 | K37: mm | M37: Mpl,2,Rd = | N37: =0.25*(I37*0.001)*H5^2*N6/G_M0 -> 490.18289 | P37: daN.m | S37: FT,2,Rd = | T37: =(2*N37+0.001*T34*T38)/(0.001*(T34+H34)) -> 28868.259 | V37: daN
F38: =IF(Configuration!Y4="EN","Failure mode 3:","Mode de ruine 3 :") -> Mode de ruine 3 : | M38: FB,Rd = | N38: =0.9*S6*X6/1.25 -> 19792.08 | P38: daN | S38: FT,3,Rd = | T38: =2*N38 -> 39584.16 | V38: daN | AF38: λ2 \ α | AG38: =INDEX(AL40:AV40,MATCH(AG39,AL41:AV41,0)) -> 6.283 | AH38: =(AG38*(AI39-AH39)+AI38*(AH39-AG39))/(AI39-AG39) -> 6.1516859 | AI38: =INDEX(AL40:AV40,MATCH(AI39,AL41:AV41,0)) -> 6
C39: =IF(Configuration!Y4="EN","Circular Pattern","Mode Circulaire") -> Mode Circulaire | Q39: =IF(Configuration!Y4="EN","Non-Circular Pattern","Mode non Circulaire") -> Mode non Circulaire | AF39: =AK41 -> 0.45 | AG39: =INDEX(AL41:AV41,MATCH(T42,AL41:AV41,1)) -> 0.41951095 | AH39: =T42 -> 0.45175439 | AI39: {=INDEX(AL41:AV41,MATCH(T42,AL41:AV41,1)+1)} -> 0.489
AF40: =V42 -> 0.45175439 | AH40: =(AH38*(AF42-AF40)+AH41*(AF40-AF39))/(AF42-AF39) -> 6.1483122 | AK40: λ2 \ α | AL40: 8 | AM40: 8 | AN40: 7 | AO40: 6.283 | AP40: 6 | AQ40: 5.5 | AR40: 5 | AS40: 4.75 | AT40: 4.5 | AU40: 4.45 | AV40: 4.45
L41: =2*PI()*H34 -> 388.30085 | N41: mm | Z41: =X42*H34-(2*H34+0.625*D34)+P34 -> 284.4907 | AB41: mm | AF41: λ2 \ α | AG41: =INDEX(AL40:AV40,MATCH(AG42,AL42:AV42,0)) -> 6.283 | AH41: =(AG41*(AI42-AH42)+AI41*(AH42-AG42))/(AI42-AG42) -> 6.0555366 | AI41: =INDEX(AL40:AV40,MATCH(AI42,AL42:AV42,0)) -> 6 | AK41: =INDEX(Data!$Y$4:$Y$33,MATCH(V42,Data!$Y$4:$Y$33,1)) -> 0.45 | AL41: =VLOOKUP($AK41,Data!$Y$4:$AJ$33,2,FALSE) -> 0 | AM41: =VLOOKUP($AK41,Data!$Y$4:$AJ$33,3,FALSE) -> 0.234 | AN41: =VLOOKUP($AK41,Data!$Y$4:$AJ$33,4,FALSE) -> 0.314 | AO41: =VLOOKUP($AK41,Data!$Y$4:$AJ$33,5,FALSE) -> 0.41951095 | AP41: =VLOOKUP($AK41,Data!$Y$4:$AJ$33,6,FALSE) -> 0.489 | AQ41: =VLOOKUP($AK41,Data!$Y$4:$AJ$33,7,FALSE) -> 0.56484972 | AR41: =VLOOKUP($AK41,Data!$Y$4:$AJ$33,8,FALSE) -> 0.6643403 | AS41: =VLOOKUP($AK41,Data!$Y$4:$AJ$33,9,FALSE) -> 0.73586347 | AT41: =VLOOKUP($AK41,Data!$Y$4:$AJ$33,10,FALSE) -> 0.80830362 | AU41: =VLOOKUP($AK41,Data!$Y$4:$AJ$33,11,FALSE) -> 0.823892 | AV41: =VLOOKUP($AK41,Data!$Y$4:$AJ$33,12,FALSE) -> 1
S42: λ1 = | T42: =H34/(H34+D34) -> 0.45175439 | U42: λ2 = | V42: =L34/(H34+D34) -> 0.45175439 | W42: α = | X42: =AH40 -> 6.1483122 | AF42: =AK42 -> 0.5 | AG42: =INDEX(AL42:AV42,MATCH(T42,AL42:AV42,1)) -> 0.39750382 | AH42: =T42 -> 0.45175439 | AI42: {=INDEX($AL42:$AV42,MATCH(T42,$AL42:$AV42,1)+1)} -> 0.465 | AK42: {=INDEX(Data!$Y$4:$Y$33,MATCH(V42,Data!$Y$4:$Y$33,1)+1)} -> 0.5 | AL42: =VLOOKUP($AK42,Data!$Y$5:$AJ$34,2,FALSE) -> 0 | AM42: =VLOOKUP($AK42,Data!$Y$5:$AJ$34,3,FALSE) -> 0.234 | AN42: =VLOOKUP($AK42,Data!$Y$5:$AJ$34,4,FALSE) -> 0.298 | AO42: =VLOOKUP($AK42,Data!$Y$5:$AJ$34,5,FALSE) -> 0.39750382 | AP42: =VLOOKUP($AK42,Data!$Y$5:$AJ$34,6,FALSE) -> 0.465 | AQ42: =VLOOKUP($AK42,Data!$Y$5:$AJ$34,7,FALSE) -> 0.54330107 | AR42: =VLOOKUP($AK42,Data!$Y$5:$AJ$34,8,FALSE) -> 0.64462557 | AS42: =VLOOKUP($AK42,Data!$Y$5:$AJ$34,9,FALSE) -> 0.72027509 | AT42: =VLOOKUP($AK42,Data!$Y$5:$AJ$34,10,FALSE) -> 0.79775853 | AU42: =VLOOKUP($AK42,Data!$Y$5:$AJ$34,11,FALSE) -> 0.81426388 | AV42: =VLOOKUP($AK42,Data!$Y$5:$AJ$34,12,FALSE) -> 1
L44: =PI()*H34+2*P34 -> 344.15043 | N44: mm | Z44: =2*H34+0.625*D34+P34 -> 245.475 | AB44: mm
Z47: =4*H34+1.25*D34 -> 340.95 | AB47: mm
C50: ----------------------------------------------------------------------------------------------------------------------------------------------------------
C52: Paire de boulons intérieurs | V52: SCI P398 Step 1A | X52: FT,Rd = | Y52: =MIN(T55:U57) -> 25486.556 | AA52: daN
C53: e = | D53: 75 | F53: mm | G53: m = | H53: 204 | J53: mm | K53: m2 = | L53: 82 | N53: mm | S53: n = | T53: =IF(D53>1.25*H53,1.25*H53,D53) -> 75 | V53: mm
F55: Mode de ruine 1 : | H55: leff,1 = | I55: =MIN(L60,Z60) -> 1037.1048 | K55: mm | M55: Mpl,1,Rd = | N55: =0.25*(I55*0.001)*H5^2*N6/G_M0 -> 2070.9686 | P55: daN.m | S55: FT,1,Rd = | T55: =4*N55/(0.001*H53) -> 40607.227 | V55: daN
F56: Mode de ruine 2 : | H56: leff,2 = | I56: =MIN(Z60) -> 1037.1048 | K56: mm | M56: Mpl,2,Rd = | N56: =0.25*(I56*0.001)*H5^2*N6/G_M0 -> 2070.9686 | P56: daN.m | S56: FT,2,Rd = | T56: =(2*N56+0.001*T53*T57)/(0.001*(T53+H53)) -> 25486.556 | V56: daN
F57: Mode de ruine 3 : | M57: FB,Rd = | N57: =0.9*S6*X6/1.25 -> 19792.08 | P57: daN | S57: FT,3,Rd = | T57: =2*N57 -> 39584.16 | V57: daN | AF57: λ2 \ α | AG57: =INDEX(AL59:AV59,MATCH(AG58,AL60:AV60,0)) -> 5.5 | AH57: =(AG57*(AI58-AH58)+AI57*(AH58-AG58))/(AI58-AG58) -> 5.2668908 | AI57: =INDEX(AL59:AV59,MATCH(AI58,AL60:AV60,0)) -> 5
C58: Mode Circulaire | Q58: Mode non Circulaire | AF58: =AK60 -> 0.25 | AG58: =INDEX(AL60:AV60,MATCH(T61,AL60:AV60,1)) -> 0.69505858 | AH58: =T61 -> 0.7311828 | AI58: {=INDEX(AL60:AV60,MATCH(T61,AL60:AV60,1)+1)} -> 0.77254203
AF59: =V61 -> 0.29390681 | AH59: =(AH57*(AF61-AF59)+AH60*(AF59-AF58))/(AF61-AF58) -> 5.0838469 | AK59: λ2 \ α | AL59: 8 | AM59: 8 | AN59: 7 | AO59: 6.283 | AP59: 6 | AQ59: 5.5 | AR59: 5 | AS59: 4.75 | AT59: 4.5 | AU59: 4.45 | AV59: 4.45
L60: =2*PI()*H53 -> 1281.7698 | N60: mm | Z60: =X61*H53 -> 1037.1048 | AB60: mm | AF60: λ2 \ α | AG60: =INDEX(AL59:AV59,MATCH(AG61,AL61:AV61,0)) -> 5.5 | AH60: =(AG60*(AI61-AH61)+AI60*(AH61-AG61))/(AI61-AG61) -> 5.0584449 | AI60: =INDEX(AL59:AV59,MATCH(AI61,AL61:AV61,0)) -> 5 | AK60: =INDEX(Data!$Y$4:$Y$33,MATCH(V61,Data!$Y$4:$Y$33,1)) -> 0.25 | AL60: =VLOOKUP($AK60,Data!$Y$4:$AJ$33,2,FALSE) -> 0 | AM60: =VLOOKUP($AK60,Data!$Y$4:$AJ$33,3,FALSE) -> 0.332 | AN60: =VLOOKUP($AK60,Data!$Y$4:$AJ$33,4,FALSE) -> 0.4475 | AO60: =VLOOKUP($AK60,Data!$Y$4:$AJ$33,5,FALSE) -> 0.55659705 | AP60: =VLOOKUP($AK60,Data!$Y$4:$AJ$33,6,FALSE) -> 0.63 | AQ60: =VLOOKUP($AK60,Data!$Y$4:$AJ$33,7,FALSE) -> 0.69505858 | AR60: =VLOOKUP($AK60,Data!$Y$4:$AJ$33,8,FALSE) -> 0.77254203 | AS60: =VLOOKUP($AK60,Data!$Y$4:$AJ$33,9,FALSE) -> 0.81930718 | AT60: =VLOOKUP($AK60,Data!$Y$4:$AJ$33,10,FALSE) -> 0.87019868 | AU60: =VLOOKUP($AK60,Data!$Y$4:$AJ$33,11,FALSE) -> 0.89312277 | AV60: =VLOOKUP($AK60,Data!$Y$4:$AJ$33,12,FALSE) -> 1
S61: λ1 = | T61: =H53/(H53+D53) -> 0.7311828 | U61: λ2 = | V61: =L53/(H53+D53) -> 0.29390681 | W61: α = | X61: =AH59 -> 5.0838469 | AF61: =AK61 -> 0.3 | AG61: =INDEX(AL61:AV61,MATCH(T61,AL61:AV61,1)) -> 0.65425369 | AH61: =T61 -> 0.7311828 | AI61: {=INDEX($AL61:$AV61,MATCH(T61,$AL61:$AV61,1)+1)} -> 0.74136526 | AK61: {=INDEX(Data!$Y$4:$Y$33,MATCH(V61,Data!$Y$4:$Y$33,1)+1)} -> 0.3 | AL61: =VLOOKUP($AK61,Data!$Y$5:$AJ$34,2,FALSE) -> 0 | AM61: =VLOOKUP($AK61,Data!$Y$5:$AJ$34,3,FALSE) -> 0.289 | AN61: =VLOOKUP($AK61,Data!$Y$5:$AJ$34,4,FALSE) -> 0.399 | AO61: =VLOOKUP($AK61,Data!$Y$5:$AJ$34,5,FALSE) -> 0.51258278 | AP61: =VLOOKUP($AK61,Data!$Y$5:$AJ$34,6,FALSE) -> 0.585 | AQ61: =VLOOKUP($AK61,Data!$Y$5:$AJ$34,7,FALSE) -> 0.65425369 | AR61: =VLOOKUP($AK61,Data!$Y$5:$AJ$34,8,FALSE) -> 0.74136526 | AS61: =VLOOKUP($AK61,Data!$Y$5:$AJ$34,9,FALSE) -> 0.79317371 | AT61: =VLOOKUP($AK61,Data!$Y$5:$AJ$34,10,FALSE) -> 0.85048395 | AU61: =VLOOKUP($AK61,Data!$Y$5:$AJ$34,11,FALSE) -> 0.86836475 | AV61: =VLOOKUP($AK61,Data!$Y$5:$AJ$34,12,FALSE) -> 1
C63: ----------------------------------------------------------------------------------------------------------------------------------------------------------
C65: =IF(Configuration!Y4="EN","Double-stiffened inner bolt pair","Paire de boulons intérieurs doublement raidis") -> Paire de boulons intérieurs doublement raidis | V65: SCI P398 Step 1A | X65: FT,Rd = | Y65: =MIN(T68:U70) -> 26006.372 | AA65: daN | AF65: λ2 \ α | AG65: =INDEX(AL67:AV67,MATCH(AG66,AL68:AV68,0)) -> 5.5 | AH65: =(AG65*(AI66-AH66)+AI65*(AH66-AG66))/(AI66-AG66) -> 5.2668908 | AI65: =INDEX(AL67:AV67,MATCH(AI66,AL68:AV68,0)) -> 5
C66: e = | D66: 75 | F66: mm | G66: m = | H66: 204 | J66: mm | K66: m2U= | L66: 82 | N66: mm | O66: m2L= | P66: 170 | R66: mm | S66: n = | T66: =IF(D66>1.25*H66,1.25*H66,D66) -> 75 | V66: mm | AF66: =AK68 -> 0.25 | AG66: =INDEX(AL68:AV68,MATCH(T73,AL68:AV68,1)) -> 0.69505858 | AH66: =T73 -> 0.7311828 | AI66: {=INDEX(AL68:AV68,MATCH(T73,AL68:AV68,1)+1)} -> 0.77254203
AF67: =V73 -> 0.29390681 | AH67: =(AH65*(AF69-AF67)+AH68*(AF67-AF66))/(AF69-AF66) -> 5.0838469 | AK67: λ2 \ α | AL67: 8 | AM67: 8 | AN67: 7 | AO67: 6.283 | AP67: 6 | AQ67: 5.5 | AR67: 5 | AS67: 4.75 | AT67: 4.5 | AU67: 4.45 | AV67: 4.45
F68: =IF(Configuration!Y4="EN","Failure mode 1:","Mode de ruine 1 :") -> Mode de ruine 1 : | H68: leff,1 = | I68: =MIN(L73,Z73) -> 1073.4187 | K68: mm | M68: Mpl,1,Rd = | N68: =0.25*(I68*0.001)*H5^2*N6/G_M0 -> 2143.4829 | P68: daN.m | S68: FT,1,Rd = | T68: =4*N68/(0.001*H66) -> 42029.077 | V68: daN | AF68: λ2 \ α | AG68: =INDEX(AL67:AV67,MATCH(AG69,AL69:AV69,0)) -> 5.5 | AH68: =(AG68*(AI69-AH69)+AI68*(AH69-AG69))/(AI69-AG69) -> 5.0584449 | AI68: =INDEX(AL67:AV67,MATCH(AI69,AL69:AV69,0)) -> 5 | AK68: =INDEX(Data!$Y$4:$Y$33,MATCH(V73,Data!$Y$4:$Y$33,1)) -> 0.25 | AL68: =VLOOKUP($AK68,Data!$Y$4:$AJ$33,2,FALSE) -> 0 | AM68: =VLOOKUP($AK68,Data!$Y$4:$AJ$33,3,FALSE) -> 0.332 | AN68: =VLOOKUP($AK68,Data!$Y$4:$AJ$33,4,FALSE) -> 0.4475 | AO68: =VLOOKUP($AK68,Data!$Y$4:$AJ$33,5,FALSE) -> 0.55659705 | AP68: =VLOOKUP($AK68,Data!$Y$4:$AJ$33,6,FALSE) -> 0.63 | AQ68: =VLOOKUP($AK68,Data!$Y$4:$AJ$33,7,FALSE) -> 0.69505858 | AR68: =VLOOKUP($AK68,Data!$Y$4:$AJ$33,8,FALSE) -> 0.77254203 | AS68: =VLOOKUP($AK68,Data!$Y$4:$AJ$33,9,FALSE) -> 0.81930718 | AT68: =VLOOKUP($AK68,Data!$Y$4:$AJ$33,10,FALSE) -> 0.87019868 | AU68: =VLOOKUP($AK68,Data!$Y$4:$AJ$33,11,FALSE) -> 0.89312277 | AV68: =VLOOKUP($AK68,Data!$Y$4:$AJ$33,12,FALSE) -> 1
F69: =IF(Configuration!Y4="EN","Failure mode 2:","Mode de ruine 2 :") -> Mode de ruine 2 : | H69: leff,2 = | I69: =MIN(Z73) -> 1073.4187 | K69: mm | M69: Mpl,2,Rd = | N69: =0.25*(I69*0.001)*H5^2*N6/G_M0 -> 2143.4829 | P69: daN.m | S69: FT,2,Rd = | T69: =(2*N69+0.001*T66*T70)/(0.001*(T66+H66)) -> 26006.372 | V69: daN | AF69: =AK69 -> 0.3 | AG69: =INDEX(AL69:AV69,MATCH(T73,AL69:AV69,1)) -> 0.65425369 | AH69: =T73 -> 0.7311828 | AI69: {=INDEX($AL69:$AV69,MATCH(T73,$AL69:$AV69,1)+1)} -> 0.74136526 | AK69: {=INDEX(Data!$Y$4:$Y$33,MATCH(V73,Data!$Y$4:$Y$33,1)+1)} -> 0.3 | AL69: =VLOOKUP($AK69,Data!$Y$5:$AJ$34,2,FALSE) -> 0 | AM69: =VLOOKUP($AK69,Data!$Y$5:$AJ$34,3,FALSE) -> 0.289 | AN69: =VLOOKUP($AK69,Data!$Y$5:$AJ$34,4,FALSE) -> 0.399 | AO69: =VLOOKUP($AK69,Data!$Y$5:$AJ$34,5,FALSE) -> 0.51258278 | AP69: =VLOOKUP($AK69,Data!$Y$5:$AJ$34,6,FALSE) -> 0.585 | AQ69: =VLOOKUP($AK69,Data!$Y$5:$AJ$34,7,FALSE) -> 0.65425369 | AR69: =VLOOKUP($AK69,Data!$Y$5:$AJ$34,8,FALSE) -> 0.74136526 | AS69: =VLOOKUP($AK69,Data!$Y$5:$AJ$34,9,FALSE) -> 0.79317371 | AT69: =VLOOKUP($AK69,Data!$Y$5:$AJ$34,10,FALSE) -> 0.85048395 | AU69: =VLOOKUP($AK69,Data!$Y$5:$AJ$34,11,FALSE) -> 0.86836475 | AV69: =VLOOKUP($AK69,Data!$Y$5:$AJ$34,12,FALSE) -> 1
F70: =IF(Configuration!Y4="EN","Failure mode 3:","Mode de ruine 3 :") -> Mode de ruine 3 : | M70: FB,Rd = | N70: =0.9*S6*X6/1.25 -> 19792.08 | P70: daN | S70: FT,3,Rd = | T70: =2*N70 -> 39584.16 | V70: daN
C71: =IF(Configuration!Y4="EN","Circular Pattern","Mode Circulaire") -> Mode Circulaire | Q71: =IF(Configuration!Y4="EN","Non-Circular Pattern","Mode non Circulaire") -> Mode non Circulaire | AF71: λ'2 \ α' | AG71: =INDEX(AL72:AV72,MATCH(AG72,AL73:AV73,0)) -> 4.75 | AH71: =(AG71*(AI72-AH72)+AI71*(AH72-AG72))/(AI72-AG72) -> 4.6421744 | AI71: =INDEX(AL72:AV72,MATCH(AI72,AL73:AV73,0)) -> 4.5
AF72: =AK73 -> 0.6 | AG72: =INDEX(AL73:AV73,MATCH(T74,AL73:AV73,1)) -> 0.6946001 | AH72: =T74 -> 0.7311828 | AI72: {=INDEX(AL73:AV73,MATCH(T74,AL73:AV73,1)+1)} -> 0.77941926 | AK72: λ'2 \ α' | AL72: 8 | AM72: 8 | AN72: 7 | AO72: 6.283 | AP72: 6 | AQ72: 5.5 | AR72: 5 | AS72: 4.75 | AT72: 4.5 | AU72: 4.45 | AV72: 4.45
L73: =2*PI()*H66 -> 1281.7698 | N73: mm | S73: λ1 = | T73: =H66/(H66+D66) -> 0.7311828 | U73: λ2 = | V73: =L66/(H66+D66) -> 0.29390681 | W73: α = | X73: =AH67 -> 5.0838469 | Y73: (m2U) | Z73: =X73*H66+X74*H66-(4*H66+1.25*D66) -> 1073.4187 | AB73: mm | AF73: =V74 -> 0.609319 | AH73: =(AH71*(AF75-AF73)+AH74*(AF73-AF72))/(AF75-AF72) -> 4.6375681 | AK73: =INDEX(Data!$Y$4:$Y$33,MATCH(V74,Data!$Y$4:$Y$33,1)) -> 0.6 | AL73: =VLOOKUP($AK73,Data!$Y$4:$AJ$33,2,FALSE) -> 0 | AM73: =VLOOKUP($AK73,Data!$Y$4:$AJ$33,3,FALSE) -> 0.234 | AN73: =VLOOKUP($AK73,Data!$Y$4:$AJ$33,4,FALSE) -> 0.291 | AO73: =VLOOKUP($AK73,Data!$Y$4:$AJ$33,5,FALSE) -> 0.36907794 | AP73: =VLOOKUP($AK73,Data!$Y$4:$AJ$33,6,FALSE) -> 0.429 | AQ73: =VLOOKUP($AK73,Data!$Y$4:$AJ$33,7,FALSE) -> 0.50891493 | AR73: =VLOOKUP($AK73,Data!$Y$4:$AJ$33,8,FALSE) -> 0.61436577 | AS73: =VLOOKUP($AK73,Data!$Y$4:$AJ$33,9,FALSE) -> 0.6946001 | AT73: =VLOOKUP($AK73,Data!$Y$4:$AJ$33,10,FALSE) -> 0.77941926 | AU73: =VLOOKUP($AK73,Data!$Y$4:$AJ$33,11,FALSE) -> 0.79684157 | AV73: =VLOOKUP($AK73,Data!$Y$4:$AJ$33,12,FALSE) -> 1
S74: λ'1 = | T74: =H66/(H66+D66) -> 0.7311828 | U74: λ'2 = | V74: =P66/(H66+D66) -> 0.609319 | W74: α' = | X74: =AH73 -> 4.6375681 | Y74: (m2L) | AF74: λ'2 \ α' | AG74: =INDEX(AL72:AV72,MATCH(AG75,AL74:AV74,0)) -> 4.75 | AH74: =(AG74*(AI75-AH75)+AI74*(AH75-AG75))/(AI75-AG75) -> 4.6174597 | AI74: =INDEX(AL72:AV72,MATCH(AI75,AL74:AV74,0)) -> 4.5 | AK74: {=INDEX(Data!$Y$4:$Y$33,MATCH(V74,Data!$Y$4:$Y$33,1)+1)} -> 0.65 | AL74: =VLOOKUP($AK74,Data!$Y$5:$AJ$34,2,FALSE) -> 0 | AM74: =VLOOKUP($AK74,Data!$Y$5:$AJ$34,3,FALSE) -> 0.234 | AN74: =VLOOKUP($AK74,Data!$Y$5:$AJ$34,4,FALSE) -> 0.291 | AO74: =VLOOKUP($AK74,Data!$Y$5:$AJ$34,5,FALSE) -> 0.36082527 | AP74: =VLOOKUP($AK74,Data!$Y$5:$AJ$34,6,FALSE) -> 0.416 | AQ74: =VLOOKUP($AK74,Data!$Y$5:$AJ$34,7,FALSE) -> 0.4969944 | AR74: =VLOOKUP($AK74,Data!$Y$5:$AJ$34,8,FALSE) -> 0.60290372 | AS74: =VLOOKUP($AK74,Data!$Y$5:$AJ$34,9,FALSE) -> 0.6845135 | AT74: =VLOOKUP($AK74,Data!$Y$5:$AJ$34,10,FALSE) -> 0.77254203 | AU74: =VLOOKUP($AK74,Data!$Y$5:$AJ$34,11,FALSE) -> 0.79042282 | AV74: =VLOOKUP($AK74,Data!$Y$5:$AJ$34,12,FALSE) -> 1
AF75: =AK74 -> 0.65 | AG75: =INDEX(AL74:AV74,MATCH(T74,AL74:AV74,1)) -> 0.6845135 | AH75: =T74 -> 0.7311828 | AI75: {=INDEX($AL74:$AV74,MATCH(T74,$AL74:$AV74,1)+1)} -> 0.77254203
C76: ----------------------------------------------------------------------------------------------------------------------------------------------------------
C78: =IF(Configuration!Y4="EN","Bolt pair far from any stiffener","Paire de boulons loin de tout raidisseurs") -> Paire de boulons loin de tout raidisseurs | V78: SCI P398 Step 1A | X78: FT,Rd = | Y78: =MIN(T81:U83) -> 33528.7 | AA78: daN
C79: e = | D79: 80 | F79: mm | G79: m = | H79: 40 | J79: mm | S79: n = | T79: =IF(D79>1.25*H79,1.25*H79,D79) -> 50 | V79: mm
F81: =IF(Configuration!Y4="EN","Failure mode 1:","Mode de ruine 1 :") -> Mode de ruine 1 : | H81: leff,1 = | I81: =MIN(L86,Z86) -> 251.32741 | K81: mm | M81: Mpl,1,Rd = | N81: =0.25*(I81*0.001)*H5^2*N6/G_M0 -> 501.86943 | P81: daN.m | S81: FT,1,Rd = | T81: =4*N81/(0.001*H79) -> 50186.943 | V81: daN
F82: =IF(Configuration!Y4="EN","Failure mode 2:","Mode de ruine 2 :") -> Mode de ruine 2 : | H82: leff,2 = | I82: =MIN(Z86) -> 260 | K82: mm | M82: Mpl,2,Rd = | N82: =0.25*(I82*0.001)*H5^2*N6/G_M0 -> 519.1875 | P82: daN.m | S82: FT,2,Rd = | T82: =(2*N82+0.001*T79*T83)/(0.001*(T79+H79)) -> 33528.7 | V82: daN
F83: =IF(Configuration!Y4="EN","Failure mode 3:","Mode de ruine 3 :") -> Mode de ruine 3 : | M83: FB,Rd = | N83: =0.9*S6*X6/1.25 -> 19792.08 | P83: daN | S83: FT,3,Rd = | T83: =2*N83 -> 39584.16 | V83: daN
C84: =IF(Configuration!Y4="EN","Circular Pattern","Mode Circulaire") -> Mode Circulaire | Q84: =IF(Configuration!Y4="EN","Non-Circular Pattern","Mode non Circulaire") -> Mode non Circulaire
L86: =2*PI()*H79 -> 251.32741 | N86: mm | Z86: =4*H79+1.25*D79 -> 260 | AB86: mm
C89: ----------------------------------------------------------------------------------------------------------------------------------------------------------
C91: =IF(Configuration!Y4="EN","Unstiffened outer double bolt pair","Double paire de boulons extérieurs non raidis") -> Double paire de boulons extérieurs non raidis | X91: FT,Rd = | Y91: =MIN(T94:U95,T96) -> 31661.157 | AA91: daN
C92: e1 = | D92: 80 | F92: mm | G92: w = | H92: 90 | J92: mm | K92: mx = | L92: 30.2 | N92: mm | O92: ex = | P92: 35 | R92: mm | S92: n1 = | T92: =D92 -> 80 | V92: mm | AA92: CNC2M-N0175 Annexe A
C93: e2 = | D93: 35 | F93: mm | S93: n2 = | T93: =MIN(D93,1.25*L92+T92) -> 35 | V93: mm
F94: =IF(Configuration!Y4="EN","Failure mode 1:","Mode de ruine 1 :") -> Mode de ruine 1 : | H94: leff,1 = | I94: =MIN(L99,L102,L105,L108,Z99,Z102,Z105,Z108,Z111) -> 160 | K94: mm | M94: Mpl,1,Rd = | N94: =0.25*(I94*0.001)*$H$5^2*$N$6/G_M0 -> 319.5 | P94: daN.m | S94: FT,1,Rd = | T94: =4*N94/(0.001*L92) -> 42317.881 | V94: daN
F95: =IF(Configuration!Y4="EN","Failure mode 2:","Mode de ruine 2 :") -> Mode de ruine 2 : | H95: leff,2 = | I95: =MIN(Z99,Z102,Z105,Z108,Z111) -> 160 | K95: mm | M95: Mpl,2,Rd = | N95: =0.25*(I95*0.001)*$H$5^2*$N$6/G_M0 -> 319.5 | P95: daN.m | S95: FT,2,Rd = | T95: =MIN((2*N95+0.5*T96*((0.001*(T92^2+2*T93^2+2*T92*T93))/(T92+T93)))/(0.001*(L92+T92+T93)),(2*N94+0.5*T96*0.001*T92)/(0.001*(L92+T92))) -> 31661.157 | V95: daN
F96: =IF(Configuration!Y4="EN","Failure mode 3:","Mode de ruine 3 :") -> Mode de ruine 3 : | M96: FB,Rd = | N96: =0.9*$S$6*$X$6/1.25 -> 19792.08 | P96: daN | S96: FT,3,Rd = | T96: =0.9*4*N96 -> 71251.488 | V96: daN
C97: =IF(Configuration!Y4="EN","Circular Pattern","Mode Circulaire") -> Mode Circulaire | Q97: =IF(Configuration!Y4="EN","Non-Circular Pattern","Mode non Circulaire") -> Mode non Circulaire
L99: =4*PI()*L92 -> 379.50439 | N99: mm | Z99: =0.5*(H92+2*D92+2*D93) -> 160 | AB99: mm
L102: =PI()*L92+H92+2*D92 -> 344.8761 | N102: mm | Z102: =4*L92+1.25*P92+D92 -> 244.55 | AB102: mm
L105: =2*PI()*L92+2*D92 -> 349.7522 | N105: mm | Z105: =2*L92+0.625*P92+D92+D93 -> 197.275 | AB105: mm
L108: =PI()*L92+2*D92+2*D93 -> 324.8761 | N108: mm | Z108: =2*L92+0.625*P92+D92+0.5*H92 -> 207.275 | AB108: mm
Z111: =8*L92+2.5*P92 -> 329.1 | AB111: mm
C113: ----------------------------------------------------------------------------------------------------------------------------------------------------------
C115: =IF(Configuration!Y4="EN","Inner double bolt pair","Double paire de boulons intérieurs") -> Double paire de boulons intérieurs | X115: FT,Rd = | Y115: =MIN(T118:U119,T120) -> 34618.417 | AA115: daN
C116: e1 = | D116: 80 | F116: mm | G116: e2 = | H116: 35 | J116: mm | K116: m = | L116: 30.2 | N116: mm | O116: m2 = | P116: 35 | R116: mm | S116: n1 = | T116: =D116 -> 80 | V116: mm | AA116: CNC2M-N0175 Annexe A
S117: n2 = | T117: =MIN(H116,1.25*L116+T116) -> 35 | V117: mm
F118: =IF(Configuration!Y4="EN","Failure mode 1:","Mode de ruine 1 :") -> Mode de ruine 1 : | H118: leff,1 = | I118: =MIN(L123,Z123) -> 241.6 | K118: mm | M118: Mpl,1,Rd = | N118: =0.25*(I118*0.001)*$H$5^2*$N$6/G_M0 -> 482.445 | P118: daN.m | S118: FT,1,Rd = | T118: =4*N118/(0.001*L116) -> 63900 | V118: daN
F119: =IF(Configuration!Y4="EN","Failure mode 2:","Mode de ruine 2 :") -> Mode de ruine 2 : | H119: leff,2 = | I119: =MIN(Z123) -> 241.6 | K119: mm | M119: Mpl,2,Rd = | N119: =0.25*(I119*0.001)*$H$5^2*$N$6/G_M0 -> 482.445 | P119: daN.m | S119: FT,2,Rd = | T119: =MIN((2*N119+0.5*T120*((0.001*(T116^2+2*T117^2+2*T116*T117))/(T116+T117)))/(0.001*(L116+T116+T117)),(2*N118+0.5*T120*0.001*T116)/(0.001*(L116+T116))) -> 34618.417 | V119: daN
F120: =IF(Configuration!Y4="EN","Failure mode 3:","Mode de ruine 3 :") -> Mode de ruine 3 : | M120: FB,Rd = | N120: =0.9*$S$6*$X$6/1.25 -> 19792.08 | P120: daN | S120: FT,3,Rd = | T120: =0.9*4*N120 -> 71251.488 | V120: daN | AF120: λ2 \ α | AG120: =INDEX(AL122:AV122,MATCH(AG121,AL123:AV123,0)) -> 8 | AH120: =(AG120*(AI121-AH121)+AI120*(AH121-AG121))/(AI121-AG121) -> 8 | AI120: =INDEX(AL122:AV122,MATCH(AI121,AL123:AV123,0)) -> 8
C121: =IF(Configuration!Y4="EN","Circular Pattern","Mode Circulaire") -> Mode Circulaire | Q121: =IF(Configuration!Y4="EN","Non-Circular Pattern","Mode non Circulaire") -> Mode non Circulaire | AF121: =AK123 -> 0.2 | AG121: =INDEX(AL123:AV123,MATCH(T124,AL123:AV123,1)) -> 0 | AH121: =T124 -> 0.20798898 | AI121: {=INDEX(AL123:AV123,MATCH(T124,AL123:AV123,1)+1)} -> 0.39
AF122: =V124 -> 0.24104683 | AH122: =(AH120*(AF124-AF122)+AH123*(AF122-AF121))/(AF124-AF121) -> 8 | AK122: λ2 \ α | AL122: 8 | AM122: 8 | AN122: 7 | AO122: 6.283 | AP122: 6 | AQ122: 5.5 | AR122: 5 | AS122: 4.75 | AT122: 4.5 | AU122: 4.45 | AV122: 4.45
L123: =4*PI()*L116 -> 379.50439 | N123: mm | Z123: =X124*L116 -> 241.6 | AB123: mm | AF123: λ2 \ α | AG123: =INDEX(AL122:AV122,MATCH(AG124,AL124:AV124,0)) -> 8 | AH123: =(AG123*(AI124-AH124)+AI123*(AH124-AG124))/(AI124-AG124) -> 8 | AI123: =INDEX(AL122:AV122,MATCH(AI124,AL124:AV124,0)) -> 8 | AK123: =INDEX(Data!$Y$4:$Y$33,MATCH(V124,Data!$Y$4:$Y$33,1)) -> 0.2 | AL123: =VLOOKUP($AK123,Data!$Y$4:$AJ$33,2,FALSE) -> 0 | AM123: =VLOOKUP($AK123,Data!$Y$4:$AJ$33,3,FALSE) -> 0.39 | AN123: =VLOOKUP($AK123,Data!$Y$4:$AJ$33,4,FALSE) -> 0.504 | AO123: =VLOOKUP($AK123,Data!$Y$4:$AJ$33,5,FALSE) -> 0.60978095 | AP123: =VLOOKUP($AK123,Data!$Y$4:$AJ$33,6,FALSE) -> 0.68 | AQ123: =VLOOKUP($AK123,Data!$Y$4:$AJ$33,7,FALSE) -> 0.73953133 | AR123: =VLOOKUP($AK123,Data!$Y$4:$AJ$33,8,FALSE) -> 0.80555273 | AS123: =VLOOKUP($AK123,Data!$Y$4:$AJ$33,9,FALSE) -> 0.84635762 | AT123: =VLOOKUP($AK123,Data!$Y$4:$AJ$33,10,FALSE) -> 0.9 | AU123: =VLOOKUP($AK123,Data!$Y$4:$AJ$33,11,FALSE) -> 0.89312277 | AV123: =VLOOKUP($AK123,Data!$Y$4:$AJ$33,12,FALSE) -> 1
S124: λ1 = | T124: =L116/(L116+H116+D116) -> 0.20798898 | U124: λ2 = | V124: =P116/(L116+H116+D116) -> 0.24104683 | W124: α = | X124: =AH122 -> 8 | AF124: =AK124 -> 0.25 | AG124: =INDEX(AL124:AV124,MATCH(T124,AL124:AV124,1)) -> 0 | AH124: =T124 -> 0.20798898 | AI124: {=INDEX($AL124:$AV124,MATCH(T124,$AL124:$AV124,1)+1)} -> 0.332 | AK124: {=INDEX(Data!$Y$4:$Y$33,MATCH(V124,Data!$Y$4:$Y$33,1)+1)} -> 0.25 | AL124: =VLOOKUP($AK124,Data!$Y$5:$AJ$34,2,FALSE) -> 0 | AM124: =VLOOKUP($AK124,Data!$Y$5:$AJ$34,3,FALSE) -> 0.332 | AN124: =VLOOKUP($AK124,Data!$Y$5:$AJ$34,4,FALSE) -> 0.4475 | AO124: =VLOOKUP($AK124,Data!$Y$5:$AJ$34,5,FALSE) -> 0.55659705 | AP124: =VLOOKUP($AK124,Data!$Y$5:$AJ$34,6,FALSE) -> 0.63 | AQ124: =VLOOKUP($AK124,Data!$Y$5:$AJ$34,7,FALSE) -> 0.69505858 | AR124: =VLOOKUP($AK124,Data!$Y$5:$AJ$34,8,FALSE) -> 0.77254203 | AS124: =VLOOKUP($AK124,Data!$Y$5:$AJ$34,9,FALSE) -> 0.81930718 | AT124: =VLOOKUP($AK124,Data!$Y$5:$AJ$34,10,FALSE) -> 0.87019868 | AU124: =VLOOKUP($AK124,Data!$Y$5:$AJ$34,11,FALSE) -> 0.89312277 | AV124: =VLOOKUP($AK124,Data!$Y$5:$AJ$34,12,FALSE) -> 1
C125: ----------------------------------------------------------------------------------------------------------------------------------------------------------
C127: =IF(Configuration!Y4="EN","Central double bolt pair","Double paire de boulons centraux") -> Double paire de boulons centraux | X127: FT,Rd = | Y127: =MIN(T130:U131,T132) -> 35450.146 | AA127: daN
C128: e1 = | D128: 80 | F128: mm | G128: e2 = | H128: 35 | J128: mm | K128: m = | L128: 30.2 | N128: mm | S128: n1 = | T128: =D128 -> 80 | V128: mm | AA128: CNC2M-N0175 Annexe A
S129: n2 = | T129: =MIN(H128,1.25*L128+T128) -> 35 | V129: mm
F130: =IF(Configuration!Y4="EN","Failure mode 1:","Mode de ruine 1 :") -> Mode de ruine 1 : | H130: leff,1 = | I130: =MIN(L135,Z135) -> 264.55 | K130: mm | M130: Mpl,1,Rd = | N130: =0.25*(I130*0.001)*$H$5^2*$N$6/G_M0 -> 528.27328 | P130: daN.m | S130: FT,1,Rd = | T130: =4*N130/(0.001*L128) -> 69969.971 | V130: daN
F131: =IF(Configuration!Y4="EN","Failure mode 2:","Mode de ruine 2 :") -> Mode de ruine 2 : | H131: leff,2 = | I131: =MIN(Z135) -> 264.55 | K131: mm | M131: Mpl,2,Rd = | N131: =0.25*(I131*0.001)*$H$5^2*$N$6/G_M0 -> 528.27328 | P131: daN.m | S131: FT,2,Rd = | T131: =MIN((2*N131+0.5*T132*((0.001*(T128^2+2*T129^2+2*T128*T129))/(T128+T129)))/(0.001*(L128+T128+T129)),(2*N130+0.5*T132*0.001*T128)/(0.001*(L128+T128))) -> 35450.146 | V131: daN
F132: =IF(Configuration!Y4="EN","Failure mode 3:","Mode de ruine 3 :") -> Mode de ruine 3 : | M132: FB,Rd = | N132: =0.9*$S$6*$X$6/1.25 -> 19792.08 | P132: daN | S132: FT,3,Rd = | T132: =0.9*4*N132 -> 71251.488 | V132: daN
C133: =IF(Configuration!Y4="EN","Circular Pattern","Mode Circulaire") -> Mode Circulaire | Q133: =IF(Configuration!Y4="EN","Non-Circular Pattern","Mode non Circulaire") -> Mode non Circulaire
L135: =4*PI()*L128 -> 379.50439 | N135: mm | Z135: =4*L128+1.25*(D128+H128) -> 264.55 | AB135: mm
C139: =IF(Configuration!Y4="EN","Bolts as Part of a Group","Boulons Faisant Parti d'un Groupe") -> Boulons Faisant Parti d'un Groupe
C141: =IF(Configuration!Y4="EN","Bolt pair near an edge - Upper bolts as part of a group","Paire de boulons près d'un bord - Boulons supérieurs faisant parti d'un groupe") -> Paire de boulons près d'un bord - Boulons supérieurs faisant parti d'un groupe | V141: SCI P398 Step 1A | X141: FT,Rd = | Y141: =MIN(T144:U146) -> 8558.0357 | AA141: daN
C142: e = | D142: 110 | F142: mm | G142: m = | H142: 140 | J142: mm | K142: e1 = | L142: 75 | N142: mm | O142: p = | P142: 150 | R142: mm | S142: n = | T142: =IF(MIN(D142,L142)>1.25*H142,1.25*H142,MIN(D142,L142)) -> 75 | V142: mm
F144: =IF(Configuration!Y4="EN","Failure mode 1:","Mode de ruine 1 :") -> Mode de ruine 1 : | H144: leff,1 = | I144: =MIN(L149,Z149) -> 150 | K144: mm | M144: Mpl,1,Rd = | N144: =0.25*(I144*0.001)*H5^2*N6/G_M0 -> 299.53125 | P144: daN.m | S144: FT,1,Rd = | T144: =4*N144/(0.001*H142) -> 8558.0357 | V144: daN
F145: =IF(Configuration!Y4="EN","Failure mode 2:","Mode de ruine 2 :") -> Mode de ruine 2 : | H145: leff,2 = | I145: =MIN(Z149) -> 150 | K145: mm | M145: Mpl,2,Rd = | N145: =0.25*(I145*0.001)*H5^2*N6/G_M0 -> 299.53125 | P145: daN.m | S145: FT,2,Rd = | T145: =(2*N145+0.001*T142*T146)/(0.001*(T142+H142)) -> 16594.765 | V145: daN
F146: =IF(Configuration!Y4="EN","Failure mode 3:","Mode de ruine 3 :") -> Mode de ruine 3 : | M146: FB,Rd = | N146: =0.9*S6*X6/1.25 -> 19792.08 | P146: daN | S146: FT,3,Rd = | T146: =2*N146 -> 39584.16 | V146: daN
C147: =IF(Configuration!Y4="EN","Circular Pattern","Mode Circulaire") -> Mode Circulaire | Q147: =IF(Configuration!Y4="EN","Non-Circular Pattern","Mode non Circulaire") -> Mode non Circulaire
L149: =2*L142+P142 -> 300 | N149: mm | Z149: =L142+0.5*P142 -> 150 | AB149: mm
...

Sheet Composants
C3: =IF(Configuration!Y4="EN","Column web panel in shear","Panneau d'âme de poteau en cisaillement") -> Panneau d'âme de poteau en cisaillement | J3: (NF EN1993-1-8 §6.2.6.1 (2) )
D4: =IF(Configuration!Y4="EN","Grade:","Nuance :") -> Nuance : | E4: S275 | G4: dc = | H4: 331 | I4: mm
D5: fy,wc = | E5: =VLOOKUP(E4,Data!$A$3:$D$33,2,FALSE) -> 27.5 | F5: daN/mm² | G5: tw = | H5: 8.6 | I5: mm
D6: ε = √235/fy,wc = | E6: =SQRT(235/(10*E5)) -> 0.92441628 | G6: Avc = | H6: =H4*H5 -> 2846.6 | I6: mm²
D7: dc / tw = | E7: =H4/H5 -> 38.488372 | F7: =IF(E7>H7,">","<") -> < | G7: 69ε = | H7: =69*E6 -> 63.784723 | I7: =IF(E7>H7,"NON OK !!!","OK !!") -> OK !!
C8: =IF(I8=0,"",IF(Configuration!Y4="EN","Presence of transverse stiffeners in tension and compression zones","Présence de raidisseurs transversaux en zones tendues et comprimées")) -> Présence de raidisseurs transversaux en zones tendues et comprimées | H8: Vwp,add,Rd = | I8: 1 | J8: daN
H9: Vwp,Rd = 0.9fy,wcAvc / √3 γM0 + Vwp,add,Rd = | I9: =I8+0.9*E5*H6/(G_M0*SQRT(3)) -> 40677.261 | J9: daN
C10: ---------------------------------------------------------------------------------------------------------------------------------------------------------------------------------
C11: =IF(Configuration!Y4="EN","Column web panel in shear","Panneau d'âme de poteau en cisaillement") -> Panneau d'âme de poteau en cisaillement | J11: (NF EN1993-1-8 §6.2.6.1 (4) )
C12: =IF(Configuration!Y4="EN","(Additional resistance with transverse web stiffeners in compression and tension zones)","(Résistance additionnelle en présence de raidisseurs d'âme transversaux dans les zones Comprimées et Tendues)") -> (Résistance additionnelle en présence de raidisseurs d'âme transversaux dans les zones Comprimées et Tendues)
C13: =IF(Configuration!Y4="EN","Column","Poteau") -> Poteau | D13: =IF(Configuration!Y4="EN","Grade:","Nuance :") -> Nuance : | E13: S275 | G13: ds = | H13: 500 | I13: mm
D14: fy,wc = | E14: =VLOOKUP(E13,Data!$A$3:$D$33,2,FALSE) -> 27.5 | F14: daN/mm² | G14: bf = | H14: 180 | I14: mm
D15: Mpl,fc,Rd = | E15: =E14*(0.001*H14*H15^2/4)/G_M0 -> 225.53438 | F15: daN.m | G15: tf = | H15: 13.5 | I15: mm
C16: =IF(Configuration!Y4="EN","Stiffener","Raidisseur") -> Raidisseur | D16: =IF(Configuration!Y4="EN","Grade:","Nuance :") -> Nuance : | E16: S235
D17: fy,wc = | E17: =VLOOKUP(E16,Data!$A$3:$D$33,2,FALSE) -> 23.5 | F17: daN/mm² | G17: bs = | H17: 105 | I17: mm
D18: Mpl,st,Rd = | E18: =E17*(0.001*H17*H18^2/4)/G_M0 -> 39.48 | F18: daN.m | G18: ts = | H18: 8 | I18: mm
G19: Vwp,add,Rd = min{ 4Mpl,fc,Rd / ds ; 2Mpl,fc,Rd + 2Mpl,st,Rd / ds } = | H19: =MIN(4*E15/(0.001*H13),(2*E15+2*E18)/(0.001*H13)) -> 1060.0575 | I19: daN
C20: ---------------------------------------------------------------------------------------------------------------------------------------------------------------------------------
C21: =IF(Configuration!Y4="EN","Column web panel in shear","Panneau d'âme de poteau en cisaillement") -> Panneau d'âme de poteau en cisaillement | J21: (NF EN1993-1-8 §6.2.6.1 (6 à 13) )
C22: =IF(Configuration!Y4="EN","(With supplementary web plate)","(En présence de doublure d'âme)") -> (En présence de doublure d'âme)
D23: =IF(Configuration!Y4="EN","Grade:","Nuance :") -> Nuance : | E23: S275 | G23: dc = | H23: 331 | I23: mm
D24: fy,wc = | E24: =VLOOKUP(E23,Data!$A$3:$D$33,2,FALSE) -> 27.5 | F24: daN/mm² | G24: tw = | H24: 8.6 | I24: mm
D25: ε = √235/fy,wc = | E25: =SQRT(235/(10*E24)) -> 0.92441628 | G25: Avc = | H25: =H23*H24+E27*E26 -> 6156.6 | I25: mm²
D26: ts = | E26: 10 | F26: mm | G26: ts | H26: =IF(E26>=H24,"≥","<") -> ≥ | I26: tw | J26: =IF(E26>=H24,"OK !!","NON OK !!!") -> OK !!
D27: bs = | E27: =H23 -> 331 | F27: =IF(E27>H27,">","<") -> < | G27: 40 ε ts = | H27: =40*E25*E26 -> 369.76651 | J27: =IF(E27>H27,"NON OK !!!","OK !!") -> OK !!
G28: bs | H28: =IF(E27>=H23,"≥","<") -> ≥ | I28: dc | J28: =IF(E27>=H23,"OK !!","NON OK !!!") -> OK !!
C29: =IF(I29=0,"",IF(Configuration!Y4="EN","Presence of transverse stiffeners in tension and compression zones","Présence de raidisseurs transversaux en zones tendues et comprimées")) -> Présence de raidisseurs transversaux en zones tendues et comprimées | H29: Vwp,add,Rd = | I29: 1 | J29: daN
H30: Vwp,Rd = 0.9fy,wcAvc / √3 γM0 + Vwp,add,Rd = | I30: =I29+0.9*E24*H25/(G_M0*SQRT(3)) -> 87975.238 | J30: daN
C31: ---------------------------------------------------------------------------------------------------------------------------------------------------------------------------------
C32: =IF(Configuration!Y4="EN","Column web in transverse compression","Âme de poteau comprimée transversalement") -> Âme de poteau comprimée transversalement | J32: (NF EN1993-1-8 §6.2.6.2)
C33: =IF(Configuration!Y4="EN","(Welded connection or end plate connection)","(Assemblage soudé ou par platine d'about)") -> (Assemblage soudé ou par platine d'about)
D34: =IF(Configuration!Y4="EN","Grade:","Nuance :") -> Nuance : | E34: S275 | G34: =IF(Configuration!Y4="EN","Column:","Poteau :") -> Poteau : | H34: HEA 300 | L34: =MATCH(H34,Profilés!$A$4:$A$182,0) -> 70
D35: fy,wc = | E35: =VLOOKUP(E34,Data!$A$3:$D$33,2,FALSE) -> 27.5 | F35: daN/mm² | G35: tp = | H35: 15 | I35: mm
G36: tfb = | H36: 14 | I36: mm
D37: =IF(Configuration!Y4="EN","Supplementary web plate:","Doublure d'âme :") -> Doublure d'âme : | E37: NON | G37: ab / ap = | H37: 4 | I37: mm
D38: β = | E38: 1 | G38: ac / rc = | H38: {=IF(LEFT(H34,3)="PRS",0.7*INDEX(Profilés!$E$4:$E$182,L34),INDEX(Profilés!$G$4:$G$182,L34))} -> 27 | I38: mm
D39: Avc = | E39: {=100*INDEX(Profilés!$M$4:$M$182,L34)} -> 3728 | F39: mm² | G39: tfc = | H39: {=INDEX(Profilés!$F$4:$F$182,L34)} -> 14 | I39: mm
D40: ω = | E40: =1/SQRT(1+IF(E38=1,1.3,5.2)*((H42*H41)/E39)^2) -> 0.82818591 | G40: dwc = | H40: {=INDEX(Profilés!$C$4:$C$182,L34)-2*(H38+H39)} -> 208 | I40: mm
D41: `l = | E41: =0.932*SQRT((H42*H40*E35)/(21000*H41^2)) -> 0.92328095 | G41: twc = | H41: {=IF(E37="NON",1,IF(E37=1,1.5,2))*INDEX(Profilés!$E$4:$E$182,L34)} -> 8.5 | I41: mm
D42: ρ = | E42: =IF(E41<=0.72,1,(E41-0.2)/(E41^2)) -> 0.84847544 | G42: beff,c,wc = | H42: =H36+2*SQRT(2)*H37+5*(H39+IF(LEFT(H34,3)="PRS",SQRT(2)*H38,H38))+2*H35 -> 260.31371 | I42: mm
D43: σcom,Ed = | E43: 0 | F43: daN/mm² | G43: kwc = | H43: =IF(E43<=0.7*E35,1,1.7-E43/E35) -> 1
I45: =MIN(E40*H43*H42*H41*E35/G_M0,E40*H43*E42*H42*H41*E35/G_M1) -> 42757.841 | J45: daN
C47: ---------------------------------------------------------------------------------------------------------------------------------------------------------------------------------
C48: =IF(Configuration!Y4="EN","Column web in transverse compression","Âme de poteau comprimée transversalement") -> Âme de poteau comprimée transversalement | J48: (NF EN1993-1-8 §6.2.6.2)
C49: =IF(Configuration!Y4="EN","(Flange cleat connection)","(Assemblage par conières de semelle)") -> (Assemblage par conières de semelle)
D50: =IF(Configuration!Y4="EN","Grade:","Nuance :") -> Nuance : | E50: S275 | G50: =IF(Configuration!Y4="EN","Column:","Poteau :") -> Poteau : | H50: HEA 300 | L50: =MATCH(H50,Profilés!$A$4:$A$182,0) -> 70
D51: fy,wc = | E51: =VLOOKUP(E50,Data!$A$3:$D$33,2,FALSE) -> 27.5 | F51: daN/mm² | G51: ta = | H51: 12 | I51: mm
D52: =IF(Configuration!Y4="EN","Supplementary web plate:","Doublure d'âme :") -> Doublure d'âme : | E52: NON | G52: ra = | H52: 15 | I52: mm
D53: β = | E53: 1 | G53: ac / rc = | H53: {=IF(LEFT(H50,3)="PRS",0.7*INDEX(Profilés!$E$4:$E$182,L50),INDEX(Profilés!$G$4:$G$182,L50))} -> 27 | I53: mm
D54: Avc = | E54: {=100*INDEX(Profilés!$M$4:$M$182,L50)} -> 3728 | F54: mm² | G54: tfc = | H54: {=INDEX(Profilés!$F$4:$F$182,L50)} -> 14 | I54: mm
D55: ω = | E55: =1/SQRT(1+IF(E53=1,1.3,5.2)*((H57*H56)/E54)^2) -> 0.85039116 | G55: dwc = | H55: {=INDEX(Profilés!$C$4:$C$182,L50)-2*(H53+H54)} -> 208 | I55: mm
D56: `l = | E56: =0.932*SQRT((H57*H55*E51)/(21000*H56^2)) -> 0.88282339 | G56: twc = | H56: {=IF(E52="NON",1,IF(E52=1,1.5,2))*INDEX(Profilés!$E$4:$E$182,L50)} -> 8.5 | I56: mm
D57: ρ = | E57: =IF(E56<=0.72,1,(E56-0.2)/(E56^2)) -> 0.87611421 | G57: beff,c,wc = | H57: =2*H51+0.6*H52+5*(H54+IF(LEFT(H50,3)="PRS",SQRT(2)*H53,H53)) -> 238 | I57: mm
D58: σcom,Ed = | E58: 0 | F58: daN/mm² | G58: kwc = | H58: =IF(E58<=0.7*E51,1,1.7-E58/E51) -> 1
I60: =MIN(E55*H58*H57*H56*E51/G_M0,E55*H58*E57*H57*H56*E51/G_M1) -> 41448.426 | J60: daN
C62: ---------------------------------------------------------------------------------------------------------------------------------------------------------------------------------
C63: =IF(Configuration!Y4="EN","Column web in transverse tension","Âme de poteau tendue transversalement") -> Âme de poteau tendue transversalement | J63: (NF EN1993-1-8 §6.2.6.3)
C64: =IF(Configuration!Y4="EN","(Welded connection)","(Assemblage soudé)") -> (Assemblage soudé)
D65: =IF(Configuration!Y4="EN","Grade:","Nuance :") -> Nuance : | E65: S275 | G65: =IF(Configuration!Y4="EN","Column:","Poteau :") -> Poteau : | H65: HEA 300 | L65: =MATCH(H65,Profilés!$A$4:$A$182,0) -> 70
D66: fy,wc = | E66: =VLOOKUP(E65,Data!$A$3:$D$33,2,FALSE) -> 27.5 | F66: daN/mm² | G66: tfb = | H66: 14 | I66: mm
D67: =IF(Configuration!Y4="EN","Supplementary web plate:","Doublure d'âme :") -> Doublure d'âme : | E67: NON | G67: ab = | H67: 4 | I67: mm
D68: β = | E68: 1 | G68: ac / rc = | H68: {=IF(LEFT(H65,3)="PRS",0.7*INDEX(Profilés!$E$4:$E$182,L65),INDEX(Profilés!$G$4:$G$182,L65))} -> 27 | I68: mm
D69: Avc = | E69: {=100*INDEX(Profilés!$M$4:$M$182,L65)} -> 3728 | F69: mm² | G69: tfc = | H69: {=INDEX(Profilés!$F$4:$F$182,L65)} -> 14 | I69: mm
D70: ω = | E70: =1/SQRT(1+IF(E68=1,1.3,5.2)*((H72*H71)/E69)^2) -> 0.85797146 | G70: dwc = | H70: {=INDEX(Profilés!$C$4:$C$182,L65)-2*(H68+H69)} -> 208 | I70: mm
G71: twc = | H71: {=IF(E67="NON",1,IF(E67=1,1.5,2))*INDEX(Profilés!$E$4:$E$182,L65)} -> 8.5 | I71: mm
G72: beff,t,wc = | H72: =H66+2*SQRT(2)*H67+5*(H69+IF(LEFT(H65,3)="PRS",SQRT(2)*H68,H68)) -> 230.31371 | I72: mm
I74: =E70*H72*H71*E66/G_M0 -> 46189.605 | J74: daN
C76: ---------------------------------------------------------------------------------------------------------------------------------------------------------------------------------
C77: =IF(Configuration!Y4="EN","Column web in transverse tension","Âme de poteau tendue transversalement") -> Âme de poteau tendue transversalement | J77: (NF EN1993-1-8 §6.2.6.3)
C78: =IF(Configuration!Y4="EN","(End plate connection)","(Assemblage par platine d'about)") -> (Assemblage par platine d'about)
D79: =IF(Configuration!Y4="EN","Grade:","Nuance :") -> Nuance : | E79: S275 | G79: =IF(Configuration!Y4="EN","Column:","Poteau :") -> Poteau : | H79: HEA 280 | L79: =MATCH(H79,Profilés!$A$4:$A$182,0) -> 69
D80: fy,wc = | E80: =VLOOKUP(E79,Data!$A$3:$D$33,2,FALSE) -> 27.5 | F80: daN/mm² | G80: beff,t,wc = | H80: 256 | I80: mm
D81: =IF(Configuration!Y4="EN","Supplementary web plate:","Doublure d'âme :") -> Doublure d'âme : | E81: NON | G81: =IF(Configuration!Y4="EN","beff,t,wc is taken equal to the effective length of the equivalent T-stub representing the column flange.","beff,t,wc est pris égal à la longueur efficace du tronçon en T équivalent représentant la semelle de poteau.") -> beff,t,wc est pris égal à la longueur efficace du tronçon en T équivalent représentant la semelle de poteau.
D82: β = | E82: 1
D83: Avc = | E83: {=100*INDEX(Profilés!$M$4:$M$182,L79)} -> 3174 | F83: mm² | G83: twc = | H83: {=IF(E81="NON",1,IF(E81=1,1.5,2))*INDEX(Profilés!$E$4:$E$182,L79)} -> 8 | I83: mm
D84: ω = | E84: =1/SQRT(1+IF(E82=1,1.3,5.2)*((H80*H83)/E83)^2) -> 0.80549889
I85: =E84*H80*H83*E80/G_M0 -> 45365.698 | J85: daN
C87: ---------------------------------------------------------------------------------------------------------------------------------------------------------------------------------
C88: =IF(Configuration!Y4="EN","End plate in bending","Platine d'about fléchie") -> Platine d'about fléchie | J88: (NF EN1993-1-8 §6.2.6.5)
E89: Voir onglet "T Tendus"
C90: ---------------------------------------------------------------------------------------------------------------------------------------------------------------------------------
C91: =IF(Configuration!Y4="EN","Flange cleat in bending","Cornière de semelle en flexion") -> Cornière de semelle en flexion | J91: (NF EN1993-1-8 §6.2.6.6)
E92: Voir onglet "T Tendus"
C93: ---------------------------------------------------------------------------------------------------------------------------------------------------------------------------------
C94: =IF(Configuration!Y4="EN","Beam or column flange and web in compression","Semelle et âme comprimées de poutre ou de poteau") -> Semelle et âme comprimées de poutre ou de poteau | J94: (NF EN1993-1-8 §6.2.6.7)
D95: =IF(Configuration!Y4="EN","Grade:","Nuance :") -> Nuance : | E95: S275 | G95: =IF(Configuration!Y4="EN","Section:","Section :") -> Section : | H95: IPE 360 | L95: =MATCH(H95,Profilés!$A$4:$A$182,0) -> 13
D96: fy,wb = | E96: =VLOOKUP(E95,Data!$A$3:$D$33,2,FALSE) -> 27.5 | F96: daN/mm² | G96: h = | H96: {=INDEX(Profilés!$C$4:$C$182,L95)} -> 360 | I96: mm
D97: =IF(Configuration!Y4="EN","Analysis:","Analyse :") -> Analyse : | E97: Elastique | G97: tfb = | H97: {=INDEX(Profilés!$F$4:$F$182,L95)} -> 12.7 | I97: mm
D98: Mc,Rd = | E98: {=E96*IF(E97="Elastique",INDEX(Profilés!$J$4:$J$182,L95),INDEX(Profilés!$K$4:$K$182,L95))/G_M0} -> 24849 | F98: daN.m
G99: =E98/(0.001*(H96-H97)) -> 71549.093 | H99: daN
C100: ---------------------------------------------------------------------------------------------------------------------------------------------------------------------------------
C101: =IF(Configuration!Y4="EN","Beam web in tension","Âme de poutre tendue") -> Âme de poutre tendue | J101: (NF EN1993-1-8 §6.2.6.8)
C102: =IF(Configuration!Y4="EN","(End plate connection)","(Assemblage par platine d'about)") -> (Assemblage par platine d'about)
D103: =IF(Configuration!Y4="EN","Grade:","Nuance :") -> Nuance : | E103: S275 | G103: =IF(Configuration!Y4="EN","Beam:","Poutre :") -> Poutre : | H103: HEA 280 | L103: =MATCH(H103,Profilés!$A$4:$A$182,0) -> 69
D104: fy,wb = | E104: =VLOOKUP(E103,Data!$A$3:$D$33,2,FALSE) -> 27.5 | F104: daN/mm² | G104: twb = | H104: {=INDEX(Profilés!$E$4:$E$182,L103)} -> 8 | I104: mm
D105: beff,t,wb = | E105: 256 | F105: mm | G105: =IF(Configuration!Y4="EN","beff,t,wb is taken equal to the effective length of the equivalent T-stub representing the end plate.","beff,t,wb est pris égal à la longueur efficace du tronçon en T équivalent représentant la platine d'about.") -> beff,t,wb est pris égal à la longueur efficace du tronçon en T équivalent représentant la platine d'about.
G107: =E105*H104*E104/G_M0 -> 56320 | H107: daN
C109: ---------------------------------------------------------------------------------------------------------------------------------------------------------------------------------
C110: =IF(Configuration!Y4="EN","Plate in tension","Plat tendu") -> Plat tendu | D110: =IF(Configuration!Y4="EN","(Gross section)","(Section brute)") -> (Section brute) | J110: (NF EN1993-1-1 §6.2)
D111: =IF(Configuration!Y4="EN","Grade:","Nuance :") -> Nuance : | E111: S275 | G111: fy = | H111: =VLOOKUP(E111,Data!$A$3:$D$33,2,FALSE) -> 27.5 | I111: daN/mm²
...

Sheet Rigidité
C3: =IF(Configuration!Y4="EN","Rotational stiffness of connection","Rigidité en rotation d'assemblage") -> Rigidité en rotation d'assemblage | L3: NF EN 1993-1-8 §6.3 | R3: Type d'attache | S3: ψ | T3: Unilatéral | U3: Bilatéral - Moments égaux et opposés | V3: Bilatéral - Moments inégaux | W3: =MATCH(E5,T3:V3,0) -> 1 | X3: η
D4: =IF(Configuration!Y4="EN","Connection type:","Type d'attache :") -> Type d'attache : | E4: Poutre-poteau boulonné par platine d'about | J4: ψ = | K4: =VLOOKUP(E4,R4:S8,2,FALSE) -> 2.7 | R4: Poutre-poteau à attaches soudées | S4: 2.7 | T4: k1 ; k2 ; k3 | U4: k2 ; k3 | V4: k1 ; k2 ; k3 | X4: 2
D5: =IF(Configuration!Y4="EN","Laterality:","Latéralité :") -> Latéralité : | E5: Unilatéral | R5: Poutre-poteau à cornières de semelle boulonnées | S5: 3.1 | T5: k1 ; k2 ; k3 ; k4 ; k6 ; k10 ; k11* ; k12** | U5: k2 ; k3 ; k4 ; k6 ; k10 ; k11* ; k12** | V5: k1 ; k2 ; k3 ; k4 ; k6 ; k10 ; k11* ; k12** | X5: 2
R6: Poutre-poteau boulonné par platine d'about | S6: 2.7 | T6: k1 ; k2 ; k3 ; k4 ; k5 ; k10 | U6: k2 ; k3 ; k4 ; k5 ; k10 | V6: k1 ; k2 ; k3 ; k4 ; k5 ; k10 | X6: 2
C7: MEd = | D7: 12000 | E7: daN.m | F7: MRd = | G7: 15296 | H7: daN.m | I7: μ = | J7: =IF(D7<=(2/3)*G7,1,(1.5*D7/G7)^K4) -> 1.5519421 | K7: η = | L7: =VLOOKUP(E4,R4:X8,7,FALSE) -> 2 | R7: Continuité de poutre par platine d'about boulonnée | S7: 2.7 | T7: N/A | U7: k5,g ; k5,d ; k10 | V7: N/A | X7: 3
R8: Plaques d'assise de poteau | S8: 2.7 | T8: k13 ; k15 ; k16 | U8: N/A | V8: N/A | X8: 3
C9: =IF(Configuration!Y4="EN","Stiffness coefficients","Coefficients de rigidité") -> Coefficients de rigidité
G10: =IF(Configuration!Y4="EN","Stiffness coefficients ki to be considered","Coefficients de rigidité ki à prendre en compte") -> Coefficients de rigidité ki à prendre en compte | H10: =VLOOKUP(E4,R4:V8,MATCH(E5,R3:V3,0),FALSE) -> k1 ; k2 ; k3 ; k4 ; k5 ; k10 | K10: =IF(S10=1,"","( keq )") -> ( keq ) | R10: Nombre de rangées de boulons tendus : nb = | S10: =COUNTA(D14:D23) -> 6
D11: k1 [mm] | E11: k2 [mm] | F11: k6 [mm] | G11: k11 [mm] | H11: k17 [mm] | I11: k13 [mm] | J11: k12 [mm] | K11: k18 [mm]
D12: 2.4
C13: r | D13: hr [mm] | E13: k3,r [mm] | F13: k4,r [mm] | G13: k5,g,r [mm] | H13: k5,d,r [mm] | I13: k10,r [mm] | J13: k15,r [mm] | K13: k16,r [mm] | L13: keff,r [mm]
C14: 1 | D14: 484 | E14: 1.9 | F14: 12.8 | G14: 10.8 | I14: 5.7 | L14: {=IF(D14=0,"",1/SUMPRODUCT(IF(E14:K14<>0,E14:K14^-1,0)))} -> 1.1461686
C15: 2 | D15: 404 | E15: 1.5 | F15: 10 | G15: 7 | I15: 5.7 | L15: {=IF(D15=0,"",1/SUMPRODUCT(IF(E15:K15<>0,E15:K15^-1,0)))} -> 0.92169092
C16: 3 | D16: 324 | E16: 1.9 | F16: 12.5 | G16: 8.8 | I16: 5.7 | L16: {=IF(D16=0,"",1/SUMPRODUCT(IF(E16:K16<>0,E16:K16^-1,0)))} -> 1.1168308
C17: 4 | D17: 204 | E17: 1.9 | F17: 12.5 | G17: 8.8 | I17: 5.7 | L17: {=IF(D17=0,"",1/SUMPRODUCT(IF(E17:K17<>0,E17:K17^-1,0)))} -> 1.1168308
C18: 5 | D18: 124 | E18: 1.5 | F18: 10 | G18: 7 | I18: 5.7 | L18: {=IF(D18=0,"",1/SUMPRODUCT(IF(E18:K18<>0,E18:K18^-1,0)))} -> 0.92169092
C19: 6 | D19: 44 | E19: 1.9 | F19: 12.9 | G19: 9.9 | I19: 5.7 | L19: {=IF(D19=0,"",1/SUMPRODUCT(IF(E19:K19<>0,E19:K19^-1,0)))} -> 1.1359972
C20: 7 | L20: {=IF(D20=0,"",1/SUMPRODUCT(IF(E20:K20<>0,E20:K20^-1,0)))}
C21: 8 | L21: {=IF(D21=0,"",1/SUMPRODUCT(IF(E21:K21<>0,E21:K21^-1,0)))}
C22: 9 | L22: {=IF(D22=0,"",1/SUMPRODUCT(IF(E22:K22<>0,E22:K22^-1,0)))}
C23: 10 | L23: {=IF(D23=0,"",1/SUMPRODUCT(IF(E23:K23<>0,E23:K23^-1,0)))}
D25: zeq = | E25: {=SUMPRODUCT(D14:D23^2,L14:L23)/SUMPRODUCT(D14:D23,L14:L23)} -> 356.33354 | F25: mm | H25: Sj,ini = | I25: {=0.001*(21000*(E25)^2)/((SUMPRODUCT(IF(D12:K12<>0,D12:K12^-1,0)))+(E26)^-1)} -> 4241642.7 | K25: daN.m
D26: keq = | E26: =SUMPRODUCT(D14:D23,L14:L23)/E25 -> 4.7176838 | F26: mm | H26: Sj = Sj,ini /μ = | I26: =I25/J7 -> 2733119.2 | K26: daN.m | R26: Données : Revue CM N°4 - 2018
H27: Sj,d = Sj,ini /η = | I27: =I25/L7 -> 2120821.3 | K27: daN.m | S27: ρ = Ibhc / IcLb = | T27: =(J30*F31)/(J31*F30) -> 0.19247646 | U27: kb =
C28: =IF(Configuration!Y4="EN","Stiffness conditions","Conditions de rigidité") -> Conditions de rigidité | T28: Structure non contreventée : cas général | U28: 25
D29: =IF(Configuration!Y4="EN","Connection type:","Type d'assemblage :") -> Type d'assemblage : | E29: Structure non contreventée : cas général | T29: Structure contreventée : cas général | U29: 8
E30: =IF(Configuration!Y4="EN","Beam length: Lb =","Longeur poutre : Lb =") -> Longeur poutre : Lb = | F30: 18 | G30: m | I30: =IF(Configuration!Y4="EN","Beam inertia: Ib =","Inertie poutre : Ib =") -> Inertie poutre : Ib = | J30: 5790 | K30: cm4 | T30: Assemblage poutre-poteau de portique non contreventé | U30: =IF(OR(60/(1+2*T27)<8,60/(1+2*T27)>25),IF(60/(1+2*T27)<8,8,25),60/(1+2*T27)) -> 25
E31: =IF(Configuration!Y4="EN","Column height: hc =","Hauteur poteau : hc =") -> Hauteur poteau : hc = | F31: 5 | G31: m | I31: =IF(Configuration!Y4="EN","Column inertia: Ic =","Inertie poteau : Ic =") -> Inertie poteau : Ic = | J31: 8356 | K31: cm4 | T31: Assemblage poutre-poteau de portique contreventé | U31: =IF(OR(55/(1+3*T27)<8,55/(1+3*T27)>25),IF(55/(1+3*T27)<8,8,25),55/(1+3*T27)) -> 25
E32: kb = | F32: =VLOOKUP(E29,T28:U35,2,FALSE) -> 25 | T32: Assemblage de continuité au droit d'appuis intermédiaires | U32: 18
D33: Sj,rig = kbEIb / Lb = | E33: =F32*21000000000*J30*10^-8/F30 -> 1688750 | G33: daN.m | I33: Sj,pin = EIb / 2Lb = | J33: =0.5*21000000000*J30*10^-8/F30 -> 33775 | L33: daN.m | T33: Assemblage de continuité de traverse de portique si la flèche n'est pas critique | U33: 10
T34: Assemblage de continuité de traverse de portique si la flèche est critique | U34: 25
D35: =IF(I25<=J33,"Sj,ini ≤ Spin",IF(I25>=E33,"Sj,rig ≤ Sj,ini","Sj,pin < Sj,ini < Sj,rig")) -> Sj,rig ≤ Sj,ini | G35: =IF(Configuration!Y4="EN","The connection is ","L'assemblage est ") -> L'assemblage est | H35: =IF(I25<=J33,IF(Configuration!Y4="EN","PINNED","ARTICULÉ"),IF(I25>=E33,IF(Configuration!Y4="EN","RIGID","RIGIDE"),IF(Configuration!Y4="EN","SEMI-RIGID","SEMI-RIGIDE"))) -> RIGIDE | T35: Assemblage d'encastrement d'une console si la flèche est critique | U35: 30
C37: =IF(Configuration!Y4="EN","Moment-rotation diagram","Diagramme moment-rotation") -> Diagramme moment-rotation | O37: Sj,ini | P37: 0 | Q37: =(2/3)*G7/I25 -> 0.0024041001 | R37: =(S46*G7/I25) -> 0.010776809
P38: 0 | Q38: =(2/3)*G7 -> 10197.333 | R38: =G7 -> 15296
O39: Sj | P39: 0 | Q39: =G7/I26 -> 0.005596536 | R39: Sj,max = | S39: =I25/S46 -> 1419344 | T39: daN.m
P40: 0 | Q40: =G7 -> 15296 | S40: =IF(S39<=J33,"ARTICULÉ",IF(S39>=E33,"RIGIDE","SEMI-RIGIDE")) -> SEMI-RIGIDE | T40: =IF(S39<=J33,"Sj ≤ Spin",IF(S39>=E33,"Sj,rig ≤ Sj","Sj,pin < Sj < Sj,rig")) -> Sj,pin < Sj < Sj,rig
O41: Sj,d | P41: 0 | Q41: =G7/I27 -> 0.0072123002
P42: 0 | Q42: =G7 -> 15296
O43: MRd | P43: 0 | Q43: =MAX(R37,R50) -> 0.02102978
P44: =G7 -> 15296 | Q44: =P44 -> 15296
O45: 2/3 MRd | P45: 0 | Q45: =MAX(R37,R50) -> 0.02102978 | S45: μmax
P46: =(2/3)*G7 -> 10197.333 | Q46: =P46 -> 10197.333 | S46: =1.5^K4 -> 2.9884528
O47: MEd | P47: 0 | Q47: =MAX(R37,R50) -> 0.02102978
P48: =D7 -> 12000 | Q48: =P48 -> 12000
O50: Sj,rig | P50: 0 | Q50: =Q51/E33 -> 0.0060383913 | R50: =(S46*R51/E33)-Q50 -> 0.02102978 | S50: 0 | T50: =T51/E33 -> 0.009057587
P51: 0 | Q51: =(2/3)*G7 -> 10197.333 | R51: =G7 -> 15296 | S51: 0 | T51: =G7 -> 15296
O53: Sj,pin | P53: 0 | Q53: =MAX(R37,R50) -> 0.02102978
P54: 0 | Q54: =J33*Q53 -> 710.28081
C56: ---------------------------------------------------------------------------------------------------------------------------------------------------------------------------------
C57: =IF(Configuration!Y4="EN","Column web panel in shear","Panneau d'âme de poteau en cisaillement") -> Panneau d'âme de poteau en cisaillement | L57: NF EN 1993-1-8 §6.3 Tbl.6.11
D58: k1 = 0.38 Avc / β z = | E58: =0.38*I58/(I59*I60) -> 0.0095 | F58: mm | G58: où | H58: Avc = | I58: 65 | J58: mm²
H59: β = | I59: 2
H60: z = | I60: 1300 | J60: mm
C61: ---------------------------------------------------------------------------------------------------------------------------------------------------------------------------------
C62: =IF(Configuration!Y4="EN","Column web in compression","Âme de poteau comprimée") -> Âme de poteau comprimée | L62: NF EN 1993-1-8 §6.3 Tbl.6.11
D63: k2 = 0.7 beff,c,wc twc/ dc = | E63: =0.7*I63*I64/I65 -> 10.769231 | F63: mm | G63: où | H63: beff,c,wc = | I63: 500 | J63: mm
H64: twc = | I64: 40 | J64: mm
H65: dc = | I65: 1300 | J65: mm
C66: ---------------------------------------------------------------------------------------------------------------------------------------------------------------------------------
C67: =IF(Configuration!Y4="EN","Column web in tension","Âme de poteau tendue") -> Âme de poteau tendue | L67: NF EN 1993-1-8 §6.3 Tbl.6.11
D68: k3 = 0.7 beff,t,wc twc/ dc = | E68: =0.7*I68*I69/I70 -> 10.769231 | F68: mm | G68: où | H68: beff,t,wc = | I68: 500 | J68: mm
H69: twc = | I69: 40 | J69: mm
H70: dc = | I70: 1300 | J70: mm
C71: ---------------------------------------------------------------------------------------------------------------------------------------------------------------------------------
C72: =IF(Configuration!Y4="EN","Column flange in bending (for a single bolt row in tension)","Semelle de poteau fléchie (pour une seule rangée de boulons tendus)") -> Semelle de poteau fléchie (pour une seule rangée de boulons tendus) | L72: NF EN 1993-1-8 §6.3 Tbl.6.11
D73: k4 = 0.9 leff tfc3/ m3 = | E73: =0.9*I73*I74^3/(I75^3) -> 7.4420662 | F73: mm | G73: où | H73: leff = | I73: 500 | J73: mm
H74: tfc = | I74: 40 | J74: mm
H75: m = | I75: 157 | J75: mm
C76: ---------------------------------------------------------------------------------------------------------------------------------------------------------------------------------
C77: =IF(Configuration!Y4="EN","End plate in bending (for a single bolt row in tension)","Platine d'about fléchie (pour une seule rangée de boulons tendus)") -> Platine d'about fléchie (pour une seule rangée de boulons tendus) | L77: NF EN 1993-1-8 §6.3 Tbl.6.11
D78: k5 = 0.9 leff tp3/ m3 = | E78: =0.9*I78*I79^3/(I80^3) -> 7.4420662 | F78: mm | G78: où | H78: leff = | I78: 500 | J78: mm
H79: tp = | I79: 40 | J79: mm
H80: m = | I80: 157 | J80: mm
C81: ---------------------------------------------------------------------------------------------------------------------------------------------------------------------------------
C82: =IF(Configuration!Y4="EN","Flange cleat in bending","Cornière de semelle fléchie") -> Cornière de semelle fléchie | L82: NF EN 1993-1-8 §6.3 Tbl.6.11
D83: k6 = 0.9 leff ta3/ m3 = | E83: =0.9*I83*I84^3/(I85^3) -> 7.4420662 | F83: mm | G83: où | H83: leff = | I83: 500 | J83: mm
H84: ta = | I84: 40 | J84: mm
H85: m = | I85: 157 | J85: mm
C86: ---------------------------------------------------------------------------------------------------------------------------------------------------------------------------------
C87: =IF(Configuration!Y4="EN","Bolts in tension (for a single bolt row in tension)","Boulons tendus (pour une seule rangée de boulons tendus)") -> Boulons tendus (pour une seule rangée de boulons tendus) | L87: NF EN 1993-1-8 §6.3 Tbl.6.11
D88: k10 = 1.6 As/ Lb = | E88: =1.6*I89/I90 -> 5.7090909 | F88: mm | G88: où | H88: d = | I88: 16 | J88: mm
H89: As = | I89: =VLOOKUP(I88,Data!K3:O20,5,FALSE) -> 157 | J89: mm²
H90: Lb = | I90: 44 | J90: mm
C91: ---------------------------------------------------------------------------------------------------------------------------------------------------------------------------------
C92: =IF(Configuration!Y4="EN","Bolts in shear","Boulons en cisaillement") -> Boulons en cisaillement | L92: NF EN 1993-1-8 §6.3 Tbl.6.11
E93: k11 (ou k17) = 16 nbd²fub/ E dM16 = | F93: =16*I93*I94^2*I95/(210000*16) -> 3.047619 | G93: mm | H93: où nb = | I93: 8
H94: d = | I94: 10 | J94: mm
F95: Classe : | G95: 8.8 | H95: fub = | I95: =10*VLOOKUP(G95,Data!F3:H12,3,FALSE) -> 800 | J95: MPa
C96: ---------------------------------------------------------------------------------------------------------------------------------------------------------------------------------
C97: =IF(Configuration!Y4="EN","Bolts in bearing (for each component j on which the bolt bears)","Boulons en pression diamétrale (pour chaque composant j sur lequel le boulon s'appuie)") -> Boulons en pression diamétrale (pour chaque composant j sur lequel le boulon s'appuie) | L97: NF EN 1993-1-8 §6.3 Tbl.6.11
E98: k12 (ou k18) = 24 nbkbktdfu/ E = | F98: =24*E99*E100*E103*J102*J104/210000 -> 84 | G98: mm
C99: où | D99: nb = | E99: 6 | I99: avec
D100: kb = kb1 = | E100: =IF(E101>E102,E102,E101) -> 1.0208333 | F100: mm | G100: mais ≤ kb2 | I100: eb = | J100: 100 | K100: mm
D101: kb1 = 0.25 eb/d + 0.5= | E101: =IF(0.5+0.25*J100/J102>1.25,1.25,0.5+0.25*J100/J102) -> 1.0208333 | F101: mm | G101: mais ≤ 1.25 | I101: pb = | J101: 220 | K101: mm
D102: kb2 = 0.25 pb/d + 0.375 = | E102: =IF(0.375+0.25*J101/J102>1.25,1.25,0.375+0.25*J101/J102) -> 1.25 | F102: mm | G102: mais ≤ 1.25 | I102: d = | J102: 48 | K102: mm
D103: kt = 1.5 tj/ dM16 = | E103: =1.25*J103/16 -> 3.125 | F103: mm | G103: mais ≤ 2.5 | I103: tj = | J103: 40 | K103: mm
G104: Classe : | H104: 8.8 | I104: fub = | J104: =10*VLOOKUP(H104,Data!F3:H12,3,FALSE) -> 800 | K104: MPa
C105: ---------------------------------------------------------------------------------------------------------------------------------------------------------------------------------
C106: =IF(Configuration!Y4="EN","Concrete in compression (including grout)","Béton comprimé (scellement compris)") -> Béton comprimé (scellement compris) | L106: NF EN 1993-1-8 §6.3 Tbl.6.11
E107: k13 = Ec√beffleff/ 1.275E = | F107: =J109*SQRT(J107*J108)/(1.275*210000) -> 21.66235 | G107: mm | H107: où | I107: beff = | J107: 60 | K107: mm
...

Sheet Efforts
C3: Efforts dans les boulons d'une platine d'about fléchie
C5: Nt,Ed = | E5: daN | I5: Première ligne de Tiges est extérieure | J5: NON
C6: VEd = | D6: 22800 | E6: daN | I6: Type d'analyse | J6: Elastique
C7: MEd = | E7: daN.m | I7: Nombre de boulons par ligne : Nb = | J7: 2
C8: Exc e = | D8: 250 | E8: mm | I8: Nombre de ligne : Nr = | J8: =COUNTA(E13:E22) -> 3
C9: MEd,Exc = | D9: =D7+D6*0.001*D8 -> 5700 | E9: daN.m | H9: Z = | I9: =IF(J5="OUI",E13-0.5*F13,E13) -> 400 | J9: mm
H10: MRd = Σ(di x Fti,eff,Rd) = | I10: =SUMPRODUCT(E13:E22,H13:H22)/1000 -> 7270.275 | J10: daN.m
D12: r | E12: dr | F12: Sr | G12: Ftr,Rd | H12: Ftr,eff,Rd | I12: Ftr,Ed
D13: 1 | E13: 400 | F13: =IF(E13-E14=0,"",E13-E14) -> 150 | G13: 12508 | H13: =G13 -> 12508 | I13: =H13*$D$9/$I$10 -> 9806.4516
D14: 2 | E14: 250 | F14: =IF(E14-E15=0,"",E14-E15) -> 150 | G14: 12508 | H14: =IF(E14=0,"",IF(J6="Elastique",$G$13*E14/$E$13,IF(J5="OUI",G14,MIN(G14,(G13*E14/E13))))) -> 7817.5 | I14: =IF(E14=0,"",H14*$D$9/$I$10) -> 6129.0323
D15: 3 | E15: 100 | F15: =IF(E15-E16=0,"",E15-E16) -> 100 | G15: 12508 | H15: =IF(E15=0,"",IF(J6="Elastique",$G$13*E15/$E$13,MIN(G15,(H14*E15/E14)))) -> 3127 | I15: =IF(E15=0,"",H15*$D$9/$I$10) -> 2451.6129
D16: 4 | F16: =IF(E16-E17=0,"",E16-E17) | H16: =IF(E16=0,"",IF(J7="Elastique",$G$13*E16/$E$13,MIN(G16,(H15*E16/E15)))) | I16: =IF(E16=0,"",H16*$D$9/$I$10)
D17: 5 | F17: =IF(E17-E18=0,"",E17-E18) | H17: =IF(E17=0,"",IF(J8="Elastique",$G$13*E17/$E$13,MIN(G17,(H16*E17/E16)))) | I17: =IF(E17=0,"",H17*$D$9/$I$10)
D18: 6 | F18: =IF(E18-E19=0,"",E18-E19) | H18: =IF(E18=0,"",IF(J9="Elastique",$G$13*E18/$E$13,MIN(G18,(H17*E18/E17)))) | I18: =IF(E18=0,"",H18*$D$9/$I$10)
D19: 7 | F19: =IF(E19-E20=0,"",E19-E20) | H19: =IF(E19=0,"",IF(J10="Elastique",$G$13*E19/$E$13,MIN(G19,(H18*E19/E18)))) | I19: =IF(E19=0,"",H19*$D$9/$I$10)
D20: 8 | F20: =IF(E20-E21=0,"",E20-E21) | H20: =IF(E20=0,"",IF(J11="Elastique",$G$13*E20/$E$13,MIN(G20,(H19*E20/E19)))) | I20: =IF(E20=0,"",H20*$D$9/$I$10)
D21: 9 | F21: =IF(E21-E22=0,"",E21-E22) | H21: =IF(E21=0,"",IF(J12="Elastique",$G$13*E21/$E$13,MIN(G21,(H20*E21/E20)))) | I21: =IF(E21=0,"",H21*$D$9/$I$10)
D22: 10 | F22: =IF(E22-E23=0,"",E22-E23) | H22: =IF(E22=0,"",IF(J13="Elastique",$G$13*E22/$E$13,MIN(G22,(H21*E22/E21)))) | I22: =IF(E22=0,"",H22*$D$9/$I$10)
D24: Cisaillement par boulon : | G24: Vi,Ed = | H24: =D6/(J7*J8) -> 3800 | I24: daN
D26: Traction par boulon [daN] :
D27: r | E27: i | F27: 1 | G27: 2 | H27: 3 | I27: 4
D28: 1 | E28: Ft1,i,Ed | F28: =IF($J$7=2,"",IF($I13="","",($I13/$J$7)+$D$5/($J$7*$J$8))) | G28: =IF($I13="","",($I13/$J$7)+$D$5/($J$7*$J$8)) -> 4903.2258 | H28: =IF($I13="","",($I13/$J$7)+$D$5/($J$7*$J$8)) -> 4903.2258 | I28: =IF($J$7=2,"",IF($I13="","",($I13/$J$7)+$D$5/($J$7*$J$8)))
D29: 2 | E29: Ft2,i,Ed | F29: =IF($J$7=2,"",IF($I14="","",($I14/$J$7)+$D$5/($J$7*$J$8))) | G29: =IF($I14="","",($I14/$J$7)+$D$5/($J$7*$J$8)) -> 3064.5161 | H29: =IF($I14="","",($I14/$J$7)+$D$5/($J$7*$J$8)) -> 3064.5161 | I29: =IF($J$7=2,"",IF($I14="","",($I14/$J$7)+$D$5/($J$7*$J$8)))
D30: 3 | E30: Ft3,i,Ed | F30: =IF($J$7=2,"",IF($I15="","",($I15/$J$7)+$D$5/($J$7*$J$8))) | G30: =IF($I15="","",($I15/$J$7)+$D$5/($J$7*$J$8)) -> 1225.8065 | H30: =IF($I15="","",($I15/$J$7)+$D$5/($J$7*$J$8)) -> 1225.8065 | I30: =IF($J$7=2,"",IF($I15="","",($I15/$J$7)+$D$5/($J$7*$J$8)))
D31: 4 | E31: Ft4,i,Ed | F31: =IF($J$7=2,"",IF($I16="","",($I16/$J$7)+$D$5/($J$7*$J$8))) | G31: =IF($I16="","",($I16/$J$7)+$D$5/($J$7*$J$8)) | H31: =IF($I16="","",($I16/$J$7)+$D$5/($J$7*$J$8)) | I31: =IF($J$7=2,"",IF($I16="","",($I16/$J$7)+$D$5/($J$7*$J$8)))
D32: 5 | E32: Ft5,i,Ed | F32: =IF($J$7=2,"",IF($I17="","",($I17/$J$7)+$D$5/($J$7*$J$8))) | G32: =IF($I17="","",($I17/$J$7)+$D$5/($J$7*$J$8)) | H32: =IF($I17="","",($I17/$J$7)+$D$5/($J$7*$J$8)) | I32: =IF($J$7=2,"",IF($I17="","",($I17/$J$7)+$D$5/($J$7*$J$8)))
D33: 6 | E33: Ft6,i,Ed | F33: =IF($J$7=2,"",IF($I18="","",($I18/$J$7)+$D$5/($J$7*$J$8))) | G33: =IF($I18="","",($I18/$J$7)+$D$5/($J$7*$J$8)) | H33: =IF($I18="","",($I18/$J$7)+$D$5/($J$7*$J$8)) | I33: =IF($J$7=2,"",IF($I18="","",($I18/$J$7)+$D$5/($J$7*$J$8)))
D34: 7 | E34: Ft7,i,Ed | F34: =IF($J$7=2,"",IF($I19="","",($I19/$J$7)+$D$5/($J$7*$J$8))) | G34: =IF($I19="","",($I19/$J$7)+$D$5/($J$7*$J$8)) | H34: =IF($I19="","",($I19/$J$7)+$D$5/($J$7*$J$8)) | I34: =IF($J$7=2,"",IF($I19="","",($I19/$J$7)+$D$5/($J$7*$J$8)))
D35: 8 | E35: Ft8,i,Ed | F35: =IF($J$7=2,"",IF($I20="","",($I20/$J$7)+$D$5/($J$7*$J$8))) | G35: =IF($I20="","",($I20/$J$7)+$D$5/($J$7*$J$8)) | H35: =IF($I20="","",($I20/$J$7)+$D$5/($J$7*$J$8)) | I35: =IF($J$7=2,"",IF($I20="","",($I20/$J$7)+$D$5/($J$7*$J$8)))
D36: 9 | E36: Ft9,i,Ed | F36: =IF($J$7=2,"",IF($I21="","",($I21/$J$7)+$D$5/($J$7*$J$8))) | G36: =IF($I21="","",($I21/$J$7)+$D$5/($J$7*$J$8)) | H36: =IF($I21="","",($I21/$J$7)+$D$5/($J$7*$J$8)) | I36: =IF($J$7=2,"",IF($I21="","",($I21/$J$7)+$D$5/($J$7*$J$8)))
D37: 10 | E37: Ft10,i,Ed | F37: =IF($J$7=2,"",IF($I22="","",($I22/$J$7)+$D$5/($J$7*$J$8))) | G37: =IF($I22="","",($I22/$J$7)+$D$5/($J$7*$J$8)) | H37: =IF($I22="","",($I22/$J$7)+$D$5/($J$7*$J$8)) | I37: =IF($J$7=2,"",IF($I22="","",($I22/$J$7)+$D$5/($J$7*$J$8)))
C39: ---------------------------------------------------------------------------------------------------------------------------------------------------------------------------------
C40: Efforts dans les boulons d'une éclisse
H41: Pince horizontale : px = | I41: 150 | J41: mm | M41: Position par rapport au repère
C42: Fx,Ed = | D42: 3000 | E42: daN | H42: Pince verticale : py = | I42: 120 | J42: mm | N42: 1 | O42: 2 | P42: 3 | Q42: 4 | R42: 5 | S42: 6 | T42: CdG
C43: Fy,Ed = | D43: -5000 | E43: daN | H43: Nombre de colonnes : ni,x = | I43: 5 | J43: =IF(I43>7,"Max 7 !!","") | M43: yi = | N43: =IF($I$44<(N$42+1),0,N$42*$I$42) -> 120 | O43: =IF($I$44<(O$42+1),0,O$42*$I$42) -> 240 | P43: =IF($I$44<(P$42+1),0,P$42*$I$42) -> 360 | Q43: =IF($I$44<(Q$42+1),0,Q$42*$I$42) -> 0 | R43: =IF($I$44<(R$42+1),0,R$42*$I$42) -> 0 | S43: =IF($I$44<(S$42+1),0,S$42*$I$42) -> 0 | T43: =MAX(N43:S43)/2 -> 180
C44: Mz,Ed = | D44: 2800 | E44: daN.m | H44: Nombre de rangées : nr,y = | I44: 4 | J44: =IF(I44>7,"Max 7 !!","") | M44: xi = | N44: =IF($I$43<(N$42+1),0,N$42*$I$41) -> 150 | O44: =IF($I$43<(O$42+1),0,O$42*$I$41) -> 300 | P44: =IF($I$43<(P$42+1),0,P$42*$I$41) -> 450 | Q44: =IF($I$43<(Q$42+1),0,Q$42*$I$41) -> 600 | R44: =IF($I$43<(R$42+1),0,R$42*$I$41) -> 0 | S44: =IF($I$43<(S$42+1),0,S$42*$I$41) -> 0 | T44: =MAX(N44:S44)/2 -> 300
H45: Nombre de boulons : nb = | I45: =I44*I43 -> 20 | M45: Σ(dx,r,i²+dy,ri²) = | N45: =SUM(N51:T51,N54:T54,N57:T57,N60:T60,N63:T63,N66:T66,N69:T69) -> 1260000
C47: Cisaillement par boulon [daN] : | F47: (par direction x ; y et composante globale) | M47: Distance des boulons du centre de rotation
C48: Fr \ i | D48: 1 | E48: 2 | F48: 3 | G48: 4 | H48: 5 | I48: 6 | J48: 7 | M48: r \ i | N48: 1 | O48: 2 | P48: 3 | Q48: 4 | R48: 5 | S48: 6 | T48: 7
C49: Fy,1,i,Ed | D49: =IF(N50<>0,($D$43/$I$45)+(1000*$D$44*N50)/$N$45,IF(N49<>0,($D$43/$I$45),0)) -> -916.66667 | E49: =IF(O50<>0,($D$43/$I$45)+(1000*$D$44*O50)/$N$45,IF(O49<>0,($D$43/$I$45),IF(P50<>0,$D$43/$I$45,0))) -> -583.33333 | F49: =IF(P50<>0,($D$43/$I$45)+(1000*$D$44*P50)/$N$45,IF(P49<>0,($D$43/$I$45),IF(Q50<>0,$D$43/$I$45,0))) -> -250 | G49: =IF(Q50<>0,($D$43/$I$45)+(1000*$D$44*Q50)/$N$45,IF(Q49<>0,($D$43/$I$45),IF(R50<>0,$D$43/$I$45,0))) -> 83.333333 | H49: =IF(R50<>0,($D$43/$I$45)+(1000*$D$44*R50)/$N$45,IF(R49<>0,($D$43/$I$45),IF(S50<>0,$D$43/$I$45,0))) -> 416.66667 | I49: =IF(S50<>0,($D$43/$I$45)+(1000*$D$44*S50)/$N$45,IF(S49<>0,($D$43/$I$45),IF(T50<>0,$D$43/$I$45,0))) -> 0 | J49: =IF(T50<>0,($D$43/$I$45)+(1000*$D$44*T50)/$N$45,IF(T49<>0,($D$43/$I$45),IF(U50<>0,$D$43/$I$45,0))) -> 0 | M49: dy,1,i | N49: =$T$43 -> 180 | O49: =IF($N$44=0,0,$T$43) -> 180 | P49: =IF($O$44=0,0,$T$43) -> 180 | Q49: =IF($P$44=0,0,$T$43) -> 180 | R49: =IF($Q$44=0,0,$T$43) -> 180 | S49: =IF($R$44=0,0,$T$43) -> 0 | T49: =IF($S$44=0,0,$T$43) -> 0
C50: Fx,1,i,Ed | D50: =IF(N49<>0,($D$42/$I$45)-(1000*$D$44*N49)/$N$45,IF(N50<>0,($D$42/$I$45),0)) -> -250 | E50: =IF(O49<>0,($D$42/$I$45)-(1000*$D$44*O49)/$N$45,IF(O50<>0,($D$42/$I$45),IF(O52<>0,$D$42/$I$45,0))) -> -250 | F50: =IF(P49<>0,($D$42/$I$45)-(1000*$D$44*P49)/$N$45,IF(P50<>0,($D$42/$I$45),IF(P52<>0,$D$42/$I$45,0))) -> -250 | G50: =IF(Q49<>0,($D$42/$I$45)-(1000*$D$44*Q49)/$N$45,IF(Q50<>0,($D$42/$I$45),IF(Q52<>0,$D$42/$I$45,0))) -> -250 | H50: =IF(R49<>0,($D$42/$I$45)-(1000*$D$44*R49)/$N$45,IF(R50<>0,($D$42/$I$45),IF(R52<>0,$D$42/$I$45,0))) -> -250 | I50: =IF(S49<>0,($D$42/$I$45)-(1000*$D$44*S49)/$N$45,IF(S50<>0,($D$42/$I$45),IF(S52<>0,$D$42/$I$45,0))) -> 0 | J50: =IF(T49<>0,($D$42/$I$45)-(1000*$D$44*T49)/$N$45,IF(T50<>0,($D$42/$I$45),IF(T52<>0,$D$42/$I$45,0))) -> 0 | M50: dx,1,i | N50: =-$T$44 -> -300 | O50: =IF(N$44=0,0,-$T$44+N$44) -> -150 | P50: =IF(O$44=0,0,-$T$44+O$44) -> 0 | Q50: =IF(P$44=0,0,-$T$44+P$44) -> 150 | R50: =IF(Q$44=0,0,-$T$44+Q$44) -> 300 | S50: =IF(R$44=0,0,-$T$44+R$44) -> 0 | T50: =IF(S$44=0,0,-$T$44+S$44) -> 0
C51: F1,i,Ed | D51: =SQRT(D49^2+D50^2) -> 950.14619 | E51: =SQRT(E49^2+E50^2) -> 634.64776 | F51: =SQRT(F49^2+F50^2) -> 353.55339 | G51: =SQRT(G49^2+G50^2) -> 263.52314 | H51: =SQRT(H49^2+H50^2) -> 485.91266 | I51: =SQRT(I49^2+I50^2) -> 0 | J51: =SQRT(J49^2+J50^2) -> 0 | M51: dx,1,i²+dy,1,i² | N51: =N49^2+N50^2 -> 122400 | O51: =O49^2+O50^2 -> 54900 | P51: =P49^2+P50^2 -> 32400 | Q51: =Q49^2+Q50^2 -> 54900 | R51: =R49^2+R50^2 -> 122400 | S51: =S49^2+S50^2 -> 0 | T51: =T49^2+T50^2 -> 0
C52: Fy,2,i,Ed | D52: =IF(N53<>0,($D$43/$I$45)+(1000*$D$44*N53)/$N$45,IF(N52<>0,($D$43/$I$45),IF(O53<>0,$D$43/$I$45,0))) -> -916.66667 | E52: =IF(O53<>0,($D$43/$I$45)+(1000*$D$44*O53)/$N$45,IF(O52<>0,($D$43/$I$45),IF(P53<>0,$D$43/$I$45,0))) -> -583.33333 | F52: =IF(P53<>0,($D$43/$I$45)+(1000*$D$44*P53)/$N$45,IF(P52<>0,($D$43/$I$45),IF(Q53<>0,$D$43/$I$45,0))) -> -250 | G52: =IF(Q53<>0,($D$43/$I$45)+(1000*$D$44*Q53)/$N$45,IF(Q52<>0,($D$43/$I$45),IF(R53<>0,$D$43/$I$45,0))) -> 83.333333 | H52: =IF(R53<>0,($D$43/$I$45)+(1000*$D$44*R53)/$N$45,IF(R52<>0,($D$43/$I$45),IF(S53<>0,$D$43/$I$45,0))) -> 416.66667 | I52: =IF(S53<>0,($D$43/$I$45)+(1000*$D$44*S53)/$N$45,IF(S52<>0,($D$43/$I$45),IF(T53<>0,$D$43/$I$45,0))) -> 0 | J52: =IF(T53<>0,($D$43/$I$45)+(1000*$D$44*T53)/$N$45,IF(T52<>0,($D$43/$I$45),IF(U53<>0,$D$43/$I$45,0))) -> 0 | M52: dy,2,i | N52: =IF($N$43=0,0,$T$43-$N$43) -> 60 | O52: =IF(N$44=0,0,IF($N$43=0,0,$T$43-$N$43)) -> 60 | P52: =IF(O$44=0,0,IF($N$43=0,0,$T$43-$N$43)) -> 60 | Q52: =IF(P$44=0,0,IF($N$43=0,0,$T$43-$N$43)) -> 60 | R52: =IF(Q$44=0,0,IF($N$43=0,0,$T$43-$N$43)) -> 60 | S52: =IF(R$44=0,0,IF($N$43=0,0,$T$43-$N$43)) -> 0 | T52: =IF(S$44=0,0,IF($N$43=0,0,$T$43-$N$43)) -> 0
C53: Fx,2,i,Ed | D53: =IF(N52<>0,($D$42/$I$45)-(1000*$D$44*N52)/$N$45,IF(N53<>0,($D$42/$I$45),IF(N55<>0,$D$42/$I$45,0))) -> 16.666667 | E53: =IF(O52<>0,($D$42/$I$45)-(1000*$D$44*O52)/$N$45,IF(O53<>0,($D$42/$I$45),IF(O55<>0,$D$42/$I$45,0))) -> 16.666667 | F53: =IF(P52<>0,($D$42/$I$45)-(1000*$D$44*P52)/$N$45,IF(P53<>0,($D$42/$I$45),IF(P55<>0,$D$42/$I$45,0))) -> 16.666667 | G53: =IF(Q52<>0,($D$42/$I$45)-(1000*$D$44*Q52)/$N$45,IF(Q53<>0,($D$42/$I$45),IF(Q55<>0,$D$42/$I$45,0))) -> 16.666667 | H53: =IF(R52<>0,($D$42/$I$45)-(1000*$D$44*R52)/$N$45,IF(R53<>0,($D$42/$I$45),IF(R55<>0,$D$42/$I$45,0))) -> 16.666667 | I53: =IF(S52<>0,($D$42/$I$45)-(1000*$D$44*S52)/$N$45,IF(S53<>0,($D$42/$I$45),IF(S55<>0,$D$42/$I$45,0))) -> 0 | J53: =IF(T52<>0,($D$42/$I$45)-(1000*$D$44*T52)/$N$45,IF(T53<>0,($D$42/$I$45),IF(T55<>0,$D$42/$I$45,0))) -> 0 | M53: dx,2 | N53: =IF($N$43=0,0,-$T$44) -> -300 | O53: =IF($N$43=0,0,IF(N$44=0,0,-$T$44+N$44)) -> -150 | P53: =IF($N$43=0,0,IF(O$44=0,0,-$T$44+O$44)) -> 0 | Q53: =IF($N$43=0,0,IF(P$44=0,0,-$T$44+P$44)) -> 150 | R53: =IF($N$43=0,0,IF(Q$44=0,0,-$T$44+Q$44)) -> 300 | S53: =IF($N$43=0,0,IF(R$44=0,0,-$T$44+R$44)) -> 0 | T53: =IF($N$43=0,0,IF(S$44=0,0,-$T$44+S$44)) -> 0
C54: F2,i,Ed | D54: =SQRT(D52^2+D53^2) -> 916.81817 | E54: =SQRT(E52^2+E53^2) -> 583.57138 | F54: =SQRT(F52^2+F53^2) -> 250.55494 | G54: =SQRT(G52^2+G53^2) -> 84.983659 | H54: =SQRT(H52^2+H53^2) -> 416.99987 | I54: =SQRT(I52^2+I53^2) -> 0 | J54: =SQRT(J52^2+J53^2) -> 0 | M54: dx,2,i²+dy,2,i² | N54: =N52^2+N53^2 -> 93600 | O54: =O52^2+O53^2 -> 26100 | P54: =P52^2+P53^2 -> 3600 | Q54: =Q52^2+Q53^2 -> 26100 | R54: =R52^2+R53^2 -> 93600 | S54: =S52^2+S53^2 -> 0 | T54: =T52^2+T53^2 -> 0
C55: Fy,3,i,Ed | D55: =IF(N56<>0,($D$43/$I$45)+(1000*$D$44*N56)/$N$45,IF(N55<>0,($D$43/$I$45),IF(O56<>0,$D$43/$I$45,0))) -> -916.66667 | E55: =IF(O56<>0,($D$43/$I$45)+(1000*$D$44*O56)/$N$45,IF(O55<>0,($D$43/$I$45),IF(P56<>0,$D$43/$I$45,0))) -> -583.33333 | F55: =IF(P56<>0,($D$43/$I$45)+(1000*$D$44*P56)/$N$45,IF(P55<>0,($D$43/$I$45),IF(Q56<>0,$D$43/$I$45,0))) -> -250 | G55: =IF(Q56<>0,($D$43/$I$45)+(1000*$D$44*Q56)/$N$45,IF(Q55<>0,($D$43/$I$45),IF(R56<>0,$D$43/$I$45,0))) -> 83.333333 | H55: =IF(R56<>0,($D$43/$I$45)+(1000*$D$44*R56)/$N$45,IF(R55<>0,($D$43/$I$45),IF(S56<>0,$D$43/$I$45,0))) -> 416.66667 | I55: =IF(S56<>0,($D$43/$I$45)+(1000*$D$44*S56)/$N$45,IF(S55<>0,($D$43/$I$45),IF(T56<>0,$D$43/$I$45,0))) -> 0 | J55: =IF(T56<>0,($D$43/$I$45)+(1000*$D$44*T56)/$N$45,IF(T55<>0,($D$43/$I$45),IF(U56<>0,$D$43/$I$45,0))) -> 0 | M55: dy,3,i | N55: =IF($O$43=0,0,$T$43-$O$43) -> -60 | O55: =IF(N$44=0,0,IF($O$43=0,0,$T$43-$O$43)) -> -60 | P55: =IF(O$44=0,0,IF($O$43=0,0,$T$43-$O$43)) -> -60 | Q55: =IF(P$44=0,0,IF($O$43=0,0,$T$43-$O$43)) -> -60 | R55: =IF(Q$44=0,0,IF($O$43=0,0,$T$43-$O$43)) -> -60 | S55: =IF(R$44=0,0,IF($O$43=0,0,$T$43-$O$43)) -> 0 | T55: =IF(S$44=0,0,IF($O$43=0,0,$T$43-$O$43)) -> 0
C56: Fx,3,i,Ed | D56: =IF(N55<>0,($D$42/$I$45)-(1000*$D$44*N55)/$N$45,IF(N56<>0,($D$42/$I$45),IF(N58<>0,$D$42/$I$45,0))) -> 283.33333 | E56: =IF(O55<>0,($D$42/$I$45)-(1000*$D$44*O55)/$N$45,IF(O56<>0,($D$42/$I$45),IF(O58<>0,$D$42/$I$45,0))) -> 283.33333 | F56: =IF(P55<>0,($D$42/$I$45)-(1000*$D$44*P55)/$N$45,IF(P56<>0,($D$42/$I$45),IF(P58<>0,$D$42/$I$45,0))) -> 283.33333 | G56: =IF(Q55<>0,($D$42/$I$45)-(1000*$D$44*Q55)/$N$45,IF(Q56<>0,($D$42/$I$45),IF(Q58<>0,$D$42/$I$45,0))) -> 283.33333 | H56: =IF(R55<>0,($D$42/$I$45)-(1000*$D$44*R55)/$N$45,IF(R56<>0,($D$42/$I$45),IF(R58<>0,$D$42/$I$45,0))) -> 283.33333 | I56: =IF(S55<>0,($D$42/$I$45)-(1000*$D$44*S55)/$N$45,IF(S56<>0,($D$42/$I$45),IF(S58<>0,$D$42/$I$45,0))) -> 0 | J56: =IF(T55<>0,($D$42/$I$45)-(1000*$D$44*T55)/$N$45,IF(T56<>0,($D$42/$I$45),IF(T58<>0,$D$42/$I$45,0))) -> 0 | M56: dx,3,i | N56: =IF($O$43=0,0,-$T$44) -> -300 | O56: =IF($O$43=0,0,IF(N$44=0,0,-$T$44+N$44)) -> -150 | P56: =IF($O$43=0,0,IF(O$44=0,0,-$T$44+O$44)) -> 0 | Q56: =IF($O$43=0,0,IF(P$44=0,0,-$T$44+P$44)) -> 150 | R56: =IF($O$43=0,0,IF(Q$44=0,0,-$T$44+Q$44)) -> 300 | S56: =IF($O$43=0,0,IF(R$44=0,0,-$T$44+R$44)) -> 0 | T56: =IF($O$43=0,0,IF(S$44=0,0,-$T$44+S$44)) -> 0
C57: F3,i,Ed | D57: =SQRT(D55^2+D56^2) -> 959.45586 | E57: =SQRT(E55^2+E56^2) -> 648.50255 | F57: =SQRT(F55^2+F56^2) -> 377.85947 | G57: =SQRT(G55^2+G56^2) -> 295.33409 | H57: =SQRT(H55^2+H56^2) -> 503.87388 | I57: =SQRT(I55^2+I56^2) -> 0 | J57: =SQRT(J55^2+J56^2) -> 0 | M57: dx,3,i+dy,3,i² | N57: =N55^2+N56^2 -> 93600 | O57: =O55^2+O56^2 -> 26100 | P57: =P55^2+P56^2 -> 3600 | Q57: =Q55^2+Q56^2 -> 26100 | R57: =R55^2+R56^2 -> 93600 | S57: =S55^2+S56^2 -> 0 | T57: =T55^2+T56^2 -> 0
C58: Fy,4,i,Ed | D58: =IF(N59<>0,($D$43/$I$45)+(1000*$D$44*N59)/$N$45,IF(N58<>0,($D$43/$I$45),IF(O59<>0,$D$43/$I$45,0))) -> -916.66667 | E58: =IF(O59<>0,($D$43/$I$45)+(1000*$D$44*O59)/$N$45,IF(O58<>0,($D$43/$I$45),IF(P59<>0,$D$43/$I$45,0))) -> -583.33333 | F58: =IF(P59<>0,($D$43/$I$45)+(1000*$D$44*P59)/$N$45,IF(P58<>0,($D$43/$I$45),IF(Q59<>0,$D$43/$I$45,0))) -> -250 | G58: =IF(Q59<>0,($D$43/$I$45)+(1000*$D$44*Q59)/$N$45,IF(Q58<>0,($D$43/$I$45),IF(R59<>0,$D$43/$I$45,0))) -> 83.333333 | H58: =IF(R59<>0,($D$43/$I$45)+(1000*$D$44*R59)/$N$45,IF(R58<>0,($D$43/$I$45),IF(S59<>0,$D$43/$I$45,0))) -> 416.66667 | I58: =IF(S59<>0,($D$43/$I$45)+(1000*$D$44*S59)/$N$45,IF(S58<>0,($D$43/$I$45),IF(T59<>0,$D$43/$I$45,0))) -> 0 | J58: =IF(T59<>0,($D$43/$I$45)+(1000*$D$44*T59)/$N$45,IF(T58<>0,($D$43/$I$45),IF(U59<>0,$D$43/$I$45,0))) -> 0 | M58: dx,4,i | N58: =IF($P$43=0,0,$T$43-$P$43) -> -180 | O58: =IF(N$44=0,0,IF($P$43=0,0,$T$43-$P$43)) -> -180 | P58: =IF(O$44=0,0,IF($P$43=0,0,$T$43-$P$43)) -> -180 | Q58: =IF(P$44=0,0,IF($P$43=0,0,$T$43-$P$43)) -> -180 | R58: =IF(Q$44=0,0,IF($P$43=0,0,$T$43-$P$43)) -> -180 | S58: =IF(R$44=0,0,IF($P$43=0,0,$T$43-$P$43)) -> 0 | T58: =IF(S$44=0,0,IF($P$43=0,0,$T$43-$P$43)) -> 0
C59: Fx,4,i,Ed | D59: =IF(N58<>0,($D$42/$I$45)-(1000*$D$44*N58)/$N$45,IF(N59<>0,($D$42/$I$45),IF(N61<>0,$D$42/$I$45,0))) -> 550 | E59: =IF(O58<>0,($D$42/$I$45)-(1000*$D$44*O58)/$N$45,IF(O59<>0,($D$42/$I$45),IF(O61<>0,$D$42/$I$45,0))) -> 550 | F59: =IF(P58<>0,($D$42/$I$45)-(1000*$D$44*P58)/$N$45,IF(P59<>0,($D$42/$I$45),IF(P61<>0,$D$42/$I$45,0))) -> 550 | G59: =IF(Q58<>0,($D$42/$I$45)-(1000*$D$44*Q58)/$N$45,IF(Q59<>0,($D$42/$I$45),IF(Q61<>0,$D$42/$I$45,0))) -> 550 | H59: =IF(R58<>0,($D$42/$I$45)-(1000*$D$44*R58)/$N$45,IF(R59<>0,($D$42/$I$45),IF(R61<>0,$D$42/$I$45,0))) -> 550 | I59: =IF(S58<>0,($D$42/$I$45)-(1000*$D$44*S58)/$N$45,IF(S59<>0,($D$42/$I$45),IF(S61<>0,$D$42/$I$45,0))) -> 0 | J59: =IF(T58<>0,($D$42/$I$45)-(1000*$D$44*T58)/$N$45,IF(T59<>0,($D$42/$I$45),IF(T61<>0,$D$42/$I$45,0))) -> 0 | M59: dy,4,i | N59: =IF($P$43=0,0,-$T$44) -> -300 | O59: =IF($P$43=0,0,IF(N$44=0,0,-$T$44+N$44)) -> -150 | P59: =IF($P$43=0,0,IF(O$44=0,0,-$T$44+O$44)) -> 0 | Q59: =IF($P$43=0,0,IF(P$44=0,0,-$T$44+P$44)) -> 150 | R59: =IF($P$43=0,0,IF(Q$44=0,0,-$T$44+Q$44)) -> 300 | S59: =IF($P$43=0,0,IF(R$44=0,0,-$T$44+R$44)) -> 0 | T59: =IF($P$43=0,0,IF(S$44=0,0,-$T$44+S$44)) -> 0
C60: F4,i,Ed | D60: =SQRT(D58^2+D59^2) -> 1069.0078 | E60: =SQRT(E58^2+E59^2) -> 801.73423 | F60: =SQRT(F58^2+F59^2) -> 604.1523 | G60: =SQRT(G58^2+G59^2) -> 556.27731 | H60: =SQRT(H58^2+H59^2) -> 690.00805 | I60: =SQRT(I58^2+I59^2) -> 0 | J60: =SQRT(J58^2+J59^2) -> 0 | M60: dx,4,i²+dy,4,i² | N60: =N58^2+N59^2 -> 122400 | O60: =O58^2+O59^2 -> 54900 | P60: =P58^2+P59^2 -> 32400 | Q60: =Q58^2+Q59^2 -> 54900 | R60: =R58^2+R59^2 -> 122400 | S60: =S58^2+S59^2 -> 0 | T60: =T58^2+T59^2 -> 0
C61: Fy,5,i,Ed | D61: =IF(N62<>0,($D$43/$I$45)+(1000*$D$44*N62)/$N$45,IF(N61<>0,($D$43/$I$45),IF(O62<>0,$D$43/$I$45,0))) -> 0 | E61: =IF(O62<>0,($D$43/$I$45)+(1000*$D$44*O62)/$N$45,IF(O61<>0,($D$43/$I$45),IF(P62<>0,$D$43/$I$45,0))) -> 0 | F61: =IF(P62<>0,($D$43/$I$45)+(1000*$D$44*P62)/$N$45,IF(P61<>0,($D$43/$I$45),IF(Q62<>0,$D$43/$I$45,0))) -> 0 | G61: =IF(Q62<>0,($D$43/$I$45)+(1000*$D$44*Q62)/$N$45,IF(Q61<>0,($D$43/$I$45),IF(R62<>0,$D$43/$I$45,0))) -> 0 | H61: =IF(R62<>0,($D$43/$I$45)+(1000*$D$44*R62)/$N$45,IF(R61<>0,($D$43/$I$45),IF(S62<>0,$D$43/$I$45,0))) -> 0 | I61: =IF(S62<>0,($D$43/$I$45)+(1000*$D$44*S62)/$N$45,IF(S61<>0,($D$43/$I$45),IF(T62<>0,$D$43/$I$45,0))) -> 0 | J61: =IF(T62<>0,($D$43/$I$45)+(1000*$D$44*T62)/$N$45,IF(T61<>0,($D$43/$I$45),IF(U62<>0,$D$43/$I$45,0))) -> 0 | M61: dx,5,i | N61: =IF($Q$43=0,0,$T$43-$Q$43) -> 0 | O61: =IF(N$44=0,0,IF($Q$43=0,0,$T$43-$Q$43)) -> 0 | P61: =IF(O$44=0,0,IF($Q$43=0,0,$T$43-$Q$43)) -> 0 | Q61: =IF(P$44=0,0,IF($Q$43=0,0,$T$43-$Q$43)) -> 0 | R61: =IF(Q$44=0,0,IF($Q$43=0,0,$T$43-$Q$43)) -> 0 | S61: =IF(R$44=0,0,IF($Q$43=0,0,$T$43-$Q$43)) -> 0 | T61: =IF(S$44=0,0,IF($Q$43=0,0,$T$43-$Q$43)) -> 0
C62: Fx,5,i,Ed | D62: =IF(N61<>0,($D$42/$I$45)-(1000*$D$44*N61)/$N$45,IF(N62<>0,($D$42/$I$45),IF(N64<>0,$D$42/$I$45,0))) -> 0 | E62: =IF(O61<>0,($D$42/$I$45)-(1000*$D$44*O61)/$N$45,IF(O62<>0,($D$42/$I$45),IF(O64<>0,$D$42/$I$45,0))) -> 0 | F62: =IF(P61<>0,($D$42/$I$45)-(1000*$D$44*P61)/$N$45,IF(P62<>0,($D$42/$I$45),IF(P64<>0,$D$42/$I$45,0))) -> 0 | G62: =IF(Q61<>0,($D$42/$I$45)-(1000*$D$44*Q61)/$N$45,IF(Q62<>0,($D$42/$I$45),IF(Q64<>0,$D$42/$I$45,0))) -> 0 | H62: =IF(R61<>0,($D$42/$I$45)-(1000*$D$44*R61)/$N$45,IF(R62<>0,($D$42/$I$45),IF(R64<>0,$D$42/$I$45,0))) -> 0 | I62: =IF(S61<>0,($D$42/$I$45)-(1000*$D$44*S61)/$N$45,IF(S62<>0,($D$42/$I$45),IF(S64<>0,$D$42/$I$45,0))) -> 0 | J62: =IF(T61<>0,($D$42/$I$45)-(1000*$D$44*T61)/$N$45,IF(T62<>0,($D$42/$I$45),IF(T64<>0,$D$42/$I$45,0))) -> 0 | M62: dy,5,i | N62: =IF($Q$43=0,0,-$T$44) -> 0 | O62: =IF($Q$43=0,0,IF(N$44=0,0,-$T$44+N$44)) -> 0 | P62: =IF($Q$43=0,0,IF(O$44=0,0,-$T$44+O$44)) -> 0 | Q62: =IF($Q$43=0,0,IF(P$44=0,0,-$T$44+P$44)) -> 0 | R62: =IF($Q$43=0,0,IF(Q$44=0,0,-$T$44+Q$44)) -> 0 | S62: =IF($Q$43=0,0,IF(R$44=0,0,-$T$44+R$44)) -> 0 | T62: =IF($Q$43=0,0,IF(S$44=0,0,-$T$44+S$44)) -> 0
C63: F5,i,Ed | D63: =SQRT(D61^2+D62^2) -> 0 | E63: =SQRT(E61^2+E62^2) -> 0 | F63: =SQRT(F61^2+F62^2) -> 0 | G63: =SQRT(G61^2+G62^2) -> 0 | H63: =SQRT(H61^2+H62^2) -> 0 | I63: =SQRT(I61^2+I62^2) -> 0 | J63: =SQRT(J61^2+J62^2) -> 0 | M63: dx,5,i²+dy,5,i² | N63: =N61^2+N62^2 -> 0 | O63: =O61^2+O62^2 -> 0 | P63: =P61^2+P62^2 -> 0 | Q63: =Q61^2+Q62^2 -> 0 | R63: =R61^2+R62^2 -> 0 | S63: =S61^2+S62^2 -> 0 | T63: =T61^2+T62^2 -> 0
C64: Fy,6,i,Ed | D64: =IF(N65<>0,($D$43/$I$45)+(1000*$D$44*N65)/$N$45,IF(N64<>0,($D$43/$I$45),IF(O65<>0,$D$43/$I$45,0))) -> 0 | E64: =IF(O65<>0,($D$43/$I$45)+(1000*$D$44*O65)/$N$45,IF(O64<>0,($D$43/$I$45),IF(P65<>0,$D$43/$I$45,0))) -> 0 | F64: =IF(P65<>0,($D$43/$I$45)+(1000*$D$44*P65)/$N$45,IF(P64<>0,($D$43/$I$45),IF(Q65<>0,$D$43/$I$45,0))) -> 0 | G64: =IF(Q65<>0,($D$43/$I$45)+(1000*$D$44*Q65)/$N$45,IF(Q64<>0,($D$43/$I$45),IF(R65<>0,$D$43/$I$45,0))) -> 0 | H64: =IF(R65<>0,($D$43/$I$45)+(1000*$D$44*R65)/$N$45,IF(R64<>0,($D$43/$I$45),IF(S65<>0,$D$43/$I$45,0))) -> 0 | I64: =IF(S65<>0,($D$43/$I$45)+(1000*$D$44*S65)/$N$45,IF(S64<>0,($D$43/$I$45),IF(T65<>0,$D$43/$I$45,0))) -> 0 | J64: =IF(T65<>0,($D$43/$I$45)+(1000*$D$44*T65)/$N$45,IF(T64<>0,($D$43/$I$45),IF(U65<>0,$D$43/$I$45,0))) -> 0 | M64: dx,6,i | N64: =IF($R$43=0,0,$T$43-$R$43) -> 0 | O64: =IF(N$44=0,0,IF($R$43=0,0,$T$43-$R$43)) -> 0 | P64: =IF(O$44=0,0,IF($R$43=0,0,$T$43-$R$43)) -> 0 | Q64: =IF(P$44=0,0,IF($R$43=0,0,$T$43-$R$43)) -> 0 | R64: =IF(Q$44=0,0,IF($R$43=0,0,$T$43-$R$43)) -> 0 | S64: =IF(R$44=0,0,IF($R$43=0,0,$T$43-$R$43)) -> 0 | T64: =IF(S$44=0,0,IF($R$43=0,0,$T$43-$R$43)) -> 0
C65: Fx,6,i,Ed | D65: =IF(N64<>0,($D$42/$I$45)-(1000*$D$44*N64)/$N$45,IF(N65<>0,($D$42/$I$45),IF(N67<>0,$D$42/$I$45,0))) -> 0 | E65: =IF(O64<>0,($D$42/$I$45)-(1000*$D$44*O64)/$N$45,IF(O65<>0,($D$42/$I$45),IF(O67<>0,$D$42/$I$45,0))) -> 0 | F65: =IF(P64<>0,($D$42/$I$45)-(1000*$D$44*P64)/$N$45,IF(P65<>0,($D$42/$I$45),IF(P67<>0,$D$42/$I$45,0))) -> 0 | G65: =IF(Q64<>0,($D$42/$I$45)-(1000*$D$44*Q64)/$N$45,IF(Q65<>0,($D$42/$I$45),IF(Q67<>0,$D$42/$I$45,0))) -> 0 | H65: =IF(R64<>0,($D$42/$I$45)-(1000*$D$44*R64)/$N$45,IF(R65<>0,($D$42/$I$45),IF(R67<>0,$D$42/$I$45,0))) -> 0 | I65: =IF(S64<>0,($D$42/$I$45)-(1000*$D$44*S64)/$N$45,IF(S65<>0,($D$42/$I$45),IF(S67<>0,$D$42/$I$45,0))) -> 0 | J65: =IF(T64<>0,($D$42/$I$45)-(1000*$D$44*T64)/$N$45,IF(T65<>0,($D$42/$I$45),IF(T67<>0,$D$42/$I$45,0))) -> 0 | M65: dy,6,i | N65: =IF($R$43=0,0,-$T$44) -> 0 | O65: =IF($R$43=0,0,IF(N$44=0,0,-$T$44+N$44)) -> 0 | P65: =IF($R$43=0,0,IF(O$44=0,0,-$T$44+O$44)) -> 0 | Q65: =IF($R$43=0,0,IF(P$44=0,0,-$T$44+P$44)) -> 0 | R65: =IF($R$43=0,0,IF(Q$44=0,0,-$T$44+Q$44)) -> 0 | S65: =IF($R$43=0,0,IF(R$44=0,0,-$T$44+R$44)) -> 0 | T65: =IF($R$43=0,0,IF(S$44=0,0,-$T$44+S$44)) -> 0
C66: F6,i,Ed | D66: =SQRT(D64^2+D65^2) -> 0 | E66: =SQRT(E64^2+E65^2) -> 0 | F66: =SQRT(F64^2+F65^2) -> 0 | G66: =SQRT(G64^2+G65^2) -> 0 | H66: =SQRT(H64^2+H65^2) -> 0 | I66: =SQRT(I64^2+I65^2) -> 0 | J66: =SQRT(J64^2+J65^2) -> 0 | M66: dx,6,i²+dy,6,i² | N66: =N64^2+N65^2 -> 0 | O66: =O64^2+O65^2 -> 0 | P66: =P64^2+P65^2 -> 0 | Q66: =Q64^2+Q65^2 -> 0 | R66: =R64^2+R65^2 -> 0 | S66: =S64^2+S65^2 -> 0 | T66: =T64^2+T65^2 -> 0
C67: Fy,7,i,Ed | D67: =IF(N68<>0,($D$43/$I$45)+(1000*$D$44*N68)/$N$45,IF(N67<>0,($D$43/$I$45),IF(O68<>0,$D$43/$I$45,0))) -> 0 | E67: =IF(O68<>0,($D$43/$I$45)+(1000*$D$44*O68)/$N$45,IF(O67<>0,($D$43/$I$45),IF(P68<>0,$D$43/$I$45,0))) -> 0 | F67: =IF(P68<>0,($D$43/$I$45)+(1000*$D$44*P68)/$N$45,IF(P67<>0,($D$43/$I$45),IF(Q68<>0,$D$43/$I$45,0))) -> 0 | G67: =IF(Q68<>0,($D$43/$I$45)+(1000*$D$44*Q68)/$N$45,IF(Q67<>0,($D$43/$I$45),IF(R68<>0,$D$43/$I$45,0))) -> 0 | H67: =IF(R68<>0,($D$43/$I$45)+(1000*$D$44*R68)/$N$45,IF(R67<>0,($D$43/$I$45),IF(S68<>0,$D$43/$I$45,0))) -> 0 | I67: =IF(S68<>0,($D$43/$I$45)+(1000*$D$44*S68)/$N$45,IF(S67<>0,($D$43/$I$45),IF(T68<>0,$D$43/$I$45,0))) -> 0 | J67: =IF(T68<>0,($D$43/$I$45)+(1000*$D$44*T68)/$N$45,IF(T67<>0,($D$43/$I$45),IF(U68<>0,$D$43/$I$45,0))) -> 0 | M67: dx,7,i | N67: =IF($S$43=0,0,$T$43-$S$43) -> 0 | O67: =IF(N$44=0,0,IF($S$43=0,0,$T$43-$S$43)) -> 0 | P67: =IF(O$44=0,0,IF($S$43=0,0,$T$43-$S$43)) -> 0 | Q67: =IF(P$44=0,0,IF($S$43=0,0,$T$43-$S$43)) -> 0 | R67: =IF(Q$44=0,0,IF($S$43=0,0,$T$43-$S$43)) -> 0 | S67: =IF(R$44=0,0,IF($S$43=0,0,$T$43-$S$43)) -> 0 | T67: =IF(S$44=0,0,IF($S$43=0,0,$T$43-$S$43)) -> 0
C68: Fx,7,i,Ed | D68: =IF(N67<>0,($D$42/$I$45)-(1000*$D$44*N67)/$N$45,IF(N68<>0,($D$42/$I$45),IF(N70<>0,$D$42/$I$45,0))) -> 0 | E68: =IF(O67<>0,($D$42/$I$45)-(1000*$D$44*O67)/$N$45,IF(O68<>0,($D$42/$I$45),IF(O70<>0,$D$42/$I$45,0))) -> 0 | F68: =IF(P67<>0,($D$42/$I$45)-(1000*$D$44*P67)/$N$45,IF(P68<>0,($D$42/$I$45),IF(P70<>0,$D$42/$I$45,0))) -> 0 | G68: =IF(Q67<>0,($D$42/$I$45)-(1000*$D$44*Q67)/$N$45,IF(Q68<>0,($D$42/$I$45),IF(Q70<>0,$D$42/$I$45,0))) -> 0 | H68: =IF(R67<>0,($D$42/$I$45)-(1000*$D$44*R67)/$N$45,IF(R68<>0,($D$42/$I$45),IF(R70<>0,$D$42/$I$45,0))) -> 0 | I68: =IF(S67<>0,($D$42/$I$45)-(1000*$D$44*S67)/$N$45,IF(S68<>0,($D$42/$I$45),IF(S70<>0,$D$42/$I$45,0))) -> 0 | J68: =IF(T67<>0,($D$42/$I$45)-(1000*$D$44*T67)/$N$45,IF(T68<>0,($D$42/$I$45),IF(T70<>0,$D$42/$I$45,0))) -> 0 | M68: dy,7,i | N68: =IF($S$43=0,0,-$T$44) -> 0 | O68: =IF($S$43=0,0,IF(N$44=0,0,-$T$44+N$44)) -> 0 | P68: =IF($S$43=0,0,IF(O$44=0,0,-$T$44+O$44)) -> 0 | Q68: =IF($S$43=0,0,IF(P$44=0,0,-$T$44+P$44)) -> 0 | R68: =IF($S$43=0,0,IF(Q$44=0,0,-$T$44+Q$44)) -> 0 | S68: =IF($S$43=0,0,IF(R$44=0,0,-$T$44+R$44)) -> 0 | T68: =IF($S$43=0,0,IF(S$44=0,0,-$T$44+S$44)) -> 0
C69: F7,i,Ed | D69: =SQRT(D67^2+D68^2) -> 0 | E69: =SQRT(E67^2+E68^2) -> 0 | F69: =SQRT(F67^2+F68^2) -> 0 | G69: =SQRT(G67^2+G68^2) -> 0 | H69: =SQRT(H67^2+H68^2) -> 0 | I69: =SQRT(I67^2+I68^2) -> 0 | J69: =SQRT(J67^2+J68^2) -> 0 | M69: dx,7,i²+dy,7,i² | N69: =N67^2+N68^2 -> 0 | O69: =O67^2+O68^2 -> 0 | P69: =P67^2+P68^2 -> 0 | Q69: =Q67^2+Q68^2 -> 0 | R69: =R67^2+R68^2 -> 0 | S69: =S67^2+S68^2 -> 0 | T69: =T67^2+T68^2 -> 0

Sheet Divers
C3: =IF(Configuration!Y4="EN","Buckling of double angles using simplified method (CM journal 2010-N°4)","Flambement des doubles cornières selon méthode simplifiée (revue CM 2010-N°4)") -> Flambement des doubles cornières selon méthode simplifiée (revue CM 2010-N°4) | J3: =IF(E9=">","N/A",H4/G15) -> 0.43727124
C4: =IF(Configuration!Y4="EN",N6&" - "&N5&" - gap = "&O5&" mm - "&M5&" battens",N6&" - "&N5&" - jeu = "&O5&" mm - "&M5&" barettes") -> CAE 110x110x10 - S275 - jeu = 12 mm - 4 barettes | G4: Ned = | H4: =N7 -> 20000 | M4: Nb barette | N4: Nuance | O4: Jeu | P4: Axe z-z' | Q4: 4000 | S4: Lcr/L = | T4: 1 | U4: h0 | V4: 2 | W4: =0.18*$D$9^2+0.77*$D$9+0.39 -> 1.2599788 | X4: =0.86*$D$9^2-0.18*$D$9+0.66 -> 1.2340986
D5: =IF(Configuration!Y4="EN","distance between battens","côte entre barettes") -> côte entre barettes | E5: =MIN(G7,G11)/(M5+1) -> 800 | F5: =IF(E5<=H5,"<",">") -> < | G5: 50iv = | H5: =50*T7 -> 1076.8949 | M5: 4 | N5: S275 | O5: 12 | P5: Axe y-y' | Q5: 4000 | S5: Lcr/L = | T5: 1 | U5: =0.1*(2*(VLOOKUP(N6,Cornières!A5:AJ97,35,FALSE))+O5) -> 7.32 | V5: 3 | W5: =0.32*$D$9^2+0.52*$D$9+0.41 -> 1.1685482 | X5: =0.66*$D$9^2-0.16*$D$9+0.66 -> 1.0802928
C6: =IF(Configuration!Y4="EN","Reduced slenderness about strong axis z'-z'","Elancement réduit sur l'axe fort z'-z'") -> Elancement réduit sur l'axe fort z'-z' | M6: Profil | N6: CAE 110x110x10 | P6: fy | Q6: A | R6: I | S6: Iv | T6: iv | U6: Iz’ | V6: 4 | W6: =0.56*$D$9^2+0.17*$D$9+0.48 -> 1.1204674 | X6: =0.65*$D$9^2-0.21*$D$9+0.67 -> 1.0352557
C7: Iz’ = | D7: =U7 -> 1043.3976 | F7: Lcr = | G7: =Q4*T4 -> 4000 | M7: Ned = | N7: 20000 | P7: =VLOOKUP(N5,Data!$A$3:$D$17,2,FALSE) -> 27.5 | Q7: =100*VLOOKUP(N6,Cornières!A5:AJ97,8,FALSE) -> 2118 | R7: =VLOOKUP(N6,Cornières!A5:AJ97,9,FALSE) -> 237.98 | S7: =VLOOKUP(N6,Cornières!A5:AJ97,23,FALSE) -> 98.25 | T7: =10*VLOOKUP(N6,Cornières!A5:AJ97,26,FALSE) -> 21.537897 | U7: =0.5*(U5)^2*(Q7/100)+2*R7 -> 1043.3976 | V7: 5 | W7: =0.69*$D$9^2-0.05*$D$9+0.53 -> 1.0782692 | X7: =0.69*$D$9^2-0.31*$D$9+0.7 -> 1.0068937
C8: Ncr,z’ = | D8: =(PI()^2*21000*D7*10000)/(G7)^2 -> 135160.22 | O8: Axe principal Cornière Simple | P8: Iv = | Q8: =S7 -> 98.25 | R8: Ncr,v = | S8: =(PI()^2*21000*Q8*10000)/(T4*Q4)^2 -> 12727.163 | T8: `lv = | U8: =(Q7*P7/S8)^0.5 -> 2.1392597
C9: `lz' = | D9: =(2*Q7*P7/D8)^0.5 -> 0.92836738 | E9: =IF(D9<=F9,"<",">") -> < | F9: 1.8 | G9: `leff = | H9: =IF(N5="S235",VLOOKUP(M5,V4:X7,2,FALSE),VLOOKUP(M5,V4:X7,3,FALSE)) -> 1.0352557
C10: =IF(Configuration!Y4="EN","Reduced slenderness about weak axis y'-y'","Elancement réduit sur l'axe faible y'-y'") -> Elancement réduit sur l'axe faible y'-y'
C11: Iy’ = | D11: =2*R7 -> 475.96 | F11: Lcr = | G11: =Q5*T5 -> 4000
C12: Ncr,y’ = | D12: =(PI()^2*21000*D11*10000)/(G11)^2 -> 61655.172 | G12: `ly' = | H12: =(2*Q7*P7/D12)^0.5 -> 1.3745469
C13: =IF(Configuration!Y4="EN","Buckling resistance","Résistance au flambement") -> Résistance au flambement
D14: `lmax = max(`ly' ; leff) = | E14: =MAX(H9,H12) -> 1.3745469 | F14: f = | G14: =0.5*(1+0.34*(E14-0.2)+E14^2) -> 1.6443626 | H14: c(`lmax) = | I14: =MIN(1,(1/(G14+SQRT(G14^2-E14^2)))) -> 0.39263629
C15: Npl,Rd = | D15: =2*Q7*P7/G_M0 -> 116490 | F15: Nb,Rd = | G15: =IF(E9=">","non valide",I14*D15) -> 45738.202
C16: -------------------------------------------------------------------------------------------------------------------------------------------------------------------------------
C17: =IF(Configuration!Y4="EN","Bar Buckling","Flambement Barre") -> Flambement Barre | J17: =Q18/H26 -> 0.70733118 | M17: SHS | N17: CARF 90*3 | O17: Axe | P17: L = | Q17: 7500 | S17: Lcr/ L | T17: Courbe | U17: A | V17: I | W17: fy | X17: =IF(O18="Y","Wply","Wplz") -> Wplz
C18: Ned = | D18: =Q18 -> 2400 | F18: Section : | G18: =N17&" - "&N18 -> CARF 90*3 - S235 | M18: Nuance | N18: S235 | O18: Z | P18: NEd = | Q18: 2400 | S18: 1 | T18: c | U18: {=INDEX(IF(M17="Laminé",Profilés!H4:H440,IF(M17="Cornière",Cornières!H5:H440,IF(M17="SHS",Tubes_SHS!H4:H440,IF(M17="RHS",Tubes_RHS!H4:H440,IF(M17="CHS",Tubes_CHS!H4:H440))))),O19)} -> 10.20823 | V18: {=INDEX(IF(M17="Laminé",IF(O18="Y",Profilés!I4:I440,Profilés!N4:N440),IF(M17="Cornière",IF(O18="Y",Cornières!N5:N440,Cornières!W5:W440),IF(M17="SHS",Tubes_SHS!I4:I440,IF(M17="RHS",IF(O18="Y",Tubes_RHS!I4:I440,Tubes_RHS!N4:NI440),IF(M17="CHS",Tubes_CHS!I4:I440,U19))))),O19)} -> 127 | W18: =VLOOKUP(N18,Data!$A$3:$D$34,2,FALSE) -> 23.5 | X18: {=INDEX(IF(M17="Laminé",IF(O18="Y",Profilés!K4:K440,Profilés!P4:P440),IF(M17="Cornière",IF(O18="Y",Cornières!O5:O440,Cornières!Y5:Y440),IF(M17="SHS",Tubes_SHS!K4:K440,IF(M17="RHS",IF(O18="Y",Tubes_RHS!K4:K440,Tubes_RHS!P4:PI440),IF(M17="CHS",Tubes_CHS!K4:K440,U19))))),O19)} -> 33
C19: Lcr/L = | D19: =T19 -> 1 | E19: a = | F19: =IF(T18="a0",0.13,IF(T18="a",0.21,IF(T18="b",0.34,IF(T18="c",0.49,0.76)))) -> 0.49 | G19: Ncr = | H19: =(PI()^2*21000*V18*10000)/(T19*Q17)^2 -> 4679.5084 | M19: exc = | N19: 48 | O19: =IF(M17="Laminé",MATCH(N17,Profilés!$A$4:$A$440,0),IF(M17="Cornière",MATCH(N17,Cornières!$A$4:$A$440,0),IF(M17="SHS",MATCH(N17,Tubes_SHS!$A$4:$A$440,0),IF(M17="RHS",MATCH(N17,Tubes_RHS!$A$4:$A$440,0),IF(M17="CHS",MATCH(N17,Tubes_CHS!$A$4:$A$440,0),U19))))) -> 36 | Q19: Lcr/ L manuel | S19: 1 | T19: =IF(S18="Manuel",S19,S18) -> 1
C20: `l = | D20: =(U18*W18*100/H19)^0.5 -> 2.26417 | E20: f = | F20: =0.5*(1+F19*(D20-0.2)+D20^2) -> 3.5689546 | G20: c(`l) = | H20: =MIN(1,(1/(F20+SQRT(F20^2-D20^2)))) -> 0.15803397
C21: L = | D21: =Q17 -> 7500 | F21: Npl,Rd = | G21: =U18*100*W18/G_M0 -> 23989.341
F22: Nb,Rd = | G22: =H20*G21 -> 3791.1307
C24: =IF(Configuration!Y4="EN","Bending + Compression","Flexion + Compression") -> Flexion + Compression
D25: exc = | E25: =N19 -> 48 | F25: Mpl,Rd = | G25: =X18*W18/G_M0 -> 775.5
D26: Nc,M,Rd = | E26: Nb,Rd | G26: = | H26: =G22/(1+(0.001*E25*G22)/(2*G25)) -> 3393.0358
E27: 1 + exc * Nb,Rd/2Mpl,Rd
C28: -------------------------------------------------------------------------------------------------------------------------------------------------------------------------------
C29: =IF(Configuration!Y4="EN","Plate Buckling","Flambement Plat") -> Flambement Plat | J29: =Q30/H38 -> 0.98871469 | M29: Plat | O29: Axe | P29: L = | Q29: 100 | S29: Lcr/ L | T29: Courbe | U29: A | V29: I | W29: fy
C30: Ned = | D30: =Q30 -> 2400 | F30: Section : | G30: =Q31&" - "&N30 -> PL 300*6 - S235 | M30: Nuance | N30: S235 | O30: Z | P30: NEd = | Q30: 2400 | S30: 1.2 | T30: c | U30: =0.01*N31*P31 -> 18 | V30: =0.0001*N31*P31^3/12 -> 0.54 | W30: =VLOOKUP(N30,Data!$A$3:$D$34,2,FALSE) -> 23.5
C31: Lcr/L = | D31: =S30 -> 1.2 | E31: a = | F31: =IF(T30="a0",0.13,IF(T30="a",0.21,IF(T30="b",0.34,IF(T30="c",0.49,0.76)))) -> 0.49 | G31: Ncr = | H31: =(PI()^2*21000*V30*10000)/(S30*Q29)^2 -> 77723.135 | M31: b = | N31: 300 | O31: t = | P31: 6 | Q31: ="PL "&N31&"*"&P31 -> PL 300*6 | S31: Wplz = | T31: =0.001*N31*P31^2/4 -> 2.7
C32: `l = | D32: =(U30*W30*100/H31)^0.5 -> 0.7377259 | E32: f = | F32: =0.5*(1+F31*(D32-0.2)+D32^2) -> 0.9038626 | G32: c(`l) = | H32: =MIN(1,(1/(F32+SQRT(F32^2-D32^2)))) -> 0.7012149 | M32: exc = | N32: 48
C33: L = | D33: =Q29 -> 100 | F33: Npl,Rd = | G33: =U30*100*W30/G_M0 -> 42300
F34: Nb,Rd = | G34: =H32*G33 -> 29661.39
C36: =IF(Configuration!Y4="EN","Bending + Compression","Flexion + Compression") -> Flexion + Compression
D37: exc = | E37: =N32 -> 48 | F37: Mpl,Rd = | G37: =T31*W30/G_M0 -> 63.45
D38: Nc,M,Rd = | E38: Nb,Rd | G38: = | H38: =G34/(1+(0.001*E37*G34)/(2*G37)) -> 2427.3939
E39: 1 + exc * Nb,Rd/2Mpl,Rd
C40: -------------------------------------------------------------------------------------------------------------------------------------------------------------------------------
C41: =IF(Configuration!Y4="EN","Angles in tension","Cornières en traction") -> Cornières en traction | J41: =D42/G45 -> 0.32237266
C42: Ned = | D42: 2000 | G42: CAE 50x50x5 | I42: Simple | M42: =MATCH(G42,Cornières!$A$5:$A$153,0) -> 23 | N42: =IF(I42="Simple",1,IF(I42="Double",2,4)) -> 1
C43: β = | D43: 0.47 | G43: S275 | H43: fy = | I43: =VLOOKUP(G43,Data!$A$3:$D$34,2,FALSE)*10 -> 275 | J43: MPa
H44: A = | I44: {=100*INDEX(Cornières!$H$5:$H$153,Divers!M42)*N42} -> 480 | J44: mm²
F45: Npl,Rd = β * A * fy = | G45: =D43*I44*I43/(10*G_M0) -> 6204
C46: -------------------------------------------------------------------------------------------------------------------------------------------------------------------------------
C47: =IF(Configuration!Y4="EN","Minimum characteristics","Caractéristiques minimum") -> Caractéristiques minimum
C48: Med-ELU = | D48: =P48 -> 700 | F48: Nuance : | G48: =N48 -> S235 | H48: Wmin = | I48: =G_M0*P48/S48 -> 29.787234 | J48: cm3 | M48: Nuance | N48: S235 | O48: Med-ELU = | P48: 700 | R48: fy | S48: =VLOOKUP(N48,Data!$A$3:$D$34,2,FALSE) -> 23.5
C49: Med-ELS = | D49: =P49 -> 500 | F49: Flèche : | G49: =N49 -> 300 | M49: Flèche | N49: 300 | O49: Med-ELS = | P49: 500
F50: Types d'Appuis : | G50: =N50 -> Art-Art | H50: Imin = | I50: =IF(N50="Art-Art",(8*5*D49*P50^2)/(384*210*(P50/N49)),IF(N50="Enc-Enc",(12*D49*P50^2)/(384*210*(P50/N49)),(8*D49*P50^2)/(185*210*(P50/N49)))) -> 390.625 | J50: cm4 | M50: Appuis | N50: Art-Art | O50: L = | P50: 5.25

Sheet PRS
B2: Outils de prédimensionnement
C3: Med-ELU | D3: 45000 | E3: daN*m | F3: On considère une charge uniformément répartie
C4: Med-ELS | D4: =D3/1.5 -> 30000 | E4: daN*m
C5: Nuance | D5: S355 | F5: Wmin-ELU | G5: =D3/P5 -> 1267.6056 | H5: cm3 | O5: Nuance Prédim | P5: =VLOOKUP(D5,Data!A3:C34,2) -> 35.5
C6: Poutre | D6: Art-Art
C7: Longueur | D7: 30 | E7: m | F7: Imin-ELU | G7: =IF(D6="Art-Art",(8*5*D3*D7^2)/(384*210*(D7/D8)),IF(D6="Enc-Enc",(12*D3*D7^2)/(384*210*(D7/D8)),(8*D3*D7^2)/(185*210*(D7/D8)))) -> 133928.57 | H7: cm4
C8: Flèche | D8: 200 | E8: ème | F8: Imin-ELS | G8: =IF(D6="Art-Art",(8*5*D4*D7^2)/(384*210*(D7/D8)),IF(D6="Enc-Enc",(12*D4*D7^2)/(384*210*(D7/D8)),(8*D4*D7^2)/(185*210*(D7/D8)))) -> 89285.714 | H8: cm4
C9: ---------------------------------------------------------------------------------------------------------------------
B10: PRS 1 | C10: S355 | G10: ="PRS "&C16&" * "&C17&" - "&C13&" * "&C14&" - "&C10 -> PRS 500 * 1 - 250 * 10 - S355
F11: A | G11: =(C13*C14+C16*C17+C19*C20)*10^-2 -> 55 | H11: cm² | N11: Nuance PRS 1 | O11: =VLOOKUP(C10,Data!A3:C34,2) -> 35.5 | Q11: A1 | R11: =C13*C14 -> 2500 | S11: mm²
C12: Dimensions [mm] | N12: ε | O12: =SQRT(23.5/O11) -> 0.81361651 | Q12: Aw | R12: =C16*C17 -> 500 | S12: mm²
B13: b1 | C13: 250 | F13: Masse linéaire | G13: =0.79*G11 -> 43.45 | H13: kg/m | Q13: Awz+ | R13: =C17*(C16+C20-D25) -> 250 | S13: mm²
B14: Tf1 | C14: 10 | Q14: Awz- | R14: =C17*(D25-C20) -> 250 | S14: mm²
F15: Iy | G15: =(((C13*C14^3+C17*C16^3+C19*C20^3)*10^-4)/12)+((C13*C14*(C16+C20-D25+(C14/2))^2)+(C19*C20*(D25-(C20/2))^2)+(C16*C17*(C20+(C16/2)-D25)^2))*10^-4 -> 33558.333 | H15: cm4 | O15: c/t | Q15: A2 | R15: =C19*C20 -> 2500 | S15: mm²
B16: Hw | C16: 500 | F16: Wely | G16: =MIN(G15/((C14+C16+C20-D25)*10^-1),G15/(D25*10^-1)) -> 1290.7051 | H16: cm3 | N16: b1 | O16: w | P16: b2
B17: Tw | C17: 1 | F17: Wply | G17: =((R11+R13)*R17+(R14+R15)*R18)*10^-3 -> 1337.5 | H17: cm3 | N17: =(C13-C17)/(2*C14) -> 12.45 | O17: =C16/C17 -> 500 | P17: =(C19-C17)/(2*C20) -> 12.45 | Q17: CdGz+ | R17: =(R11*(C20+C16-D25+C14/2)+R13*(C20+C16-D25)/2)/(R11+R13) -> 243.18182 | S17: mm
F18: Avz | G18: =C16*C17*10^-2 -> 5 | H18: cm² | Q18: CdGz- | R18: =(R15*(D25-C20/2)+R14*(D25-C20)/2)/(R15+R14) -> 243.18182 | S18: mm
B19: b2 | C19: 250 | F19: iy | G19: =SQRT(G15/$G$11) -> 24.701245 | H19: cm | Q19: CdGy | R19: =((R11*C13/8)+(R12*C17/8)+(R15*C19/8))/((R11+R12+R15)/2) -> 56.840909 | S19: mm
B20: Tf2 | C20: 10 | F20: Am/V | G20: =((0.2*(C13+C16+C19+C14+C20-C17)/G11)*100) -> 370.54545 | H20: m-1
F21: [Am/V]b | G21: =((0.1*2*(C13+C16+C14+C20))/G11)*100 -> 280 | H21: m-1 | Q21: Wely + | R21: =G15/((C14+C16+C20-D25)*10^-1) -> 1290.7051 | S21: cm3
Q22: Wely - | R22: =G15/(D25*10^-1) -> 1290.7051 | S22: cm3
D23: CdG | F23: Iz | G23: =((C14*C13^3+C16*C17^3+C20*C19^3)*10^-4)/12 -> 2604.1708 | H23: cm4
C24: YG | D24: =MAX(C13,C19)/2 -> 125 | E24: mm | F24: Welz | G24: =G23/(D24*10^-1) -> 208.33367 | H24: cm3
C25: ZG | D25: =(C13*C14*(C20+C16+C14/2)+C16*C17*(C20+C16/2)+C19*C20*(C20/2))/(C13*C14+C16*C17+C19*C20) -> 260 | E25: mm | F25: Wplz | G25: =2*((R11/2+R12/2+R15/2)*R19)*10^-3 -> 312.625 | H25: cm3
F26: Avy | G26: =(C13*C14+C19*C20)*10^-2 -> 50 | H26: cm²
C27: Classe | D27: Compression | E27: Flexion | F27: iz | G27: =SQRT(G23/$G$11) -> 6.881029 | H27: cm
C28: Ame | D28: =IF(O17<33*$O$12,1,IF(O17<38*$O$12,2,IF(O17<42*$O$12,3,4))) -> 4 | E28: =IF(O17<72*$O$12,1,IF(O17<83*$O$12,2,IF(O17<124*$O$12,3,4))) -> 4
C29: Semelle 1 | D29: =IF(N17<9*$O$12,1,IF(N17<10*$O$12,2,IF(N17<14*$O$12,3,4))) -> 4 | F29: It | G29: =(10^-4/3)*(((C13)*C14^3)+((C19)*C20^3)+(C16*C17^3)) -> 16.683333 | H29: cm4
C30: Semelle 2 | D30: =IF(P17<9*$O$12,1,IF(P17<10*$O$12,2,IF(P17<14*$O$12,3,4))) -> 4 | F30: Iw | G30: =(10^-6/12)*((C14*C13^3*(C20+C16+(C14/2)-D25)^2)+(C20*C19^3*(D25-(C20/2))^2)) -> 1693359.4 | H30: cm6
B31: * Les soudures sont négligées pour les calculs d'inertie et de Classe
B32: * Les PRS utlisés pour les calculs d'attaches doivent être bi-symétriques
B35: PRS 2 | C35: S355 | G35: ="PRS "&C41&" * "&C42&" - "&C38&" * "&C39&" - "&C35 -> PRS 1240 * 20 - 500 * 30 - S355 | J35: Section efficace de profil à âme de classe 3 et semelles de classe 1 ou 2 | K35: ="PRS éq,Cl2 "&C41&" * "&C42&" - "&C38&" * "&C39&" - "&C35 -> PRS éq,Cl2 1240 * 20 - 500 * 30 - S355
F36: A | G36: =(C38*C39+C41*C42+C44*C45)*10^-2 -> 548 | H36: cm² | K36: A,eff | L36: =G36-O48*0.01 -> 554.17864 | M36: cm² | N36: Nuance PRS 2 | O36: =VLOOKUP(C35,Data!A3:C34,2) -> 35.5 | Q36: A1 | R36: =C38*C39 -> 15000 | S36: mm²
C37: Dimensions [mm] | K37: NF EN 1993-1-1 §5.5.2(11) et §6.2.2.4 | N37: ε | O37: =SQRT(23.5/O36) -> 0.81361651 | Q37: Aw | R37: =C41*C42 -> 24800 | S37: mm² | T37: Awz+,eff | U37: =R37-O48 -> 25417.864 | V37: mm²
B38: b1 | C38: 500 | F38: Masse linéaire | G38: =0.79*G36 -> 432.92 | H38: kg/m | K38: =IF(AND(E53=3,D54<=2,D55<=2),"Applicable","Non Applicable") -> Non Applicable | Q38: Awz+ | R38: =C42*(C41+C45-D50) -> 12400 | S38: mm² | T38: Awz+,eff | U38: =C42*(C41+C45-D50)-O48 -> 13017.864 | V38: mm²
B39: Tf1 | C39: 30 | Q39: Awz- | R39: =C42*(D50-C45) -> 12400 | S39: mm²
F40: Iy | G40: =(((C38*C39^3+C42*C41^3+C44*C45^3)*10^-4)/12)+((C38*C39*(C41+C45-D50+(C39/2))^2)+(C44*C45*(D50-(C45/2))^2)+(C41*C42*(C45+(C41/2)-D50)^2))*10^-4 -> 1527670.7 | H40: cm4 | K40: Iy,eff | L40: =G40-O49 -> 1533608.3 | M40: cm4 | O40: c/t | Q40: A2 | R40: =C44*C45 -> 15000 | S40: mm²
B41: Hw | C41: 1240 | F41: Wely | G41: =MIN(G40/((C39+C41+C45-D50)*10^-1),G40/(D50*10^-1)) -> 23502.626 | H41: cm3 | K41: Wely,eff | L41: =MIN(L40/((C39+C41+C45-D50)*10^-1),L40/(D50*10^-1)) -> 23593.974 | M41: cm3 | N41: b1 | O41: w | P41: b2
B42: Tw | C42: 20 | F42: Wply | G42: =((R36+R38)*R42+(R39+R40)*R43)*10^-3 -> 26738 | H42: cm3 | K42: Wply,eff | L42: =((R36+U38)*R42+(R39+R40)*R43)*10^-3 -> 27039.468 | M42: cm3 | N42: =(C38-C42)/(2*C39) -> 8 | O42: =C41/C42 -> 62 | P42: =(C44-C42)/(2*C45) -> 8 | Q42: CdGz+ | R42: =(R36*(C45+C41-D50+C39/2)+R38*(C45+C41-D50)/2)/(R36+R38) -> 487.91971 | S42: mm
F43: Avz | G43: =C41*C42*10^-2 -> 248 | H43: cm² | K43: Avz,eff | L43: =G43-O48*10^-2 -> 254.17864 | M43: cm² | Q43: CdGz- | R43: =(R40*(D50-C45/2)+R39*(D50-C45)/2)/(R40+R39) -> 487.91971 | S43: mm
B44: b2 | C44: =C38 -> 500 | F44: iy | G44: =SQRT(G40/$G$36) -> 52.798865 | H44: cm | K44: iy,eff | L44: =SQRT(L40/$L$36) -> 52.605644 | M44: cm | Q44: CdGy | R44: =((R36*C38/8)+(R37*C42/8)+(R40*C44/8))/((R36+R37+R40)/2) -> 70.693431 | S44: mm
B45: Tf2 | C45: =C39 -> 30 | F45: [Am/V] | G45: =((0.2*(C38+C41+C44+C39+C45-C42)/G36)*100) -> 83.211679 | H45: m-1
F46: [Am/V]b | G46: =((0.1*2*(C38+C41+C39+C45))/G36)*100 -> 65.693431 | H46: m-1 | N46: 20 ε tw | O46: =20*O37*C42 -> 325.44661 | P46: mm | Q46: Wely + | R46: =G40/((C39+C41+C45-D50)*10^-1) -> 23502.626 | S46: cm3
N47: Hw,suppr | O47: =((C41/2)-2*O46) -> -30.893211 | P47: mm | Q47: Wely - | R47: =G40/(D50*10^-1) -> 23502.626 | S47: cm3
D48: CdG | F48: Iz | G48: =((C39*C38^3+C41*C42^3+C45*C44^3)*10^-4)/12 -> 62582.667 | H48: cm4 | K48: Iz,eff | L48: =G48-O50 -> 62584.726 | M48: cm4 | N48: Aw,suppr | O48: =O47*C42 -> -617.86422 | P48: mm²
C49: YG | D49: =MAX(C38,C44)/2 -> 250 | E49: mm | F49: Welz | G49: =G48/(D49*10^-1) -> 2503.3067 | H49: cm3 | K49: Welz,eff | L49: =L48/(D49*10^-1) -> 2503.389 | M49: cm3 | N49: Huyghens,y | O49: =(O48*10^-2)*(((O46+O47/2)*10^-1)^2) -> -5937.6751 | P49: cm4
C50: ZG | D50: =(C38*C39*(C45+C41+C39/2)+C41*C42*(C45+C41/2)+C44*C45*(C45/2))/(C38*C39+C41*C42+C44*C45) -> 650 | E50: mm | F50: Wplz | G50: =2*((R36/2+R37/2+R40/2)*R44)*10^-3 -> 3874 | H50: cm3 | K50: Wplz,eff | L50: =2*((R36/2+U37/2+R40/2)*R44)*10^-3 -> 3917.6789 | M50: cm3 | N50: Huyghens,z | O50: =(O47*C42^3/12)*10^-4 -> -2.0595474 | P50: cm4
F51: Avy | G51: =(C38*C39+C44*C45)*10^-2 -> 300 | H51: cm² | K51: Avy,eff | L51: =(C38*C39+C44*C45)*10^-2 -> 300 | M51: cm²
C52: Classe | D52: Compression | E52: Flexion | F52: iz | G52: =SQRT(G48/$G$36) -> 10.686531 | H52: cm | K52: iz,eff | L52: =SQRT(L48/$L$36) -> 10.626966 | M52: cm
C53: Ame | D53: =IF(O42<33*$O$37,1,IF(O42<38*$O$37,2,IF(O42<42*$O$37,3,4))) -> 4 | E53: =IF(O42<72*$O$37,1,IF(O42<83*$O$37,2,IF(O42<124*$O$37,3,4))) -> 2
C54: Semelle 1 | D54: =IF(N42<9*$O$37,1,IF(N42<10*$O$37,2,IF(N42<14*$O$37,3,4))) -> 2 | F54: It | G54: =(10^-4/3)*(((C38)*C39^3)+((C44)*C45^3)+(C41*C42^3)) -> 1230.6667 | H54: cm4 | K54: It,eff | L54: =(10^-4/3)*(((C38)*C39^3)+((C44)*C45^3)+(C41*(C42^3-(O47*0.1)^3))) -> 1231.8853 | M54: cm4
C55: Semelle 2 | D55: =IF(P42<9*$O$37,1,IF(P42<10*$O$37,2,IF(P42<14*$O$37,3,4))) -> 2 | F55: Iw | G55: =(10^-6/12)*((C39*C38^3*(C45+C41+(C39/2)-D50)^2)+(C45*C44^3*(D50-(C45/2))^2)) -> 2.5201562e+08 | H55: cm6 | K55: Iw,eff | L55: =(10^-6/12)*((C39*C38^3*((C45+C41+(C39/2)-D50)^2-(O47*0.1)^2))+(C45*C44^3*(D50-(C45/2))^2)) -> 2.5201264e+08 | M55: cm6
B58: PRS 3 | C58: S355 | G58: ="PRS "&C64&" * "&C65&" - "&C61&" * "&C62&" - "&C58 -> PRS 580 * 6 - 300 * 15 - S355 | J58: Section efficace de profil à âme de classe 4 et semelles de classe 1, 2 ou 3 | K58: ="PRS éq,Cl3 "&C64&" * "&C65&" - "&C61&" * "&C62&" - "&C58 -> PRS éq,Cl3 580 * 6 - 300 * 15 - S355
F59: A | G59: =(C61*C62+C64*C65+C67*C68)*10^-2 -> 124.8 | H59: cm² | K59: A,eff | L59: =G59-(C64*C65-2*O69)*0.01 -> 92.050314 | M59: cm² | N59: Nuance PRS | O59: =VLOOKUP(C58,Data!A3:C34,2) -> 35.5 | Q59: A1 | R59: =C61*C62 -> 4500 | S59: mm²
C60: Dimensions [mm] | K60: Europratic : Annexe C | N60: ε | O60: =SQRT(23.5/O59) -> 0.81361651 | Q60: Aw | R60: =C64*C65 -> 3480 | S60: mm² | T60: Awz+,eff | U60: =R60-O73 -> 3555.9921 | V60: mm²
B61: b1 | C61: 300 | F61: Masse linéaire | G61: =0.79*G59 -> 98.592 | H61: kg/m | K61: =IF(AND(E76=4,D77<=3,D78<=3),"Applicable","Non Applicable") -> Non Applicable | Q61: Awz+ | R61: =C65*(C64+C68-D73) -> 1740 | S61: mm² | T61: Awz+,eff | U61: =C65*(C64+C68-D73)-O73 -> 1815.9921 | V61: mm²
B62: Tf1 | C62: 15 | O62: Hw / Tw*ε ≤ | Q62: Awz- | R62: =C65*(D73-C68) -> 1740 | S62: mm²
F63: Iy | G63: =(((C61*C62^3+C65*C64^3+C67*C68^3)*10^-4)/12)+((C61*C62*(C64+C68-D73+(C62/2))^2)+(C67*C68*(D73-(C68/2))^2)+(C64*C65*(C68+(C64/2)-D73)^2))*10^-4 -> 89428.1 | H63: cm4 | K63: Iy,eff | L63: =G63-O74 -> 89658.942 | M63: cm4 | O63: c/t | Q63: A2 | R63: =C67*C68 -> 4500 | S63: mm²
B64: Hw | C64: 580 | F64: Wely | G64: =MIN(G63/((C62+C64+C68-D73)*10^-1),G63/(D73*10^-1)) -> 2932.0689 | H64: cm3 | K64: Wely,eff | L64: =IF(O66<=124,L63/(D73*0.1),IF(O66<=160,(L63-(0.0001*0.15*C65*C64^3/12))/(D73*0.1),IF(O66<=210,(L63-(0.0001*0.3*C65*C64^3/12))/(D73*0.1),"Hors Limites"))) -> 2939.6374 | M64: cm3 | N64: b1 | O64: w | P64: b2
B65: Tw | C65: 6 | F65: Wply | G65: =((R59+R61)*R65+(R62+R63)*R66)*10^-3 -> 3182.1 | H65: cm3 | L65: =IF(O66<=124,"Hw / Tw*ε ≤ 124",IF(O66<=160,"Hw / Tw*ε ≤ 160",IF(O66<=210,"Hw / Tw*ε ≤ 210","Hw / Tw*ε ≥ 210"))) -> Hw / Tw*ε ≤ 124 | N65: =(C61-C65)/(2*C62) -> 9.8 | O65: =C64/C65 -> 96.666667 | P65: =(C67-C65)/(2*C68) -> 9.8 | Q65: CdGz+ | R65: =(R59*(C68+C64-D73+C62/2)+R61*(C68+C64-D73)/2)/(R59+R61) -> 254.97596 | S65: mm
F66: Avz | G66: =C64*C65*10^-2 -> 34.8 | H66: cm² | K66: Avz,eff | L66: =G66-O73*10^-2 -> 35.559921 | M66: cm² | O66: =C64/(C65*O60) -> 118.81109 | Q66: CdGz- | R66: =(R63*(D73-C68/2)+R62*(D73-C68)/2)/(R63+R62) -> 254.97596 | S66: mm
B67: b2 | C67: =C61 -> 300 | F67: iy | G67: =SQRT(G63/$G$36) -> 12.774583 | H67: cm | K67: iy,eff | L67: =SQRT(L63/$L$59) -> 31.20931 | M67: cm | Q67: CdGy | R67: =((R59*C61/8)+(R60*C65/8)+(R63*C67/8))/((R59+R60+R63)/2) -> 54.504808 | S67: mm
B68: Tf2 | C68: =C62 -> 15 | F68: [Am/V] | G68: =((0.2*(C61+C64+C67+C62+C68-C65)/G59)*100) -> 192.94872 | H68: m-1
F69: [Am/V]b | G69: =((0.1*2*(C61+C64+C62+C68))/G59)*100 -> 145.83333 | H69: m-1 | N69: 21 ε tw | O69: =21*O60*C65 -> 102.51568 | P69: mm | Q69: Wely + | R69: =G63/((C62+C64+C68-D73)*10^-1) -> 2932.0689 | S69: cm3
N70: 25 ε tw | O70: =25*O60*C65 -> 122.04248 | P70: mm | Q70: Wely - | R70: =G63/(D73*10^-1) -> 2932.0689 | S70: cm3
D71: CdG | F71: Iz | G71: =((C62*C61^3+C64*C65^3+C68*C67^3)*10^-4)/12 -> 6751.044 | H71: cm4 | K71: Iz,eff | L71: =G71-O75 -> 6751.0668 | M71: cm4 | N71: 37 ε tw | O71: =37*O60*C65 -> 180.62287 | P71: mm
C72: YG | D72: =MAX(C61,C67)/2 -> 150 | E72: mm | F72: Welz | G72: =G71/(D72*10^-1) -> 450.0696 | H72: cm3 | K72: Welz,eff | L72: =L71/(D72*10^-1) -> 450.07112 | M72: cm3 | N72: Hw,suppr | O72: =((C64/2)-(O70+O71)) -> -12.665343 | P72: mm
C73: ZG | D73: =(C61*C62*(C68+C64+C62/2)+C64*C65*(C68+C64/2)+C67*C68*(C68/2))/(C61*C62+C64*C65+C67*C68) -> 305 | E73: mm | F73: Wplz | G73: =2*((R59/2+R60/2+R63/2)*R67)*10^-3 -> 680.22 | H73: cm3 | N73: Aw,suppr | O73: =O72*C65 -> -75.992058 | P73: mm²
F74: Avy | G74: =(C61*C62+C67*C68)*10^-2 -> 90 | H74: cm² | K74: Avy,eff | L74: =(C61*C62+C67*C68)*10^-2 -> 90 | M74: cm² | N74: Huyghens,y | O74: =(O73*10^-2)*(((O71+O72/2)*10^-1)^2) -> -230.84162 | P74: cm4
C75: Classe | D75: Compression | E75: Flexion | F75: iz | G75: =SQRT(G71/$G$36) -> 3.5099036 | H75: cm | K75: iz,eff | L75: =SQRT(L71/$L$59) -> 8.563939 | M75: cm | N75: Huyghens,z | O75: =(O72*C65^3/12)*10^-4 -> -0.022797617 | P75: cm4
C76: Ame | D76: =IF(O65<33*$O$60,1,IF(O65<38*$O$60,2,IF(O65<42*$O$60,3,4))) -> 4 | E76: =IF(O65<72*$O$60,1,IF(O65<83*$O$60,2,IF(O65<124*$O$60,3,4))) -> 3
C77: Semelle 1 | D77: =IF(N65<9*$O$60,1,IF(N65<10*$O$60,2,IF(N65<14*$O$60,3,4))) -> 3 | F77: It | G77: =(10^-4/3)*(((C61)*C62^3)+((C67)*C68^3)+(C64*C65^3)) -> 71.676 | H77: cm4 | K77: It,eff | L77: =(10^-4/3)*(((C61)*C62^3)+((C67)*C68^3)+(C64*(C65^3-(O72*0.1)^3))) -> 71.715279 | M77: cm4
C78: Semelle 2 | D78: =IF(P65<9*$O$60,1,IF(P65<10*$O$60,2,IF(P65<14*$O$60,3,4))) -> 3 | F78: Iw | G78: =(10^-6/12)*((C62*C61^3*(C68+C64+(C62/2)-D73)^2)+(C68*C67^3*(D73-(C68/2))^2)) -> 5974171.9 | H78: cm6 | K78: Iw,eff | L78: =(10^-6/12)*((C62*C61^3*((C68+C64+(C62/2)-D73)^2-(O72*0.1)^2))+(C68*C67^3*(D73-(C68/2))^2)) -> 5974117.7 | M78: cm6

Sheet Data
A2: Nuance | B2: fy | C2: fu | D2: βw | F2: Classes | G2: fy | H2: fu | I2: αv | K2: Øboulons | L2: Pas | M2: hnut | N2: A | O2: AS | P2: do | Q2: dm | R2: Clé | T2: Coefficients partiels | W2: Fleche 1/ | Z2: alpha
A3: S235 | B3: 23.5 | C3: 36 | D3: 0.8 | F3: 4.6 | G3: 24 | H3: 40 | I3: 0.6 | K3: 5 | L3: 0.8 | M3: =ROUND(0.8*K3,0) -> 4 | N3: =ROUND(PI()*K3^2/4,0) -> 20 | O3: =ROUND(N3*((K3-0.93815*L3)/K3)^2,0) -> 14 | P3: =K3+2 -> 7 | Q3: =0.5*R3*(1+2/SQRT(3)) -> 8.6188022 | R3: 8 | T3: Acier | W3: 100 | Y3: lamd2 | Z3: 8 | AA3: 8 | AB3: 7 | AC3: =2*3.1415 -> 6.283 | AD3: 6 | AE3: 5.5 | AF3: 5 | AG3: 4.75 | AH3: 4.5 | AI3: 4.45 | AJ3: 4.45
A4: S235 > 40mm | B4: 21.5 | C4: 36 | D4: 0.8 | F4: 4.8 | G4: 32 | H4: 40 | I4: 0.5 | K4: 6 | L4: 1 | M4: =ROUND(0.8*K4,0) -> 5 | N4: =ROUND(PI()*K4^2/4,0) -> 28 | O4: =ROUND(N4*((K4-0.93815*L4)/K4)^2,0) -> 20 | P4: =K4+2 -> 8 | Q4: =0.5*R4*(1+2/SQRT(3)) -> 10.773503 | R4: 10 | T4: γ0 | U4: 1 | W4: 150 | Y4: 0 | Z4: 0 | AA4: 0.759 | AB4: 0.832 | AC4: 0.89037188 | AD4: 0.9 | AE4: 0.85048395 | AF4: 0.88762099 | AG4: 0.88257769 | AH4: 0.9 | AI4: 0.89312277 | AJ4: 1
A5: S235 H | B5: 23.5 | C5: 36 | D5: 0.8 | F5: 5.6 | G5: 30 | H5: 50 | I5: 0.6 | K5: 8 | L5: 1.25 | M5: =ROUND(0.8*K5,0) -> 6 | N5: =ROUND(PI()*K5^2/4,0) -> 50 | O5: =ROUND(N5*((K5-0.93815*L5)/K5)^2,0) -> 36 | P5: =K5+2 -> 10 | Q5: =0.5*R5*(1+2/SQRT(3)) -> 14.005553 | R5: 13 | T5: γ1 | U5: 1 | W5: 200 | Y5: 0.05 | Z5: 0 | AA5: 0.759 | AB5: 0.832 | AC5: 0.89037188 | AD5: 0.9 | AE5: 0.85048395 | AF5: 0.88762099 | AG5: 0.88257769 | AH5: 0.9 | AI5: 0.89312277 | AJ5: 1
A6: S235 H > 40 mm | B6: 21.5 | C6: 34 | D6: 0.8 | F6: 5.8 | G6: 40 | H6: 50 | I6: 0.5 | K6: 10 | L6: 1.5 | M6: =ROUND(0.8*K6,0) -> 8 | N6: =ROUND(PI()*K6^2/4,0) -> 79 | O6: =ROUND(N6*((K6-0.93815*L6)/K6)^2,0) -> 58 | P6: =K6+2 -> 12 | Q6: =0.5*R6*(1+2/SQRT(3)) -> 18.314955 | R6: 17 | T6: γ2 | U6: 1.25 | W6: 250 | Y6: 0.1 | Z6: 0 | AA6: 0.5845 | AB6: 0.6786 | AC6: 0.76428935 | AD6: 0.82 | AE6: 0.85048395 | AF6: 0.88762099 | AG6: 0.88257769 | AH6: 0.9 | AI6: 0.89312277 | AJ6: 1
A7: S275 | B7: 27.5 | C7: 43 | D7: 0.85 | F7: 6.6 | G7: 36 | H7: 60 | I7: 0.6 | K7: 12 | L7: 1.75 | M7: =ROUND(0.8*K7,0) -> 10 | N7: =ROUND(PI()*K7^2/4,0) -> 113 | O7: =ROUND(N7*((K7-0.93815*L7)/K7)^2,0) -> 84 | P7: =K7+2 -> 14 | Q7: =0.5*R7*(1+2/SQRT(3)) -> 20.469655 | R7: 19 | T7: γ3 | U7: 1.1 | W7: 300 | Y7: 0.15 | Z7: 0 | AA7: 0.477 | AB7: 0.584 | AC7: 0.68084564 | AD7: 0.745 | AE7: 0.79179827 | AF7: 0.84589913 | AG7: 0.88257769 | AH7: 0.9 | AI7: 0.89312277 | AJ7: 1
A8: S275 > 40mm | B8: 25.5 | C8: 41 | D8: 0.85 | F8: 6.8 | G8: 48 | H8: 60 | I8: 0.5 | K8: 14 | L8: 2 | M8: =ROUND(0.8*K8,0) -> 11 | N8: =ROUND(PI()*K8^2/4,0) -> 154 | O8: =ROUND(N8*((K8-0.93815*L8)/K8)^2,0) -> 115 | P8: =K8+2 -> 16 | Q8: =0.5*R8*(1+2/SQRT(3)) -> 23.701706 | R8: 22 | T8: γ4 | W8: 350 | Y8: 0.2 | Z8: 0 | AA8: 0.39 | AB8: 0.504 | AC8: 0.60978095 | AD8: 0.68 | AE8: 0.73953133 | AF8: 0.80555273 | AG8: 0.84635762 | AH8: 0.9 | AI8: 0.89312277 | AJ8: 1
A9: S275 N/NL | B9: 27.5 | C9: 39 | D9: 0.85 | F9: 6.9 | G9: 54 | H9: 60 | I9: 0.5 | K9: 16 | L9: 2 | M9: =ROUND(0.8*K9,0) -> 13 | N9: =ROUND(PI()*K9^2/4,0) -> 201 | O9: =ROUND(N9*((K9-0.93815*L9)/K9)^2,0) -> 157 | P9: =K9+2 -> 18 | Q9: =0.5*R9*(1+2/SQRT(3)) -> 25.856406 | R9: 24 | T9: γ5 | W9: 400 | Y9: 0.25 | Z9: 0 | AA9: 0.332 | AB9: 0.4475 | AC9: 0.55659705 | AD9: 0.63 | AE9: 0.69505858 | AF9: 0.77254203 | AG9: 0.81930718 | AH9: 0.87019868 | AI9: 0.89312277 | AJ9: 1
A10: S275 N/NL > 40 mm | B10: 25.5 | C10: 37 | D10: 0.85 | F10: 8.8 | G10: 64 | H10: 80 | I10: 0.6 | K10: 18 | L10: 2.5 | M10: =ROUND(0.8*K10,0) -> 14 | N10: =ROUND(PI()*K10^2/4,0) -> 254 | O10: =ROUND(N10*((K10-0.93815*L10)/K10)^2,0) -> 192 | P10: =K10+2 -> 20 | Q10: 29.09 | R10: 27 | T10: γ6 | W10: 450 | Y10: 0.3 | Z10: 0 | AA10: 0.289 | AB10: 0.399 | AC10: 0.51258278 | AD10: 0.585 | AE10: 0.65425369 | AF10: 0.74136526 | AG10: 0.79317371 | AH10: 0.85048395 | AI10: 0.86836475 | AJ10: 1
A11: S275 M/ML | B11: 27.5 | C11: 37 | D11: 0.85 | F11: 10.9 | G11: 90 | H11: 100 | I11: 0.5 | K11: 20 | L11: 2.5 | M11: =ROUND(0.8*K11,0) -> 16 | N11: =ROUND(PI()*K11^2/4,0) -> 314 | O11: =ROUND(N11*((K11-0.93815*L11)/K11)^2,0) -> 245 | P11: =K11+2 -> 22 | Q11: 32.32 | R11: 30 | T11: Béton | W11: 500 | Y11: 0.35 | Z11: 0 | AA11: 0.259 | AB11: 0.3644 | AC11: 0.47452878 | AD11: 0.548 | AE11: 0.61986755 | AF11: 0.71202241 | AG11: 0.77254203 | AH11: 0.83489557 | AI11: 0.85048395 | AJ11: 1
A12: S275 M/ML > 40 mm | B12: 25.5 | C12: 36 | D12: 0.85 | F12: 12.9 | G12: 108 | H12: 120 | I12: 0.5 | K12: 22 | L12: 2.5 | M12: =ROUND(0.8*K12,0) -> 18 | N12: =ROUND(PI()*K12^2/4,0) -> 380 | O12: =ROUND(N12*((K12-0.93815*L12)/K12)^2,0) -> 303 | P12: =K12+2 -> 24 | Q12: 36.63 | R12: 32 | T12: γc | U12: 1.5 | W12: 550 | Y12: 0.4 | Z12: 0 | AA12: 0.24 | AB12: 0.3356 | AC12: 0.44335201 | AD12: 0.516 | AE12: 0.59144167 | AF12: 0.68772287 | AG12: 0.75191034 | AH12: 0.81930718 | AI12: 0.8367295 | AJ12: 1
A13: S275 H | B13: 27.5 | C13: 43 | D13: 0.85 | F13: S235 | G13: 23.5 | H13: 36 | I13: 0.5 | K13: 24 | L13: 3 | M13: =ROUND(0.8*K13,0) -> 19 | N13: =ROUND(PI()*K13^2/4,0) -> 452 | O13: =ROUND(N13*((K13-0.93815*L13)/K13)^2,0) -> 352 | P13: =K13+2 -> 26 | Q13: 38.76 | R13: 36 | T13: kf | U13: 1.1 | W13: 600 | Y13: 0.45 | Z13: 0 | AA13: 0.234 | AB13: 0.314 | AC13: 0.41951095 | AD13: 0.489 | AE13: 0.56484972 | AF13: 0.6643403 | AG13: 0.73586347 | AH13: 0.80830362 | AI13: 0.823892 | AJ13: 1
A14: S275 H > 40 mm | B14: 25.5 | C14: 41 | D14: 0.85 | F14: S275 | G14: 27.5 | H14: 43 | I14: 0.5 | K14: 27 | L14: 3 | M14: =ROUND(0.8*K14,0) -> 22 | N14: =ROUND(PI()*K14^2/4,0) -> 573 | O14: =ROUND(N14*((K14-0.93815*L14)/K14)^2,0) -> 460 | P14: =K14+3 -> 30 | Q14: 44.17 | R14: 41 | W14: 650 | Y14: 0.5 | Z14: 0 | AA14: 0.234 | AB14: 0.298 | AC14: 0.39750382 | AD14: 0.465 | AE14: 0.54330107 | AF14: 0.64462557 | AG14: 0.72027509 | AH14: 0.79775853 | AI14: 0.81426388 | AJ14: 1
A15: S275 NH/NLH | B15: 27.5 | C15: 39 | D15: 0.85 | F15: S355 | G15: 35.5 | H15: 49 | I15: 0.5 | K15: 30 | L15: 3.5 | M15: =ROUND(0.8*K15,0) -> 24 | N15: =ROUND(PI()*K15^2/4,0) -> 707 | O15: =ROUND(N15*((K15-0.93815*L15)/K15)^2,0) -> 561 | P15: =K15+3 -> 33 | Q15: 49.56 | R15: 46 | W15: 700 | Y15: 0.55 | Z15: 0 | AA15: 0.234 | AB15: 0.291 | AC15: 0.38053999 | AD15: 0.4456 | AE15: 0.52496179 | AF15: 0.62674478 | AG15: 0.70606215 | AH15: 0.78858889 | AI15: 0.80509424 | AJ15: 1
A16: S275 NH/NLH >40mm | B16: 25.5 | C16: 37 | D16: 0.85 | F16: S460 | G16: 46 | H16: 55 | I16: 0.5 | K16: 36 | L16: 4 | M16: =ROUND(0.8*K16,0) -> 29 | N16: =ROUND(PI()*K16^2/4,0) -> 1018 | O16: =ROUND(N16*((K16-0.93815*L16)/K16)^2,0) -> 817 | P16: =K16+3 -> 39 | Q16: =0.5*R16*(1+2/SQRT(3)) -> 59.254265 | R16: 55 | W16: 750 | Y16: 0.6 | Z16: 0 | AA16: 0.234 | AB16: 0.291 | AC16: 0.36907794 | AD16: 0.429 | AE16: 0.50891493 | AF16: 0.61436577 | AG16: 0.6946001 | AH16: 0.77941926 | AI16: 0.79684157 | AJ16: 1
A17: S355 | B17: 35.5 | C17: 49 | D17: 0.9 | K17: 42 | L17: 4.5 | M17: =ROUND(0.8*K17,0) -> 34 | N17: =ROUND(PI()*K17^2/4,0) -> 1385 | O17: =ROUND(N17*((K17-0.93815*L17)/K17)^2,0) -> 1121 | P17: =K17+3 -> 45 | Q17: =0.5*R17*(1+2/SQRT(3)) -> 70.027767 | R17: 65 | W17: 800 | Y17: 0.65 | Z17: 0 | AA17: 0.234 | AB17: 0.291 | AC17: 0.36082527 | AD17: 0.416 | AE17: 0.4969944 | AF17: 0.60290372 | AG17: 0.6845135 | AH17: 0.77254203 | AI17: 0.79042282 | AJ17: 1
A18: S355 > 40 mm | B18: 33.5 | C18: 47 | D18: 0.9 | K18: 48 | L18: 5 | M18: =ROUND(0.8*K18,0) -> 38 | N18: =ROUND(PI()*K18^2/4,0) -> 1810 | O18: =ROUND(N18*((K18-0.93815*L18)/K18)^2,0) -> 1474 | P18: =K18+3 -> 51 | Q18: =0.5*R18*(1+2/SQRT(3)) -> 80.80127 | R18: 75 | W18: 850 | Y18: 0.7 | Z18: 0 | AA18: 0.234 | AB18: 0.291 | AC18: 0.35348956 | AD18: 0.405 | AE18: 0.48599083 | AF18: 0.59373408 | AG18: 0.67396842 | AH18: 0.76474783 | AI18: 0.78262863 | AJ18: 1
A19: S355 N/NL | B19: 35.5 | C19: 49 | D19: 0.9 | K19: 56 | L19: 5.5 | M19: =ROUND(0.8*K19,0) -> 45 | N19: =ROUND(PI()*K19^2/4,0) -> 2463 | O19: =ROUND(N19*((K19-0.93815*L19)/K19)^2,0) -> 2030 | P19: =K19+3 -> 59 | Q19: =0.5*R19*(1+2/SQRT(3)) -> 91.574773 | R19: 85 | W19: 900 | Y19: 0.75 | Z19: 0 | AA19: 0.234 | AB19: 0.291 | AC19: 0.35119715 | AD19: 0.397 | AE19: 0.4791136 | AF19: 0.58548141 | AG19: 0.66571574 | AH19: 0.75832909 | AI19: 0.77758533 | AJ19: 1
A20: S355 N/NL > 40 mm | B20: 33.5 | C20: 47 | D20: 0.9 | K20: 64 | L20: 6 | M20: =ROUND(0.8*K20,0) -> 51 | N20: =ROUND(PI()*K20^2/4,0) -> 3217 | O20: =ROUND(N20*((K20-0.93815*L20)/K20)^2,0) -> 2676 | P20: =K20+3 -> 67 | Q20: =0.5*R20*(1+2/SQRT(3)) -> 102.34828 | R20: 95 | W20: 950 | Y20: 0.8 | Z20: 0 | AA20: 0.234 | AB20: 0.291 | AC20: 0.35119715 | AD20: 0.391 | AE20: 0.47452878 | AF20: 0.57997962 | AG20: 0.66113092 | AH20: 0.75236882 | AI20: 0.77254203 | AJ20: 1
A21: S355 M/ML | B21: 35.5 | C21: 47 | D21: 0.9 | W21: 1000 | Y21: 0.85 | Z21: 0 | AA21: 0.234 | AB21: 0.291 | AC21: 0.35119715 | AD21: 0.391 | AE21: 0.47315334 | AF21: 0.57401936 | AG21: 0.65792155 | AH21: 0.74686704 | AI21: 0.76841569 | AJ21: 1
A22: S355 M/ML > 40 mm | B22: 33.5 | C22: 45 | D22: 0.9 | Y22: 0.9 | Z22: 0 | AA22: 0.234 | AB22: 0.291 | AC22: 0.35119715 | AD22: 0.391 | AE22: 0.47223637 | AF22: 0.57126847 | AG22: 0.65471218 | AH22: 0.74136526 | AI22: 0.76428935 | AJ22: 1
A23: S355 H | B23: 35.5 | C23: 51 | D23: 0.9 | F23: Boulons Précontraints | K23: Poutres | M23: Oui | O23: Filetée | Y23: 0.95 | Z23: 0 | AA23: 0.234 | AB23: 0.291 | AC23: 0.35119715 | AD23: 0.391 | AE23: 0.47040245 | AF23: 0.56851758 | AG23: 0.6515028 | AH23: 0.73678044 | AI23: 0.76039226 | AJ23: 1
A24: S355 H > 40 mm | B24: 33.5 | C24: 49 | D24: 0.9 | F24: Coefficient de Frottement | H24: Type de Trous | K24: Art-Art | M24: Non | O24: Non filetée | Y24: 1 | Z24: 0 | AA24: 0.234 | AB24: 0.291 | AC24: 0.35119715 | AD24: 0.391 | AE24: 0.46933265 | AF24: 0.56668365 | AG24: 0.64829343 | AH24: 0.73219562 | AI24: 0.75649516 | AJ24: 1
A25: S355 NH/NLH | B25: 35.5 | C25: 49 | D25: 0.9 | F25: Grenaillé | G25: 0.5 | H25: Normaux | I25: 1 | K25: Art-Enc | Y25: 1.05 | Z25: 0 | AA25: 0.234 | AB25: 0.291 | AC25: 0.35119715 | AD25: 0.391 | AE25: 0.46826286 | AF25: 0.56479241 | AG25: 0.64508406 | AH25: 0.728757 | AI25: 0.75374427 | AJ25: 1
A26: S355 NH/NLH >40mm | B26: 33.5 | C26: 47 | D26: 0.9 | F26: Métallisé | G26: 0.4 | H26: Surdimentionnés | I26: 0.85 | K26: Enc-Enc | Y26: 1.1 | Z26: 0 | AA26: 0.234 | AB26: 0.291 | AC26: 0.35119715 | AD26: 0.391 | AE26: 0.46719307 | AF26: 0.56290117 | AG26: 0.64187468 | AH26: 0.72531839 | AI26: 0.75099338 | AJ26: 1
A27: S460 N/NL | B27: 46 | C27: 54 | D27: 1 | F27: Brossé | G27: 0.3 | H27: Oblongs T | I27: 0.7 | Y27: 1.15 | Z27: 0 | AA27: 0.234 | AB27: 0.291 | AC27: 0.35119715 | AD27: 0.391 | AE27: 0.46612328 | AF27: 0.56100993 | AG27: 0.63866531 | AH27: 0.72165053 | AI27: 0.74870097 | AJ27: 1
A28: S460 N/NL > 40 mm | B28: 43 | C28: 54 | D28: 1 | F28: Brut | G28: 0.2 | H28: Oblongs Courts // | I28: 0.76 | Y28: 1.2 | Z28: 0 | AA28: 0.234 | AB28: 0.291 | AC28: 0.35119715 | AD28: 0.391 | AE28: 0.46505349 | AF28: 0.5591187 | AG28: 0.63545593 | AH28: 0.71798268 | AI28: 0.74640856 | AJ28: 1
A29: S460 M/ML | B29: 46 | C29: 54 | D29: 1 | F29: Galvanisé | G29: 0.15 | H29: Oblongs Longs // | I29: 0.63 | Y29: 1.25 | Z29: 0 | AA29: 0.234 | AB29: 0.291 | AC29: 0.35119715 | AD29: 0.391 | AE29: 0.4639837 | AF29: 0.55722746 | AG29: 0.63224656 | AH29: 0.71546103 | AI29: 0.74457463 | AJ29: 1
A30: S460 M/ML > 40 mm | B30: 46 | C30: 53 | D30: 1 | F30: Meulé | G30: 0.05 | Y30: 1.3 | Z30: 0 | AA30: 0.234 | AB30: 0.291 | AC30: 0.35119715 | AD30: 0.391 | AE30: 0.46291391 | AF30: 0.55533622 | AG30: 0.62903719 | AH30: 0.71293938 | AI30: 0.7427407 | AJ30: 1
A31: S460 NH/NLH | B31: 46 | C31: 56 | D31: 1 | Y31: 1.35 | Z31: 0 | AA31: 0.234 | AB31: 0.291 | AC31: 0.35119715 | AD31: 0.391 | AE31: 0.46184412 | AF31: 0.55344498 | AG31: 0.62582781 | AH31: 0.71064697 | AI31: 0.74205298 | AJ31: 1
A32: S460 NH/NLH > 40 mm | B32: 43 | C32: 55 | D32: 1 | Y32: 1.4 | Z32: 0 | AA32: 0.234 | AB32: 0.291 | AC32: 0.35119715 | AD32: 0.391 | AE32: 0.46077433 | AF32: 0.55155374 | AG32: 0.62261844 | AH32: 0.70835456 | AI32: 0.74136526 | AJ32: 1
A33: S460 | B33: 46 | C33: 55 | D33: 1 | Y33: 1000 | Z33: 0 | AA33: 0.234 | AB33: 0.291 | AC33: 0.35119715 | AD33: 0.391 | AE33: 0.46077433 | AF33: 0.55155374 | AG33: 0.62261844 | AH33: 0.70835456 | AI33: 0.74136526 | AJ33: 1
A38: Béton | B38: fck | C38: fck,cube | D38: fcm | E38: fctm | F38: fctk,0.05 | G38: fctk,0.95 | H38: Ecm | J38: Goujons
B39: [daN/mm²] | C39: [daN/mm²] | D39: [daN/mm²] | E39: [daN/mm²] | F39: [daN/mm²] | G39: [daN/mm²] | H39: [GPa] | J39: d1 | K39: d5 | L39: k | M39: dmin | N39: L2
A40: C 16/20 | B40: 1.6 | C40: 2 | D40: =B40+0.8 -> 2.4 | E40: =0.1*0.3*(10*B40)^(2/3) -> 0.19048813 | F40: =0.7*E40 -> 0.13334169 | G40: =1.3*E40 -> 0.24763456 | H40: =22*D40^0.3 -> 28.607905 | J40: 10 | K40: 19 | L40: 7 | N40: 75
A41: C 20/25 | B41: 2 | C41: 2.5 | D41: =B41+0.8 -> 2.8 | E41: =0.1*0.3*(10*B41)^(2/3) -> 0.22104189 | F41: =0.7*E41 -> 0.15472932 | G41: =1.3*E41 -> 0.28735446 | H41: =22*D41^0.3 -> 29.961951 | J41: 13 | K41: 25 | L41: 8 | N41: 100
A42: C 25/30 | B42: 2.5 | C42: 3 | D42: =B42+0.8 -> 3.3 | E42: =0.1*0.3*(10*B42)^(2/3) -> 0.25649639 | F42: =0.7*E42 -> 0.17954747 | G42: =1.3*E42 -> 0.33344531 | H42: =22*D42^0.3 -> 31.475806 | J42: 16 | K42: 32 | L42: 8 | N42: 125
A43: C 30/37 | B43: 3 | C43: 3.7 | D43: =B43+0.8 -> 3.8 | E43: =0.1*0.3*(10*B43)^(2/3) -> 0.28964682 | F43: =0.7*E43 -> 0.20275277 | G43: =1.3*E43 -> 0.37654086 | H43: =22*D43^0.3 -> 32.836568 | J43: 19 | K43: 32 | L43: 10 | N43: 150
A44: C 35/45 | B44: 3.5 | C44: 4.5 | D44: =B44+0.8 -> 4.3 | E44: =0.1*0.3*(10*B44)^(2/3) -> 0.32099624 | F44: =0.7*E44 -> 0.22469737 | G44: =1.3*E44 -> 0.41729512 | H44: =22*D44^0.3 -> 34.077146 | J44: 22 | K44: 35 | L44: 10 | N44: 175
A45: C 40/50 | B45: 4 | C45: 5 | D45: =B45+0.8 -> 4.8 | E45: =0.1*0.3*(10*B45)^(2/3) -> 0.35088213 | F45: =0.7*E45 -> 0.24561749 | G45: =1.3*E45 -> 0.45614677 | H45: =22*D45^0.3 -> 35.220462 | J45: 25 | K45: 40 | L45: 12 | N45: 200
A46: C 45/55 | B46: 4.5 | C46: 5.5 | D46: =B46+0.8 -> 5.3 | E46: =0.1*0.3*(10*B46)^(2/3) -> 0.3795447 | F46: =0.7*E46 -> 0.26568129 | G46: =1.3*E46 -> 0.49340811 | H46: =22*D46^0.3 -> 36.283188
A47: C 50/60 | B47: 5 | C47: 6 | D47: =B47+0.8 -> 5.8 | E47: =0.1*0.3*(10*B47)^(2/3) -> 0.40716264 | F47: =0.7*E47 -> 0.28501385 | G47: =1.3*E47 -> 0.52931144 | H47: =22*D47^0.3 -> 37.277869
A48: C 55/67 | B48: 5.5 | C48: 6.7 | D48: =B48+0.8 -> 6.3 | E48: =0.1*2.12*LN(1+D48) -> 0.42142936 | F48: =0.7*E48 -> 0.29500055 | G48: =1.3*E48 -> 0.54785817 | H48: =22*D48^0.3 -> 38.214206
A49: C 60/75 | B49: 6 | C49: 7.5 | D49: =B49+0.8 -> 6.8 | E49: =0.1*2.12*LN(1+D49) -> 0.43547423 | F49: =0.7*E49 -> 0.30483196 | G49: =1.3*E49 -> 0.5661165 | H49: =22*D49^0.3 -> 39.099874
A50: C 70/85 | B50: 7 | C50: 8.5 | D50: =B50+0.8 -> 7.8 | E50: =0.1*2.12*LN(1+D50) -> 0.46104736 | F50: =0.7*E50 -> 0.32273316 | G50: =1.3*E50 -> 0.59936157 | H50: =22*D50^0.3 -> 40.742818
B51: Cl1.0 | I51: η1 | J51: ηE | K51: Masse Volumique sèche max [kg/m3]
A52: ="LC "&B52*10&"/"&C52*10&"-"&$B$51 -> LC 12/13-Cl1.0 | B52: 1.2 | C52: 1.3 | D52: =IF(B52<2,B52+0.6,B52+0.8) -> 1.8 | I52: =0.4+0.6*(K52/2200) -> 0.67272727 | J52: =(K52/2200)^2 -> 0.20661157 | K52: 1000
A53: ="LC "&B53*10&"/"&C53*10&"-"&$B$51 -> LC 16/18-Cl1.0 | B53: 1.6 | C53: 1.8 | D53: =IF(B53<2,B53+0.6,B53+0.8) -> 2.2 | E53: =E40*I53 -> 0.12814656 | F53: =F40*I53 -> 0.08970259 | G53: =G40*I53 -> 0.16659052 | H53: =H40*J53 -> 5.9107242 | I53: =$I$52 -> 0.67272727 | J53: =$J$52 -> 0.20661157
A54: ="LC "&B54*10&"/"&C54*10&"-"&$B$51 -> LC 20/22-Cl1.0 | B54: 2 | C54: 2.2 | D54: =IF(B54<2,B54+0.6,B54+0.8) -> 2.8 | E54: =E41*I54 -> 0.14870091 | F54: =F41*I54 -> 0.10409064 | G54: =G41*I54 -> 0.19331118 | H54: =H41*J54 -> 6.1904858 | I54: =$I$52 -> 0.67272727 | J54: =$J$52 -> 0.20661157
A55: ="LC "&B55*10&"/"&C55*10&"-"&$B$51 -> LC 25/28-Cl1.0 | B55: 2.5 | C55: 2.8 | D55: =IF(B55<2,B55+0.6,B55+0.8) -> 3.3 | E55: =E42*I55 -> 0.17255212 | F55: =F42*I55 -> 0.12078648 | G55: =G42*I55 -> 0.22431775 | H55: =H42*J55 -> 6.5032657 | I55: =$I$52 -> 0.67272727 | J55: =$J$52 -> 0.20661157
A56: ="LC "&B56*10&"/"&C56*10&"-"&$B$51 -> LC 30/33-Cl1.0 | B56: 3 | C56: 3.3 | D56: =IF(B56<2,B56+0.6,B56+0.8) -> 3.8 | E56: =E43*I56 -> 0.19485331 | F56: =F43*I56 -> 0.13639732 | G56: =G43*I56 -> 0.25330931 | H56: =H43*J56 -> 6.7844149 | I56: =$I$52 -> 0.67272727 | J56: =$J$52 -> 0.20661157
A57: ="LC "&B57*10&"/"&C57*10&"-"&$B$51 -> LC 35/38-Cl1.0 | B57: 3.5 | C57: 3.8 | D57: =IF(B57<2,B57+0.6,B57+0.8) -> 4.3 | E57: =E44*I57 -> 0.21594293 | F57: =F44*I57 -> 0.15116005 | G57: =G44*I57 -> 0.28072581 | H57: =H44*J57 -> 7.0407327 | I57: =$I$52 -> 0.67272727 | J57: =$J$52 -> 0.20661157
A58: ="LC "&B58*10&"/"&C58*10&"-"&$B$51 -> LC 40/44-Cl1.0 | B58: 4 | C58: 4.4 | D58: =IF(B58<2,B58+0.6,B58+0.8) -> 4.8 | E58: =E45*I58 -> 0.23604798 | F58: =F45*I58 -> 0.16523358 | G58: =G45*I58 -> 0.30686237 | H58: =H45*J58 -> 7.276955 | I58: =$I$52 -> 0.67272727 | J58: =$J$52 -> 0.20661157
