Workbook
Name Ac: [1]Corniere!$X$25
Name alpha: [1]Corniere!$N$39
Name Asb: [1]Corniere!$T$49
Name bc: #REF!
Name beta2: [1]Corniere!$U$101
Name beta3: [1]Corniere!$U$102
Name cdg: [1]Corniere!$AC$25
Name classe: [1]Corniere!$R$22
Name d0: [1]Corniere!$G$16
Name db: [1]Corniere!$Q$49
Name e0: #REF!
Name emini: #REF!
Name entraxe: [1]Corniere!$G$24
Name fub: [1]Corniere!$S$22
Name fuc: [1]Corniere!$U$26
Name fup: [1]Corniere!$U$27
Name fyb: #REF!
Name fyc: [1]Corniere!$S$26
Name fyp: [1]Corniere!$S$27
Name gamma0: [1]Corniere!$Q$7
Name gamma1: #REF!
Name gamma2: [1]Corniere!$Q$9
Name gamma3: [1]Corniere!$Q$10
Name gamma7: [1]Corniere!$Q$11
Name hc: #REF!
Name mu: [1]Corniere!#REF!
Name nb: [1]Corniere!$G$33
Name nc: [1]Corniere!$Q$28
Name Ned: [1]Corniere!$I$41
Name pas: #REF!
Name taux: [1]Corniere!$Q$18
Name tc: [1]Corniere!$T$25
Name tp: [1]Corniere!$J$15
Name trusq: [1]Corniere!$Y$25

Sheet Informations
D3: Vérification des Eléments de Garde-Corps | Y3: V2.1
Y4: 45985
D6: Avertissement :
D7: La présente feuille de calculs est fournie en l'état et ne peux engager la responsabilitée de son auteur. Son utilisation engage la seule responsabilité de son utilisateur. Il apartient à l'utilisateur de contrôler les résultats.
D10: La présente Feuille a été créée par | L10: http://coursconstructionacier.fr | S10: et est sous licence | W10: CreativeCommon
D11: Merci de me contacter à | J11: cours.constructionacier@gmail.com | R11: pour signaler toute erreur dans cette feuille.
D13: Objectifs :
D14: L'objectif de cette feuille est de vérifier la résistance et le déplacement des éléments de garde-corps.
D16: ⚠ Cette feuille de calcul ne fait en aucun cas la vérification des fixations !
D18: Normes, Guides et Recommandations utilisées dans cette feuille :
D19: NF EN 1993-1-1 (Octobre 2005) : Calcul des structures en Acier : Règles générales et Règles pour les Bâtiments
D20: NF EN 1991-1-1 (Mars 2003) : Actions sur les structures
D21: NF P 06-111-2/A1 (Mars 2009) : Annexe Nationale à la NF EN 1991-1-1
D22: NF E 85-015 (Avril 2008) : Eléments d'installations industrielles ; Moyens d'accès permanents ; Escaliers, échelles à marches et garde-corps
D24: Guide Conception et Mise en Œuvre des Garde-Corps : Programme PACTE : Mise à jour le 07/10/2020
D25: Comment faire des garde-corps ? : Union des Métalliers : 2025
D26: NF P 01-012 (Novembre 2024) : Solutions techniques relatives aux éléments de protection visant à limiter le risque de chute accidentelle de hauteur des personnes dans le cadre d'un usage normal des bâtiments
D28: Légende :
E30: Cases des données à renseigner (Saisie manuelle ou menu déroulant) :
E32: Cases comportant des Alertes, des Commentaires ou des Schémas descriptifs : | X32: ! ?
E34: Cases contenant des Résultats :
D36: Onglets de la feuille de calcul :
E38: Feuilles Principales de l'Utilitaire
E39: Feuille 1 | I39: Feuille 2
E40: Informations | I40: Vérif GC Complète
E42: Feuilles de données à ne pas modifier !
O43: Feuille 3 | S43: Feuille 4 | W43: Feuille 5
O44: Tubes_SHS | S44: Tubes_RHS | W44: Tubes_CHS
D46: Révisions :
D48: Version | G48: Date | J48: Modification / Correction
D49: V0.0 | G49: 10/07/2021 | J49: Première Version
D50: V1.0 | G50: 13/10/2021 | J50: Fusion des feuilles de vérification des poteaux de garde corps en plat et en tube
J51: Base de données des profilées complétée
D52: V2.0 | G52: 14/04/2024 | J52: Correction d'erreur de lecture de la base de donnée
J53: Ajout de la vérification de la main-courante
J54: Ajout de la vérification des platines d'après le guide du programme PACTE
J55: Ajout de la raideur de platine au niveau de la cheville
D56: V2.1 | G56: 24/11/2025 | J56: Correction de la flèche verticale de main courante

Sheet Vérif GC Complète
C3: Vérification des Montants de Garde-Corps
C6: Dimensions du Garde-Corps
I8: Hauteur h = | J8: 1 | M8: m
T9: h | Y9: L | AQ9: =SI($AA$35="Laminé";Profilés!$A$3:$A$181;SI($AA$35="Cornière";Cornières!$B$5:$B$153;SI($AA$35="SHS";Tubes_SHS!$A$4:$A$252;SI($AA$35="RHS";Tubes_RHS!$A$4:$A$300;Tubes_CHS!$A$4:$A$197))))
AQ10: {=_xlfn.SWITCH($AT$20,"CIRF",1,"CIRC",2,"CARF",3,"CARC",4,"RECF",5,"RECC",6)} -> 6
I11: Entraxe des Poteaux L = | J11: 1.4 | M11: m
U13: {=IF(J16="Plat","I",_xlfn.SWITCH(J18,"Rond","○","Carré","□","Rectangle","▯"))} -> ▯ | AB13: {=IF(J16="Plat","I",_xlfn.SWITCH(J18,"Rond","○","Carré","□","Rectangle","▯"))} -> ▯ | AI13: {=IF(J16="Plat","I",_xlfn.SWITCH(J18,"Rond","○","Carré","□","Rectangle","▯"))} -> ▯ | AQ13: Nuances
C14: Section des Poteaux | AQ14: S235 | AR14: 23.5
I15: Nuance d'Acier : | J15: S235 | P15: largeur b = | Q15: 50 | T15: mm | W15: fy = | X15: =VLOOKUP(J15,AQ14:AR17,2,FALSE) -> 23.5 | Z15: daN/mm² | AQ15: S275 | AR15: 27.5
I16: Type de Section : | J16: Tube | P16: épaisseur t = | Q16: 15 | T16: mm | W16: A = | X16: =AU20 -> 635.61945 | AA16: mm² | AJ16: Coefficient de continuité : | AK16: 1.135 | AQ16: S355 | AR16: 35.5
W17: Iy = | X17: =AV20 -> 18.7 | AA17: cm4 | AD17: /!\ Dans le doute, laisser le coefficient de continuité à 1.135 | AQ17: S460 | AR17: 46
I18: Type de tube : | J18: Rectangle | P18: Finition : | Q18: à Chaud | W18: Wely = | X18: =AW20 -> 7.48 | AA18: cm3
I19: Section : | J19: RECC 50*30*5 | AQ19: Type | AR19: Finition | AS19: Section | AT19: Préfixe | AU19: A | AV19: Iy | AW19: Wely
AQ20: =IF(J16="Plat",J16,J18) -> Rectangle | AR20: =IF(J16="Plat","--",Q18) -> à Chaud | AS20: =IF(J16="Plat","--",J19) -> RECC 50*30*5 | AT20: {=IF(J16="Plat","--",_xlfn.IFS(AND(AQ20="Rond",AR20="à Froid"),"CIRF",AND(AQ20="Rond",AR20="à Chaud"),"CIRC",AND(AQ20="Carré",AR20="à Froid"),"CARF",AND(AQ20="Carré",AR20="à Chaud"),"CARC",AND(AQ20="Rectangle",AR20="à Froid"),"RECF",AND(AQ20="Rectangle",AR20="à Chaud"),"RECC"))} -> RECC | AU20: {=IF(J16="Plat",Q15*Q16, 100*_xlfn.IFS(OR($AT$20="CIRF",$AT$20="CIRC"),INDEX(Tubes_CHS!H3:H439,AX20), OR($AT$20="CARF",$AT$20="CARC"),INDEX(Tubes_SHS!H3:H252,AX20), OR($AT$20="RECF",$AT$20="RECC"),INDEX(Tubes_RHS!H3:H281,AX20)))} -> 635.61945 | AV20: {=IF(J16="Plat",0.0001*Q16*Q15^3/12, _xlfn.IFS(OR($AT$20="CIRF",$AT$20="CIRC"),INDEX(Tubes_CHS!I3:I439,AX20), OR($AT$20="CARF",$AT$20="CARC"),INDEX(Tubes_SHS!I3:I252,AX20), OR($AT$20="RECF",$AT$20="RECC"),INDEX(Tubes_RHS!I3:I281,AX20)))} -> 18.7 | AW20: {=IF(J16="Plat",0.001*Q16*Q15^2/6, _xlfn.IFS(OR($AT$20="CIRF",$AT$20="CIRC"),INDEX(Tubes_CHS!J3:J439,AX20), OR($AT$20="CARF",$AT$20="CARC"),INDEX(Tubes_SHS!J3:J252,AX20), OR($AT$20="RECF",$AT$20="RECC"),INDEX(Tubes_RHS!J3:J281,AX20)))} -> 7.48 | AX20: {=_xlfn.IFS(AQ20="Plat","", AQ20="Rond",MATCH(TRUE,INDEX(EXACT(AS20,Tubes_CHS!A3:A439),0),0), AQ20="Carré",MATCH(TRUE,INDEX(EXACT(AS20,Tubes_SHS!A3:A252),0),0), AQ20="Rectangle",MATCH(TRUE,INDEX(EXACT(AS20,Tubes_RHS!A3:A281),0),0))} -> 171
N21: Moment Résistant Mel,Rd = Wely * fy | Q21: Mel,Rd = | R21: =X18*X15 -> 175.78 | U21: daN.m
N22: Résistance aux efforts normaux NRd = A * fy | Q22: NRd = | R22: =X16*X15 -> 14937.057 | U22: daN
AQ24: Catégorie | AT24: Alertes | AU24: NF EN 13200-3 : Installations pour spectateurs - Partie 3 : éléments de séparation - Exigences - Installations
C25: Efforts Appliqués au Garde-Corps | AL25: NF EN 1991-1-1 et NF P 06-111-2/A1 | AQ25: Cat | AR25: qk | AS25: Destination | AU25: NF E 85-015 : Éléments d'installations industrielles - Moyens d'accès permanents - Choix d'un moyen d'accès
M26: Usage du Bâtiment : | O26: =VLOOKUP(J28,AQ26:AS35,3,FALSE) -> Bureaux | AQ26: A | AR26: 60 | AS26: Habitation , Résidentiel
AQ27: B | AR27: 60 | AS27: Bureaux
I28: Catégorie de Bâtiment : | J28: B | AQ28: C1 | AR28: 100 | AS28: Espaces équipés de tables etc., par exemple : écoles, cafés, restaurants, salles de banquet, salles de lecture, salles de réception
E29: Charge linéaire sur poteaux et main-courante | AQ29: C2 | AR29: 100 | AS29: Espaces équipés de sièges fixes, par exemple : églises, théatre ou cinémas, salles de conférence, amphithéatres, salles de réunion, salles d'attente
I30: qk = | J30: =VLOOKUP(J28,AQ26:AS35,2,FALSE) -> 60 | L30: daN/ml | U30: =IF(OR(J28="C5",J28="E2"),"⚠ uniquement pour les usages autres que ceux relevants de la","") | AQ30: C3 | AR30: 100 | AS30: Espaces ne présentants pas d'obstacles à la circulation des personnes, par exemple : salles de musée, salles d'exposition etc. et accès des bâtiments publics et administratifs, hôtels, hôpitaux, gares
E31: Charge ponctuelle verticale sur main-courante | U31: =IF(J28="C5",AU24,IF(J28="E2",AU25,"")) | AQ31: C4 | AR31: 100 | AS31: Espaces permettants des activités physiques, par exemple : dancings, salles de gymnastique, scènes
I32: Q = | J32: 67 | L32: daN | AQ32: C5 | AR32: 300 | AS32: Espaces susceptibles d'accueillir des foules importantes, par exemple : bâtiments destinés à des événemetns publics tels que salles de concert, salles de sport y compris tribunes, terrasses et aires d'accès, quais de gare
H33: Poids du remplissage | J33: g = | K33: 50 | M33: daN/m² | AQ33: D | AR33: 100 | AS33: Commerces
AF34: F | AH34: G | AQ34: E1 | AR34: 80 | AS34: Surface susceptibles de recevoir une accumulation de marchandises, y compris aires d'accès, par exemple : aires de stockage, y compris stockages de livres et autres documents
C35: Vérification ELU | AQ35: E2 | AR35: 30 | AS35: Usage industriel
J36: ="F_ELU = 1.5 * "&IF(AK16=1,"",AK16&" * ")&"L * qk" -> F_ELU = 1.5 * 1.135 * L * qk | M36: FELU = | N36: =1.5*AK16*J11*J30 -> 143.01 | Q36: daN | W36: Rh = | X36: =-N36 -> -143.01 | AA36: daN
J37: GELU = Ned = 1.35 * h * L * g | M37: NEd = | N37: =1.35*J8*J11*K33 -> 94.5 | Q37: daN | W37: Rv = | X37: =-N37 -> -94.5 | AA37: daN
J39: MEd = FELU * h | M39: MEd = | N39: =N36*J8 -> 143.01 | Q39: daN.m | AI39: Rh
AG40: Rv
AI41: MEd
D42: Résistance du poteau | K42: MEd | M42: + | N42: NEd | P42: = | S42: =(N39/R21)+(N37/R22) -> 0.81990033 | Y42: =IF(S42<=1,"≤",">") -> ≤ | AB42: 1 | AF42: =IF(S42<=1,"OK !!!","Non OK !!!") -> OK !!!
K43: Mel,Rd | N43: NRd | AQ43: =IF(S42<=1,1,0) -> 1
C46: Vérification ELS | AL46: =IF(N47=100,"Guide 'Comment faire des Gardes-Corps'","NF E 85-015") -> Guide 'Comment faire des Gardes-Corps'
K47: Déplacement admissible : | M47: h / | N47: 100 | R47: =IF(N47=100,"Guide de l'Union des Métalliers 'Comment faire des Gardes-Corps' Partie V - Tableau 8",IF(N47="NF E 85-015","Déplacement max aux essais statiques selon NF E 85-015 §7.3.2.1 δmax = 30mm",IF((1000*J8/N47)>=30,"Déplacement max aux essais statiques selon NF E 85-015 δmax = 30mm",""))) -> Guide de l'Union des Métalliers 'Comment faire des Gardes-Corps' Partie V - Tableau 8 | AF47: F | AH47: δ
U49: δmax = | V49: =IF(N47="NF E 85-015",30,MIN(30,1000*J8/N47)) -> 10 | Y49: mm
I50: Fmin,ser,m = α * 30 * L | M50: Fmin,ser,m = | N50: =3*30*J11 -> 126 | Q50: daN
G51: α est pris égal à 3 (valeur maximale selon NF E 85-015 Annexe A)
I52: FELS = L * qk | M52: FELS = | N52: =J11*J30 -> 84 | Q52: daN
I54: Déplacement Horizontal | P54: δ = FELS * h3 / (3 * E * Iy) | S54: δ = | T54: =1000*(IF(N47="NF E 85-015",N50,N52)*J8^3)/(3*210*X17) -> 7.1301248 | V54: mm | Y54: =IF(T54<=V49,"≤",">") -> ≤ | AB54: δmax | AF54: =IF(T54<=V49,"OK !!!","Non OK !!!") -> OK !!! | AQ54: =IF(T54<=V49,1,0) -> 1
C61: =IF(AQ61=1,"Le Montant est Vérifié !!!","Le Montant n'est PAS Vérifié !!!") -> Le Montant est Vérifié !!! | Y61: Ratio résistance | Z61: =S42 -> 0.81990033 | AJ61: Ratio déplacement | AK61: =T54/V49 -> 0.71301248 | AQ61: =IF(AND(AQ43=1,AQ54=1),1,0) -> 1
C66: Vérification de la Main-Courante
C69: Section de la Main-Courante
I70: Nuance d'Acier : | J70: S235 | P70: largeur b = | Q70: 60 | T70: mm | W70: fy = | X70: =VLOOKUP(J70,AQ14:AR17,2,FALSE) -> 23.5 | Z70: daN/mm²
I71: Type de Section : | J71: Tube | P71: épaisseur t = | Q71: 20 | T71: mm | W71: A = | X71: =AU75 -> 253.84069 | AA71: mm²
W72: Iy = | X72: =AV75 -> 5.1915497 | AA72: cm4 | AE72: Iz = | AF72: =AV77 -> 5.1915497 | AI72: cm4
I73: Type de tube : | J73: Rond | P73: Finition : | Q73: à Froid | W73: Wely = | X73: =AW75 -> 2.4488442 | AA73: cm3 | AE73: Welz = | AF73: =AW77 -> 2.4488442 | AI73: cm3
I74: Section : | J74: CIRF 42.4*2 | AQ74: Type | AR74: Finition | AS74: Section | AT74: Préfixe | AU74: A | AV74: Iy | AW74: Wely
AQ75: =IF(J71="Plat",J71,J73) -> Rond | AR75: =IF(J71="Plat","--",Q73) -> à Froid | AS75: =IF(J71="Plat","--",J74) -> CIRF 42.4*2 | AT75: {=IF(J71="Plat","--",_xlfn.IFS(AND(AQ75="Rond",AR75="à Froid"),"CIRF",AND(AQ75="Rond",AR75="à Chaud"),"CIRC",AND(AQ75="Carré",AR75="à Froid"),"CARF",AND(AQ75="Carré",AR75="à Chaud"),"CARC",AND(AQ75="Rectangle",AR75="à Froid"),"RECF",AND(AQ75="Rectangle",AR75="à Chaud"),"RECC"))} -> CIRF | AU75: {=IF(J71="Plat",Q70*Q71, 100*_xlfn.IFS(OR(AT75="CIRF",AT75="CIRC"),INDEX(Tubes_CHS!H3:H439,AX75), OR(AT75="CARF",AT75="CARC"),INDEX(Tubes_SHS!H3:H252,AX75), OR(AT75="RECF",AT75="RECC"),INDEX(Tubes_RHS!H3:H281,AX75)))} -> 253.84069 | AV75: {=IF(J71="Plat",0.0001*Q71*Q70^3/12, _xlfn.IFS(OR($AT$75="CIRF",$AT$75="CIRC"),INDEX(Tubes_CHS!I3:I439,AX75), OR($AT$75="CARF",$AT$75="CARC"),INDEX(Tubes_SHS!I3:I252,AX75), OR($AT$75="RECF",$AT$75="RECC"),INDEX(Tubes_RHS!I3:I281,AX75)))} -> 5.1915497 | AW75: {=IF(J71="Plat",0.001*Q71*Q70^2/6, _xlfn.IFS(OR($AT$75="CIRF",$AT$75="CIRC"),INDEX(Tubes_CHS!J3:J439,AX75), OR($AT$75="CARF",$AT$75="CARC"),INDEX(Tubes_SHS!J3:J252,AX75), OR($AT$75="RECF",$AT$75="RECC"),INDEX(Tubes_RHS!J3:J281,AX75)))} -> 2.4488442 | AX75: {=_xlfn.IFS(AQ75="Plat","", AQ75="Rond",MATCH(TRUE,INDEX(EXACT(AS75,Tubes_CHS!A3:A439),0),0), AQ75="Carré",MATCH(TRUE,INDEX(EXACT(AS75,Tubes_SHS!A3:A252),0),0), AQ75="Rectangle",MATCH(TRUE,INDEX(EXACT(AS75,Tubes_RHS!A3:A281),0),0))} -> 11
I76: Moments Résistants | N76: Mel,y,Rd = Wely * fy | Q76: Mel,y,Rd = | R76: =X73*X70 -> 57.547839 | U76: daN.m | AV76: Iz | AW76: Welz
N77: Mel,z,Rd = Welz * fy | Q77: Mel,z,Rd = | R77: =AF73*X70 -> 57.547839 | U77: daN.m | AV77: {=IF(J71="Plat",0.0001*Q70*Q71^3/12, _xlfn.IFS(OR($AT$75="CIRF",$AT$75="CIRC"),INDEX(Tubes_CHS!I3:I439,AX75), OR($AT$75="CARF",$AT$75="CARC"),INDEX(Tubes_SHS!I3:I252,AX75), OR($AT$75="RECF",$AT$75="RECC"),INDEX(Tubes_RHS!N3:N281,AX75)))} -> 5.1915497 | AW77: {=IF(J71="Plat",0.001*Q70*Q71^2/6, _xlfn.IFS(OR($AT$75="CIRF",$AT$75="CIRC"),INDEX(Tubes_CHS!J3:J439,AX75), OR($AT$75="CARF",$AT$75="CARC"),INDEX(Tubes_SHS!J3:J252,AX75), OR($AT$75="RECF",$AT$75="RECC"),INDEX(Tubes_RHS!O3:O281,AX75)))} -> 2.4488442
Q78: Flèche admissible : ωlim = L/300 = | R78: =1000*J11/300 -> 4.6666667 | U78: mm
C80: Vérifications horinzontales
J81: My,Ed = 1.5*qk*L² / 8 | M81: MEd = | N81: =1.5*J30*J11^2/8 -> 22.05 | Q81: daN.m | S81: =IF(N81<=R76,"≤",">") -> ≤ | U81: Mel,y,Rd | X81: =IF(N81<=R76,"OK !!!","Non OK !!!") -> OK !!! | AA81: =N81/R76 -> 0.38315948 | AL81: qk | AQ81: =IF(AA81<=1,1,0) -> 1
J82: ωz = 5qkL4/384EI | M82: ωz = | N82: =(5*J30*J11^4)/(384*0.21*X72) -> 2.752871 | Q82: mm | S82: =IF(N82<=R78,"≤",">") -> ≤ | U82: ωlim | X82: =IF(N82<=R78,"OK !!!","Non OK !!!") -> OK !!! | AA82: =N82/R78 -> 0.58990093 | AD82: ω | AQ82: =IF(AA82<=1,1,0) -> 1
AH83: L
C84: Vérifications verticales
J85: Mz,Ed = 1.5*Q*L / 4 | M85: MEd = | N85: =1.5*J32*J11/4 -> 35.175 | Q85: daN.m | S85: =IF(N85<=R77,"≤",">") -> ≤ | U85: Mel,z,Rd | X85: =IF(N85<=R77,"OK !!!","Non OK !!!") -> OK !!! | AA85: =N85/R77 -> 0.6112306 | AI85: Q | AQ85: =IF(AA85<=1,1,0) -> 1
J86: ωy = QL3/48EI | M86: ωy = | N86: =(J32*J11^3)/(48*0.21*AF72) -> 3.5131878 | Q86: mm | S86: =IF(N86<=R78,"≤",">") -> ≤ | U86: ωlim | X86: =IF(N86<=R78,"OK !!!","Non OK !!!") -> OK !!! | AA86: =N86/R78 -> 0.75282595 | AD86: ω | AQ86: =IF(AA86<=1,1,0) -> 1
AH87: L
C90: =IF(AQ90=1,"La Main-Courante est Vérifiée !!!","La Main-Courante n'est PAS Vérifiée !!!") -> La Main-Courante est Vérifiée !!! | Y90: Ratio résistance | Z90: =MAX(AA81,AA85) -> 0.6112306 | AJ90: Ratio flèche | AK90: =MAX(AA82,AA86) -> 0.75282595 | AQ90: =IF(AND(AQ81,AQ85,AQ82=1,AQ86=1),1,0) -> 1
C94: Vérification des Platines de Garde-Corps
D96: Dimensions de la platine
J97: Type de platine : | K97: 2 | O97: =IF(K97=1,"Une seule cheville devant le montant","Une cheville de part et d'autre du montant") -> Une cheville de part et d'autre du montant | AB97: bm = | AC97: {=IF(J16="Plat",Q16, _xlfn.IFS(OR($AT$20="CIRF",$AT$20="CIRC"),INDEX(Tubes_CHS!C3:C439,AX20), OR($AT$20="CARF",$AT$20="CARC"),INDEX(Tubes_SHS!C3:C252,AX20), OR($AT$20="RECF",$AT$20="RECC"),INDEX(Tubes_RHS!D3:D281,AX20)))} -> 30
J98: Nuance d'Acier : | K98: S235 | P98: fy = | Q98: =VLOOKUP(K98,AQ14:AR17,2,FALSE) -> 23.5 | S98: daN/mm²
J99: épaisseur tp = | K99: 12 | N99: mm | AJ99: c = | AK99: 10
P100: Distance entre une cheville et le montant m = | Q100: =IF(K97=1,AL102-AK99-AK105-AK101, IF(AND(J16="Tube",J18="Rond",0.5*AK101+AK99=AL102-AK105),0.5*(AC108-AH107-AC97), IF(AND(J16="Tube",J18="Rond"),SQRT((AL102-0.5*AK101-AK105-AK99)^2+(0.5*AC108-AH107)^2)-0.5*AK101, IF(AL102-AK105<=AK99+AK101,0.5*(AC108-2*AH107-AC97), SQRT((0.5*(AC108-2*AH107-AC97))^2+(AL102-AK99-AK105-AK101)^2))))) -> 32.015621 | T100: mm
AK101: {=IF(J16="Plat",Q15, _xlfn.IFS(OR($AT$20="CIRF",$AT$20="CIRC"),INDEX(Tubes_CHS!C3:C439,AX20), OR($AT$20="CARF",$AT$20="CARC"),INDEX(Tubes_SHS!C3:C252,AX20), OR($AT$20="RECF",$AT$20="RECC"),INDEX(Tubes_RHS!C3:C281,AX20)))} -> 50
D102: Vérification des conditions de pas et pince | AL102: 100
J103: Diamètre des chevilles d = | K103: 12 | N103: mm | AA103: m | AB103: ⟋ | AE103: m | AK103: hm =
H104: m = | I104: =Q100 -> 32.015621 | K104: =IF(I104>=O104,"≥","<") -> ≥ | N104: 2*d = | O104: =2*K103 -> 24 | Q104: =IF(I104>=O104,"OK !!!","Non OK !!!") -> OK !!! | V104: =O104/I104 -> 0.74963406 | Y104: n | Z104: ○ | AA104: ⟋ | AC104: ○ | AG104: ○ | AL104: H =
H105: p = | I105: =IF(K97=1,"N/A",AC108-2*AH107) -> 80 | K105: =IF(K97=1,"N/A",IF(I105>=O105,"≥","<")) -> ≥ | N105: 3*d = | O105: =3*K103 -> 36 | Q105: =IF(I105>=O105,"OK !!!","Non OK !!!") -> OK !!! | V105: =IF(K97=1,0,O105/I105) -> 0.45 | Z105: ⟋ | AE105: n | AJ105: e' = | AK105: 20
H106: e = | I106: =IF(K97=1,AF107,AH107) -> 20 | K106: =IF(K98=1,"N/A",IF(I106>=O106,"≥","<")) -> ≥ | N106: 1.5*d = | O106: =1.5*K103 -> 18 | Q106: =IF(I106>=O106,"OK !!!","Non OK !!!") -> OK !!! | V106: =O106/I106 -> 0.9
H107: e' = | I107: =AK105 -> 20 | K107: =IF(K99=1,"N/A",IF(I107>=O107,"≥","<")) -> ≥ | N107: 1.5*d = | O107: =1.5*K103 -> 18 | Q107: =IF(I107>=O107,"OK !!!","Non OK !!!") -> OK !!! | V107: =O107/I107 -> 0.9 | X107: e = | Y107: =AH107 -> 20 | Z107: e = | AA107: =AC108/2 -> 60 | AE107: e = | AF107: =AC108/2 -> 60 | AG107: e = | AH107: 20 | AP107: Calcul des dimensions efficasse de la platine
H108: n = | I108: =IF(K97=1,AK105,AQ120) -> 28.111277 | K108: =IF(I108<=P108,"≤",">") -> ≤ | M108: 1.25*m = | P108: =1.25*Q100 -> 40.019526 | Q108: =IF(I108<=P108," OK !!!"," Réduire e ou e'") -> OK !!! | V108: =I108/P108 -> 0.70243902 | AB108: B = | AC108: 120 | AQ108: X | AR108: Y
AP109: O | AQ109: 0 | AR109: =AL102-AK99-0.5*AK101 -> 65 | AS109: =IF(AND(J16="Tube",J18="Rond"),(AR111-AR109)/(AQ111-AQ109),(AR111-AR110)/(AQ111-AQ110)) -> -0.8
D110: Vérification de la rigidité de la platine | AP110: A | AQ110: =IF(AND(J16="Tube",J18="Rond"),COS(AS110)*0.5*AK101,0.5*AC97) -> 15 | AR110: =IF(AND(J16="Tube",J18="Rond"),SIN(AS110)*0.5*AK101,AL102-AK99-AK101) -> 40 | AS110: =ATAN(AS109) -> -0.67474094
M111: 0.3 m = | N111: =0.3*Q100 -> 9.6046864 | Q111: mm | S111: =IF(N111<=K99,"≤",">") -> ≤ | T111: tp | W111: =IF(N111<=K99,"OK !!!","Non OK !!!") -> OK !!! | Z111: =IF(W111="Non OK !!!"," La platine n'est pas rigide !","La platine est rigide !") -> La platine est rigide ! | AL111: =N111/K99 -> 0.80039053 | AP111: B | AQ111: =0.5*AC108-AH107 -> 40 | AR111: =AK105 -> 20 | AS111: =-_xlfn.COT(AS110) -> 1.25
H112: Raideur : | N112: =((2*210000*10^-3*AE119*10^4)/(Q100^2*I108)) -> 302.4 | Q112: kN/mm | S112: Rigide si F/δp ≥ N/δₙ₀ (N et δₙ₀ disponibles dans l'ETE de la fixation choisie) | AP112: C | AQ112: =(-AR110+AS111*AQ110)/AS111 -> -17 | AR112: 0
E113: =IF(W111="NON OK !!!","Il est recommandé d'utiliser une méthode de calcul aux éléments finis pour justifier le comportement rigide de la platine !","") | AP113: D | AQ113: 0 | AR113: =AR110-AS111*AQ110 -> 21.25
P114: Longueur du débord comprimé | R114: c | S114: =IF(AK99<=2*K99,"≤",">") -> ≤ | T114: 2*tp | V114: =IF(AK99<=2*K99," OK !!!","Distance considérées pour la calcul du bras de levier : 2*tp") -> OK !!! | AL114: =AK99/(2*K99) -> 0.41666667 | AP114: AB | AQ114: =SQRT((AQ110-AQ111)^2+(AR110-AR111)^2) -> 32.015621
AP115: AC | AQ115: =SQRT((AQ110-AQ112)^2+(AR110-AR112)^2) -> 51.224994
D116: Vérification de la Platine | AP116: AD | AQ116: =SQRT((AQ110-AQ113)^2+(AR110-AR113)^2) -> 24.011716
J117: Bras de levier Z = | K117: =(7/8)*(AL102-AK105-AK99+MIN(AK99,2*K99)) -> 70 | N117: mm | AD117: Traction à l'axe des chevilles F = MEd / Z = | AE117: =N39/(K117/1000) -> 2043 | AH117: daN | AP117: Lp réduit | AQ117: =1.5*Q100+MIN(AQ116,AQ115,1.5*AQ114) -> 72.035148
J118: Largeur efficace Lp = | K118: =K97*IF(K97=1,MIN(AC108,3*Q100), IF(AND(J16="Tube",J18="Rond",0.5*AK101+AK99=AL102-AK105),MIN(AL102,3*Q100), IF(AND(J16="Tube",J18="Rond"),MIN(AQ117,3*Q100), IF(AL102-AK105>AK99+AK101, MIN(AQ117,3*Q100),MIN(AK105+1.5*Q100,3*Q100))))) -> 144.0703 | N118: mm | P118: =IF(K118<K97*3*Q100,"Lₚ réduit","") -> Lₚ réduit | AD118: Moment dans la platine Mp = F * m = | AE118: =AE117*Q100/1000 -> 65.407914 | AH118: daN.m | AP118: E | AQ118: =AC108/2 -> 60
J119: Wply = Lp* tp2 /4 = | K119: =(K118/10)*((K99/10)^2)/4 -> 5.1865306 | N119: cm3 | AD119: I = Lp* tp3 /12 = | AE119: =(K118/10)*((K99/10)^3)/12 -> 2.0746123 | AH119: cm4 | AP119: B' | AQ119: =((-AS109*AQ118-AR111+AS111*AQ111)/(AS111-AS109)) -> 38.04878 | AR119: 0
AP120: n | AQ120: =IF(AL102-AK105<=AK99+AK101,AH107,SQRT((AQ118-AQ119)^2+(AR119-AR120)^2)) -> 28.111277 | AR120: =AS111*AQ119+AR111-AS111*AQ111 -> 17.560976
M121: Moment Résistant Mpl,Rd = Wply * fy | P121: Mpl,Rd = | Q121: =K119*Q98 -> 121.88347 | T121: daN.m | W121: =IF(Q121>=AE118,"≥","<") -> ≥ | Y121: Mp | AA121: =IF(Q121>=AE118,"OK !!!","Non OK !!!") -> OK !!! | AE121: =AE118/Q121 -> 0.53664303
C124: =IF(AK124<=1,"La Platine est Vérifiée !!!","La Platine n'est PAS Vérifiée !!!") -> La Platine est Vérifiée !!! | P124: ⚠ Cette feuille ne vérifie pas les fixations !!! | AJ124: Ratio résistance | AK124: =AE121 -> 0.53664303

Sheet Tubes_SHS
A1: Type de profilé | B1: Masse | C1: Dimensions | H1: Aire | I1: Inertie | J1: Modules de flexion | L1: Rayon de giration | M1: Aire de cisaillement | S1: Inertie de Torsion | T1: Constante de Torsion
B2: G (kg/ml) | C2: h (mm) | E2: t (mm) | F2: ri (mm( | G2: ra (mm) | H2: A (cm2) | I2: I (cm4) | J2: Wel (cm3) | K2: Wpl (cm3) | L2: i (cm) | M2: Av (cm2) | S2: It (cm4) | T2: Ct (cm3)
B3: CARF
A4: =$B$3&" "&C4&"*"&E4 -> CARF 20*2 | B4: 1.05 | C4: 20 | E4: 2 | F4: =IF(E4<=6,1*E4,IF(E4<=10,1.5*E4,2*E4)) -> 2 | G4: =IF(E4<=6,2*E4,IF(E4<=10,2.5*E4,3*E4)) -> 4 | H4: =(4*(C4-2*G4)*E4+PI()*(G4^2-F4^2))*0.01 -> 1.3369911 | I4: 0.681 | J4: =I4/(0.5*C4*0.1) -> 0.681 | K4: 0.87 | L4: =SQRT(I4/H4) -> 0.71368948 | M4: =2*(C4-2*G4)*E4*0.01 -> 0.48 | S4: 1.21 | T4: 1.06
A5: =$B$3&" "&C5&"*"&E5 -> CARF 25*2 | B5: 1.36 | C5: 25 | E5: 2 | F5: =IF(E5<=6,1*E5,IF(E5<=10,1.5*E5,2*E5)) -> 2 | G5: =IF(E5<=6,2*E5,IF(E5<=10,2.5*E5,3*E5)) -> 4 | H5: =(4*(C5-2*G5)*E5+PI()*(G5^2-F5^2))*0.01 -> 1.7369911 | I5: 1.47 | J5: =I5/(0.5*C5*0.1) -> 1.176 | K5: 1.46 | L5: =SQRT(I5/H5) -> 0.91994077 | M5: =2*(C5-2*G5)*E5*0.01 -> 0.68 | S5: 2.53 | T5: 1.8
A6: =$B$3&" "&C6&"*"&E6 -> CARF 25*2.5 | B6: 1,64 | C6: 25 | E6: 2.5 | F6: =IF(E6<=6,1*E6,IF(E6<=10,1.5*E6,2*E6)) -> 2.5 | G6: =IF(E6<=6,2*E6,IF(E6<=10,2.5*E6,3*E6)) -> 5 | H6: =(4*(C6-2*G6)*E6+PI()*(G6^2-F6^2))*0.01 -> 2.0890486 | I6: 1.66 | J6: =I6/(0.5*C6*0.1) -> 1.328 | K6: 1.7 | L6: =SQRT(I6/H6) -> 0.89141466 | M6: =2*(C6-2*G6)*E6*0.01 -> 0.75 | S6: 2.97 | T6: 2.07
A7: =$B$3&" "&C7&"*"&E7 -> CARF 25*3 | B7: 1,89 | C7: 25 | E7: 3 | F7: =IF(E7<=6,1*E7,IF(E7<=10,1.5*E7,2*E7)) -> 3 | G7: =IF(E7<=6,2*E7,IF(E7<=10,2.5*E7,3*E7)) -> 6 | H7: =(4*(C7-2*G7)*E7+PI()*(G7^2-F7^2))*0.01 -> 2.40823 | I7: 1.79 | J7: =I7/(0.5*C7*0.1) -> 1.432 | K7: 1.89 | L7: =SQRT(I7/H7) -> 0.86213948 | M7: =2*(C7-2*G7)*E7*0.01 -> 0.78 | S7: 3.33 | T7: 2.27
A8: =$B$3&" "&C8&"*"&E8 -> CARF 30*2 | B8: 1,68 | C8: 30 | E8: 2 | F8: =IF(E8<=6,1*E8,IF(E8<=10,1.5*E8,2*E8)) -> 2 | G8: =IF(E8<=6,2*E8,IF(E8<=10,2.5*E8,3*E8)) -> 4 | H8: =(4*(C8-2*G8)*E8+PI()*(G8^2-F8^2))*0.01 -> 2.1369911 | I8: 2.7 | J8: =I8/(0.5*C8*0.1) -> 1.8 | K8: 2.2 | L8: =SQRT(I8/H8) -> 1.1240368 | M8: =2*(C8-2*G8)*E8*0.01 -> 0.88 | S8: 4.54 | T8: 2.75
A9: =$B$3&" "&C9&"*"&E9 -> CARF 30*2.5 | B9: 2,03 | C9: 30 | E9: 2.5 | F9: =IF(E9<=6,1*E9,IF(E9<=10,1.5*E9,2*E9)) -> 2.5 | G9: =IF(E9<=6,2*E9,IF(E9<=10,2.5*E9,3*E9)) -> 5 | H9: =(4*(C9-2*G9)*E9+PI()*(G9^2-F9^2))*0.01 -> 2.5890486 | I9: 3.12 | J9: =I9/(0.5*C9*0.1) -> 2.08 | K9: 2.6 | L9: =SQRT(I9/H9) -> 1.0977595 | M9: =2*(C9-2*G9)*E9*0.01 -> 1 | S9: 5.4 | T9: 3.2
A10: =$B$3&" "&C10&"*"&E10 -> CARF 30*3 | B10: 2,36 | C10: 30 | E10: 3 | F10: =IF(E10<=6,1*E10,IF(E10<=10,1.5*E10,2*E10)) -> 3 | G10: =IF(E10<=6,2*E10,IF(E10<=10,2.5*E10,3*E10)) -> 6 | H10: =(4*(C10-2*G10)*E10+PI()*(G10^2-F10^2))*0.01 -> 3.00823 | I10: 3.45 | J10: =I10/(0.5*C10*0.1) -> 2.3 | K10: 2.94 | L10: =SQRT(I10/H10) -> 1.0709126 | M10: =2*(C10-2*G10)*E10*0.01 -> 1.08 | S10: 6.15 | T10: 3.58
A11: =$B$3&" "&C11&"*"&E11 -> CARF 40*2 | B11: 2,31 | C11: 40 | E11: 2 | F11: =IF(E11<=6,1*E11,IF(E11<=10,1.5*E11,2*E11)) -> 2 | G11: =IF(E11<=6,2*E11,IF(E11<=10,2.5*E11,3*E11)) -> 4 | H11: =(4*(C11-2*G11)*E11+PI()*(G11^2-F11^2))*0.01 -> 2.9369911 | I11: 6.92 | J11: =I11/(0.5*C11*0.1) -> 3.46 | K11: 4.13 | L11: =SQRT(I11/H11) -> 1.5349765 | M11: =2*(C11-2*G11)*E11*0.01 -> 1.28 | S11: 11.3 | T11: 5.23
A12: =$B$3&" "&C12&"*"&E12 -> CARF 40*2.5 | B12: 2,82 | C12: 40 | E12: 2.5 | F12: =IF(E12<=6,1*E12,IF(E12<=10,1.5*E12,2*E12)) -> 2.5 | G12: =IF(E12<=6,2*E12,IF(E12<=10,2.5*E12,3*E12)) -> 5 | H12: =(4*(C12-2*G12)*E12+PI()*(G12^2-F12^2))*0.01 -> 3.5890486 | I12: 8.17 | J12: =I12/(0.5*C12*0.1) -> 4.085 | K12: 4.95 | L12: =SQRT(I12/H12) -> 1.5087642 | M12: =2*(C12-2*G12)*E12*0.01 -> 1.5 | S12: 13.6 | T12: 6.21
A13: =$B$3&" "&C13&"*"&E13 -> CARF 40*3 | B13: =(H13*7850)/10000 -> 3.3034606 | C13: 40 | E13: 3 | F13: =IF(E13<=6,1*E13,IF(E13<=10,1.5*E13,2*E13)) -> 3 | G13: =IF(E13<=6,2*E13,IF(E13<=10,2.5*E13,3*E13)) -> 6 | H13: =(4*(C13-2*G13)*E13+PI()*(G13^2-F13^2))*0.01 -> 4.20823 | I13: 9.24 | J13: =I13/(0.5*C13*0.1) -> 4.62 | K13: 5.7 | L13: =SQRT(I13/H13) -> 1.4817886 | M13: =2*(C13-2*G13)*E13*0.01 -> 1.68 | S13: 15.8 | T13: 7.07
A14: =$B$3&" "&C14&"*"&E14 -> CARF 40*4 | B14: =(H14*7850)/10000 -> 4.1981521 | C14: 40 | E14: 4 | F14: =IF(E14<=6,1*E14,IF(E14<=10,1.5*E14,2*E14)) -> 4 | G14: =IF(E14<=6,2*E14,IF(E14<=10,2.5*E14,3*E14)) -> 8 | H14: =(4*(C14-2*G14)*E14+PI()*(G14^2-F14^2))*0.01 -> 5.3479645 | I14: 10.9 | J14: =I14/(0.5*C14*0.1) -> 5.45 | K14: 6.97 | L14: =SQRT(I14/H14) -> 1.4276409 | M14: =2*(C14-2*G14)*E14*0.01 -> 1.92 | S14: 19.4 | T14: 8.48
A15: =$B$3&" "&C15&"*"&E15 -> CARF 50*2 | B15: =(H15*7850)/10000 -> 2.933538 | C15: 50 | E15: 2 | F15: =IF(E15<=6,1*E15,IF(E15<=10,1.5*E15,2*E15)) -> 2 | G15: =IF(E15<=6,2*E15,IF(E15<=10,2.5*E15,3*E15)) -> 4 | H15: =(4*(C15-2*G15)*E15+PI()*(G15^2-F15^2))*0.01 -> 3.7369911 | I15: 14.1 | J15: =I15/(0.5*C15*0.1) -> 5.64 | K15: 6.66 | L15: =SQRT(I15/H15) -> 1.9424441 | M15: =2*(C15-2*G15)*E15*0.01 -> 1.68 | S15: 22.6 | T15: 8.51
A16: =$B$3&" "&C16&"*"&E16 -> CARF 50*2.5 | B16: =(H16*7850)/10000 -> 3.6024032 | C16: 50 | E16: 2.5 | F16: =IF(E16<=6,1*E16,IF(E16<=10,1.5*E16,2*E16)) -> 2.5 | G16: =IF(E16<=6,2*E16,IF(E16<=10,2.5*E16,3*E16)) -> 5 | H16: =(4*(C16-2*G16)*E16+PI()*(G16^2-F16^2))*0.01 -> 4.5890486 | I16: 16.9 | J16: =I16/(0.5*C16*0.1) -> 6.76 | K16: 8.06 | L16: =SQRT(I16/H16) -> 1.9190311 | M16: =2*(C16-2*G16)*E16*0.01 -> 2 | S16: 27.5 | T16: 10.2
A17: =$B$3&" "&C17&"*"&E17 -> CARF 50*3 | B17: =(H17*7850)/10000 -> 4.2454606 | C17: 50 | E17: 3 | F17: =IF(E17<=6,1*E17,IF(E17<=10,1.5*E17,2*E17)) -> 3 | G17: =IF(E17<=6,2*E17,IF(E17<=10,2.5*E17,3*E17)) -> 6 | H17: =(4*(C17-2*G17)*E17+PI()*(G17^2-F17^2))*0.01 -> 5.40823 | I17: 19.4 | J17: =I17/(0.5*C17*0.1) -> 7.76 | K17: 9.37 | L17: =SQRT(I17/H17) -> 1.8939708 | M17: =2*(C17-2*G17)*E17*0.01 -> 2.28 | S17: 32.1 | T17: 11.8
A18: =$B$3&" "&C18&"*"&E18 -> CARF 50*4 | B18: =(H18*7850)/10000 -> 5.4541521 | C18: 50 | E18: 4 | F18: =IF(E18<=6,1*E18,IF(E18<=10,1.5*E18,2*E18)) -> 4 | G18: =IF(E18<=6,2*E18,IF(E18<=10,2.5*E18,3*E18)) -> 8 | H18: =(4*(C18-2*G18)*E18+PI()*(G18^2-F18^2))*0.01 -> 6.9479645 | I18: 23.5 | J18: =I18/(0.5*C18*0.1) -> 9.4 | K18: 11.7 | L18: =SQRT(I18/H18) -> 1.8390991 | M18: =2*(C18-2*G18)*E18*0.01 -> 2.72 | S18: 40.4 | T18: 14.4
A19: =$B$3&" "&C19&"*"&E19 -> CARF 50*5 | B19: =(H19*7850)/10000 -> 6.5596127 | C19: 50 | E19: 5 | F19: =IF(E19<=6,1*E19,IF(E19<=10,1.5*E19,2*E19)) -> 5 | G19: =IF(E19<=6,2*E19,IF(E19<=10,2.5*E19,3*E19)) -> 10 | H19: =(4*(C19-2*G19)*E19+PI()*(G19^2-F19^2))*0.01 -> 8.3561945 | I19: 26.6 | J19: =I19/(0.5*C19*0.1) -> 10.64 | K19: 13.6 | L19: =SQRT(I19/H19) -> 1.7841713 | M19: =2*(C19-2*G19)*E19*0.01 -> 3 | S19: 47.5 | T19: 16.6
A20: =$B$3&" "&C20&"*"&E20 -> CARF 60*2 | B20: =(H20*7850)/10000 -> 3.561538 | C20: 60 | E20: 2 | F20: =IF(E20<=6,1*E20,IF(E20<=10,1.5*E20,2*E20)) -> 2 | G20: =IF(E20<=6,2*E20,IF(E20<=10,2.5*E20,3*E20)) -> 4 | H20: =(4*(C20-2*G20)*E20+PI()*(G20^2-F20^2))*0.01 -> 4.5369911 | I20: 25.1 | J20: =I20/(0.5*C20*0.1) -> 8.3666667 | K20: 9.78 | L20: =SQRT(I20/H20) -> 2.3520844 | M20: =2*(C20-2*G20)*E20*0.01 -> 2.08 | S20: 39.8 | T20: 12.6
A21: =$B$3&" "&C21&"*"&E21 -> CARF 60*2.5 | B21: =(H21*7850)/10000 -> 4.3874032 | C21: 60 | E21: 2.5 | F21: =IF(E21<=6,1*E21,IF(E21<=10,1.5*E21,2*E21)) -> 2.5 | G21: =IF(E21<=6,2*E21,IF(E21<=10,2.5*E21,3*E21)) -> 5 | H21: =(4*(C21-2*G21)*E21+PI()*(G21^2-F21^2))*0.01 -> 5.5890486 | I21: 30.3 | J21: =I21/(0.5*C21*0.1) -> 10.1 | K21: 11.9 | L21: =SQRT(I21/H21) -> 2.328372 | M21: =2*(C21-2*G21)*E21*0.01 -> 2.5 | S21: 48.7 | T21: 15.2
A22: =$B$3&" "&C22&"*"&E22 -> CARF 60*3 | B22: =(H22*7850)/10000 -> 5.1874606 | C22: 60 | E22: 3 | F22: =IF(E22<=6,1*E22,IF(E22<=10,1.5*E22,2*E22)) -> 3 | G22: =IF(E22<=6,2*E22,IF(E22<=10,2.5*E22,3*E22)) -> 6 | H22: =(4*(C22-2*G22)*E22+PI()*(G22^2-F22^2))*0.01 -> 6.60823 | I22: 35 | J22: =I22/(0.5*C22*0.1) -> 11.666667 | K22: 13.9 | L22: =SQRT(I22/H22) -> 2.3013965 | M22: =2*(C22-2*G22)*E22*0.01 -> 2.88 | S22: 57.1 | T22: 17.7
A23: =$B$3&" "&C23&"*"&E23 -> CARF 60*4 | B23: =(H23*7850)/10000 -> 6.7101521 | C23: 60 | E23: 4 | F23: =IF(E23<=6,1*E23,IF(E23<=10,1.5*E23,2*E23)) -> 4 | G23: =IF(E23<=6,2*E23,IF(E23<=10,2.5*E23,3*E23)) -> 8 | H23: =(4*(C23-2*G23)*E23+PI()*(G23^2-F23^2))*0.01 -> 8.5479645 | I23: 43.3 | J23: =I23/(0.5*C23*0.1) -> 14.433333 | K23: 17.6 | L23: =SQRT(I23/H23) -> 2.250674 | M23: =2*(C23-2*G23)*E23*0.01 -> 3.52 | S23: 72.6 | T23: 22
A24: =$B$3&" "&C24&"*"&E24 -> CARF 60*5 | B24: =(H24*7850)/10000 -> 8.1296127 | C24: 60 | E24: 5 | F24: =IF(E24<=6,1*E24,IF(E24<=10,1.5*E24,2*E24)) -> 5 | G24: =IF(E24<=6,2*E24,IF(E24<=10,2.5*E24,3*E24)) -> 10 | H24: =(4*(C24-2*G24)*E24+PI()*(G24^2-F24^2))*0.01 -> 10.356194 | I24: 50 | J24: =I24/(0.5*C24*0.1) -> 16.666667 | K24: 20.8 | L24: =SQRT(I24/H24) -> 2.1972775 | M24: =2*(C24-2*G24)*E24*0.01 -> 4 | S24: 86.4 | T24: 25.6
... A145: =$B$3&" "&C145&"*"&E145 -> CARF 400*16 | B145: =(H145*7850)/10000 -> 184.29632 | C145: 400 | E145: 16 | F145: =IF(E145<=6,1*E145,IF(E145<=10,1.5*E145,2*E145)) -> 32 | G145: =IF(E145<=6,2*E145,IF(E145<=10,2.5*E145,3*E145)) -> 48 | H145: =(4*(C145-2*G145)*E145+PI()*(G145^2-F145^2))*0.01 -> 234.77239 | I145: 55884 | J145: =I145/(0.5*C145*0.1) -> 2794.2 | K145: 3315 | L145: =SQRT(I145/H145) -> 15.428377 | M145: =2*(C145-2*G145)*E145*0.01 -> 97.28 | S145: 93279 | T145: 4336
B146: CARC
A147: =$B$146&" "&C147&"*"&E147 -> CARC 40*2.6 | B147: =(H147*7850)/10000 -> 2.8371977 | C147: 40 | E147: 2.6 | F147: =1*E147 -> 2.6 | G147: =1.5*E147 -> 3.9 | H147: =(4*(C147-2*G147)*E147+PI()*(G147^2-F147^2))*0.01 -> 3.6142646 | I147: 8.8 | J147: =I147/(0.5*C147*0.1) -> 4.4 | K147: 5.31 | L147: =SQRT(I147/H147) -> 1.5603836 | M147: =2*(C147-2*G147)*E147*0.01 -> 1.6744 | S147: 14 | T147: 6.41
A148: =$B$146&" "&C148&"*"&E148 -> CARC 40*3.2 | B148: =(H148*7850)/10000 -> 3.3702592 | C148: 40 | E148: 3.2 | F148: =1*E148 -> 3.2 | G148: =1.5*E148 -> 4.8 | H148: =(4*(C148-2*G148)*E148+PI()*(G148^2-F148^2))*0.01 -> 4.2933239 | I148: 10.2 | J148: =I148/(0.5*C148*0.1) -> 5.1 | K148: 6.28 | L148: =SQRT(I148/H148) -> 1.5413571 | M148: =2*(C148-2*G148)*E148*0.01 -> 1.9456 | S148: 16.5 | T148: 7.42
A149: =$B$146&" "&C149&"*"&E149 -> CARC 40*4 | B149: =(H149*7850)/10000 -> 4.01003 | C149: 40 | E149: 4 | F149: =1*E149 -> 4 | G149: =1.5*E149 -> 6 | H149: =(4*(C149-2*G149)*E149+PI()*(G149^2-F149^2))*0.01 -> 5.1083185 | I149: 11.8 | J149: =I149/(0.5*C149*0.1) -> 5.9 | K149: 7.44 | L149: =SQRT(I149/H149) -> 1.5198545 | M149: =2*(C149-2*G149)*E149*0.01 -> 2.24 | S149: 19.5 | T149: 8.54
A150: =$B$146&" "&C150&"*"&E150 -> CARC 40*5 | B150: =(H150*7850)/10000 -> 4.6956719 | C150: 40 | E150: 5 | F150: =1*E150 -> 5 | G150: =1.5*E150 -> 7.5 | H150: =(4*(C150-2*G150)*E150+PI()*(G150^2-F150^2))*0.01 -> 5.9817477 | I150: 13.4 | J150: =I150/(0.5*C150*0.1) -> 6.7 | K150: 8.66 | L150: =SQRT(I150/H150) -> 1.4967124 | M150: =2*(C150-2*G150)*E150*0.01 -> 2.5 | S150: 22.5 | T150: 9.6
A151: =$B$146&" "&C151&"*"&E151 -> CARC 50*2.6 | B151: =(H151*7850)/10000 -> 3.6535977 | C151: 50 | E151: 2.6 | F151: =1*E151 -> 2.6 | G151: =1.5*E151 -> 3.9 | H151: =(4*(C151-2*G151)*E151+PI()*(G151^2-F151^2))*0.01 -> 4.6542646 | I151: 18 | J151: =I151/(0.5*C151*0.1) -> 7.2 | K151: 5.58 | L151: =SQRT(I151/H151) -> 1.9665759 | M151: =2*(C151-2*G151)*E151*0.01 -> 2.1944 | S151: 28.4 | T151: 10.6
A152: =$B$146&" "&C152&"*"&E152 -> CARC 50*3.2 | B152: =(H152*7850)/10000 -> 4.3750592 | C152: 50 | E152: 3.2 | F152: =1*E152 -> 3.2 | G152: =1.5*E152 -> 4.8 | H152: =(4*(C152-2*G152)*E152+PI()*(G152^2-F152^2))*0.01 -> 5.5733239 | I152: 21.2 | J152: =I152/(0.5*C152*0.1) -> 8.48 | K152: 10.2 | L152: =SQRT(I152/H152) -> 1.9503421 | M152: =2*(C152-2*G152)*E152*0.01 -> 2.5856 | S152: 33.8 | T152: 12.4
A153: =$B$146&" "&C153&"*"&E153 -> CARC 50*4 | B153: =(H153*7850)/10000 -> 5.26603 | C153: 50 | E153: 4 | F153: =1*E153 -> 4 | G153: =1.5*E153 -> 6 | H153: =(4*(C153-2*G153)*E153+PI()*(G153^2-F153^2))*0.01 -> 6.7083185 | I153: 25 | J153: =I153/(0.5*C153*0.1) -> 10 | K153: 12.3 | L153: =SQRT(I153/H153) -> 1.9304705 | M153: =2*(C153-2*G153)*E153*0.01 -> 3.04 | S153: 40.4 | T153: 14.5
A154: =$B$146&" "&C154&"*"&E154 -> CARC 50*5 | B154: =(H154*7850)/10000 -> 6.2656719 | C154: 50 | E154: 5 | F154: =1*E154 -> 5 | G154: =1.5*E154 -> 7.5 | H154: =(4*(C154-2*G154)*E154+PI()*(G154^2-F154^2))*0.01 -> 7.9817477 | I154: 28.9 | J154: =I154/(0.5*C154*0.1) -> 11.56 | K154: 14.5 | L154: =SQRT(I154/H154) -> 1.9028297 | M154: =2*(C154-2*G154)*E154*0.01 -> 3.5 | S154: 47.6 | T154: 16.7
A155: =$B$146&" "&C155&"*"&E155 -> CARC 50*6.3 | B155: =(H155*7850)/10000 -> 7.3757208 | C155: 50 | E155: 6.3 | F155: =1*E155 -> 6.3 | G155: =1.5*E155 -> 9.45 | H155: =(4*(C155-2*G155)*E155+PI()*(G155^2-F155^2))*0.01 -> 9.3958227 | I155: 32.8 | J155: =I155/(0.5*C155*0.1) -> 13.12 | K155: 17 | L155: =SQRT(I155/H155) -> 1.8683985 | M155: =2*(C155-2*G155)*E155*0.01 -> 3.9186 | S155: 55.2 | T155: 18.8
A156: =$B$146&" "&C156&"*"&E156 -> CARC 60*2.6 | B156: =(H156*7850)/10000 -> 4.4699977 | C156: 60 | E156: 2.6 | F156: =1*E156 -> 2.6 | G156: =1.5*E156 -> 3.9 | H156: =(4*(C156-2*G156)*E156+PI()*(G156^2-F156^2))*0.01 -> 5.6942646 | I156: 32.2 | J156: =I156/(0.5*C156*0.1) -> 10.733333 | K156: 12.6 | L156: =SQRT(I156/H156) -> 2.377985 | M156: =2*(C156-2*G156)*E156*0.01 -> 2.7144 | S156: 50.2 | T156: 15.7
A157: =$B$146&" "&C157&"*"&E157 -> CARC 60*3.2 | B157: =(H157*7850)/10000 -> 5.3798592 | C157: 60 | E157: 3.2 | F157: =1*E157 -> 3.2 | G157: =1.5*E157 -> 4.8 | H157: =(4*(C157-2*G157)*E157+PI()*(G157^2-F157^2))*0.01 -> 6.8533239 | I157: 38.2 | J157: =I157/(0.5*C157*0.1) -> 12.733333 | K157: 15.2 | L157: =SQRT(I157/H157) -> 2.3609188 | M157: =2*(C157-2*G157)*E157*0.01 -> 3.2256 | S157: 60.2 | T157: 18.6
A158: =$B$146&" "&C158&"*"&E158 -> CARC 60*4 | B158: =(H158*7850)/10000 -> 6.52203 | C158: 60 | E158: 4 | F158: =1*E158 -> 4 | G158: =1.5*E158 -> 6 | H158: =(4*(C158-2*G158)*E158+PI()*(G158^2-F158^2))*0.01 -> 8.3083185 | I158: 45.4 | J158: =I158/(0.5*C158*0.1) -> 15.133333 | K158: 18.3 | L158: =SQRT(I158/H158) -> 2.3376062 | M158: =2*(C158-2*G158)*E158*0.01 -> 3.84 | S158: 72.5 | T158: 22
... A252: =$B$146&" "&C252&"*"&E252 -> CARC 400*16 | B252: =(H252*7850)/10000 -> 184.73648 | C252: 400 | E252: 16 | F252: =1*E252 -> 16 | G252: =1.5*E252 -> 24 | H252: =(4*(C252-2*G252)*E252+PI()*(G252^2-F252^2))*0.01 -> 235.3331 | I252: 71535 | J252: =I252/(0.5*C252*0.1) -> 3576.75 | K252: 7247 | L252: =SQRT(I252/H252) -> 17.434833 | M252: =2*(C252-2*G252)*E252*0.01 -> 112.64 | S252: 112489 | T252: 5237

Sheet Tubes_RHS
A1: Type de profilé | B1: Masse | C1: Dimensions | H1: Aire | I1: Inertie | J1: Modules de flexion | L1: Rayon de giration | M1: Aire de cisaillement | N1: Inertie | O1: Modules de flexion | Q1: Rayon de giration | R1: Aire de cisaillement | S1: Inertie de Torsion | T1: Constante de Torsion
B2: G (kg/ml) | C2: h (mm) | D2: b (mm) | E2: t (mm) | F2: ri (mm) | G2: ra (mm) | H2: A (cm2) | I2: Iy (cm4) | J2: Wely (cm3) | K2: Wply (cm3) | L2: iy (cm) | M2: Ayz (cm2) | N2: Iz (cm4) | O2: Welz (cm3) | P2: Wplz (cm3) | Q2: iz (cm) | R2: Azy (cm2) | S2: It (cm4) | T2: Ct (cm3)
B3: RECF
A4: =$B$3&" "&C4&"*"&D4&"*"&E4 -> RECF 40*20*2 | B4: =H4*0.785 -> 1.677538 | C4: 40 | D4: 20 | E4: 2 | F4: =IF(E4<=6,1*E4,IF(E4<=10,1.5*E4,2*E4)) -> 2 | G4: =IF(E4<=6,2*E4,IF(E4<=10,2.5*E4,3*E4)) -> 4 | H4: =(2*(C4-2*G4)*E4+2*(D4-2*G4)*E4+PI()*(G4^2-F4^2))*0.01 -> 2.1369911 | I4: 4.03 | J4: =I4/(0.5*C4*0.1) -> 2.015 | K4: 2.61 | L4: =SQRT(I4/H4) -> 1.3732549 | M4: =2*(C4-2*G4)*E4*0.01 -> 1.28 | N4: 1.33 | O4: =N4/(0.5*D4*0.1) -> 1.33 | P4: 1.59 | Q4: =SQRT(N4/H4) -> 0.78890455 | R4: =2*(D4-2*G4)*E4*0.01 -> 0.48 | S4: 3.45 | T4: 2.36
A5: =$B$3&" "&C5&"*"&D5&"*"&E5 -> RECF 40*20*2.5 | B5: =H5*0.785 -> 2.0324032 | C5: 40 | D5: 20 | E5: 2.5 | F5: =IF(E5<=6,1*E5,IF(E5<=10,1.5*E5,2*E5)) -> 2.5 | G5: =IF(E5<=6,2*E5,IF(E5<=10,2.5*E5,3*E5)) -> 5 | H5: =(2*(C5-2*G5)*E5+2*(D5-2*G5)*E5+PI()*(G5^2-F5^2))*0.01 -> 2.5890486 | I5: 4.65 | J5: =I5/(0.5*C5*0.1) -> 2.325 | K5: 3.08 | L5: =SQRT(I5/H5) -> 1.3401591 | M5: =2*(C5-2*G5)*E5*0.01 -> 1.5 | N5: 1.52 | O5: =N5/(0.5*D5*0.1) -> 1.52 | P5: 1.87 | Q5: =SQRT(N5/H5) -> 0.76621684 | R5: =2*(D5-2*G5)*E5*0.01 -> 0.5 | S5: 4.06 | T5: 2.72
A6: =$B$3&" "&C6&"*"&D6&"*"&E6 -> RECF 40*20*3 | B6: =H6*0.785 -> 2.3614606 | C6: 40 | D6: 20 | E6: 3 | F6: =IF(E6<=6,1*E6,IF(E6<=10,1.5*E6,2*E6)) -> 3 | G6: =IF(E6<=6,2*E6,IF(E6<=10,2.5*E6,3*E6)) -> 6 | H6: =(2*(C6-2*G6)*E6+2*(D6-2*G6)*E6+PI()*(G6^2-F6^2))*0.01 -> 3.00823 | I6: 5.13 | J6: =I6/(0.5*C6*0.1) -> 2.565 | K6: 3.48 | L6: =SQRT(I6/H6) -> 1.3058797 | M6: =2*(C6-2*G6)*E6*0.01 -> 1.68 | N6: 1.65 | O6: =N6/(0.5*D6*0.1) -> 1.65 | P6: 2.09 | Q6: =SQRT(N6/H6) -> 0.74060468 | R6: =2*(D6-2*G6)*E6*0.01 -> 0.48 | S6: 4.57 | T6: 3
A7: =$B$3&" "&C7&"*"&D7&"*"&E7 -> RECF 50*30*2 | B7: =H7*0.785 -> 2.305538 | C7: 50 | D7: 30 | E7: 2 | F7: =IF(E7<=6,1*E7,IF(E7<=10,1.5*E7,2*E7)) -> 2 | G7: =IF(E7<=6,2*E7,IF(E7<=10,2.5*E7,3*E7)) -> 4 | H7: =(2*(C7-2*G7)*E7+2*(D7-2*G7)*E7+PI()*(G7^2-F7^2))*0.01 -> 2.9369911 | I7: 9.51 | J7: =I7/(0.5*C7*0.1) -> 3.804 | K7: 4.74 | L7: =SQRT(I7/H7) -> 1.7994465 | M7: =2*(C7-2*G7)*E7*0.01 -> 1.68 | N7: 4.28 | O7: =N7/(0.5*D7*0.1) -> 2.8533333 | P7: 3.32 | Q7: =SQRT(N7/H7) -> 1.2071759 | R7: =2*(D7-2*G7)*E7*0.01 -> 0.88 | S7: 9.77 | T7: 4.84
A8: =$B$3&" "&C8&"*"&D8&"*"&E8 -> RECF 50*30*2.5 | B8: =H8*0.785 -> 2.8174032 | C8: 50 | D8: 30 | E8: 2.5 | F8: =IF(E8<=6,1*E8,IF(E8<=10,1.5*E8,2*E8)) -> 2.5 | G8: =IF(E8<=6,2*E8,IF(E8<=10,2.5*E8,3*E8)) -> 5 | H8: =(2*(C8-2*G8)*E8+2*(D8-2*G8)*E8+PI()*(G8^2-F8^2))*0.01 -> 3.5890486 | I8: 11.2 | J8: =I8/(0.5*C8*0.1) -> 4.48 | K8: 5.69 | L8: =SQRT(I8/H8) -> 1.7665232 | M8: =2*(C8-2*G8)*E8*0.01 -> 2 | N8: 5.02 | O8: =N8/(0.5*D8*0.1) -> 3.3466667 | P8: 3.97 | Q8: =SQRT(N8/H8) -> 1.1826662 | R8: =2*(D8-2*G8)*E8*0.01 -> 1 | S8: 11.7 | T8: 5.72
A9: =$B$3&" "&C9&"*"&D9&"*"&E9 -> RECF 50*30*3 | B9: =H9*0.785 -> 3.3034606 | C9: 50 | D9: 30 | E9: 3 | F9: =IF(E9<=6,1*E9,IF(E9<=10,1.5*E9,2*E9)) -> 3 | G9: =IF(E9<=6,2*E9,IF(E9<=10,2.5*E9,3*E9)) -> 6 | H9: =(2*(C9-2*G9)*E9+2*(D9-2*G9)*E9+PI()*(G9^2-F9^2))*0.01 -> 4.20823 | I9: 12.7 | J9: =I9/(0.5*C9*0.1) -> 5.08 | K9: 6.55 | L9: =SQRT(I9/H9) -> 1.7372092 | M9: =2*(C9-2*G9)*E9*0.01 -> 2.28 | N9: 5.64 | O9: =N9/(0.5*D9*0.1) -> 3.76 | P9: 4.56 | Q9: =SQRT(N9/H9) -> 1.1576834 | R9: =2*(D9-2*G9)*E9*0.01 -> 1.08 | S9: 13.5 | T9: 6.49
A10: =$B$3&" "&C10&"*"&D10&"*"&E10 -> RECF 50*30*4 | B10: =H10*0.785 -> 4.1981521 | C10: 50 | D10: 30 | E10: 4 | F10: =IF(E10<=6,1*E10,IF(E10<=10,1.5*E10,2*E10)) -> 4 | G10: =IF(E10<=6,2*E10,IF(E10<=10,2.5*E10,3*E10)) -> 8 | H10: =(2*(C10-2*G10)*E10+2*(D10-2*G10)*E10+PI()*(G10^2-F10^2))*0.01 -> 5.3479645 | I10: 15 | J10: =I10/(0.5*C10*0.1) -> 6 | K10: 8 | L10: =SQRT(I10/H10) -> 1.6747553 | M10: =2*(C10-2*G10)*E10*0.01 -> 2.72 | N10: 6.56 | O10: =N10/(0.5*D10*0.1) -> 4.3733333 | P10: 5.53 | Q10: =SQRT(N10/H10) -> 1.1075355 | R10: =2*(D10-2*G10)*E10*0.01 -> 1.12 | S10: 16.5 | T10: 7.71
A11: =$B$3&" "&C11&"*"&D11&"*"&E11 -> RECF 60*40*2 | B11: =H11*0.785 -> 2.933538 | C11: 60 | D11: 40 | E11: 2 | F11: =IF(E11<=6,1*E11,IF(E11<=10,1.5*E11,2*E11)) -> 2 | G11: =IF(E11<=6,2*E11,IF(E11<=10,2.5*E11,3*E11)) -> 4 | H11: =(2*(C11-2*G11)*E11+2*(D11-2*G11)*E11+PI()*(G11^2-F11^2))*0.01 -> 3.7369911 | I11: 18.4 | J11: =I11/(0.5*C11*0.1) -> 6.1333333 | K11: 7.46 | L11: =SQRT(I11/H11) -> 2.2189519 | M11: =2*(C11-2*G11)*E11*0.01 -> 2.08 | N11: 9.81 | O11: =N11/(0.5*D11*0.1) -> 4.905 | P11: 5.65 | Q11: =SQRT(N11/H11) -> 1.6202181 | R11: =2*(D11-2*G11)*E11*0.01 -> 1.28 | S11: 20.7 | T11: 8.12
A12: =$B$3&" "&C12&"*"&D12&"*"&E12 -> RECF 60*40*2.5 | B12: =H12*0.785 -> 3.6024032 | C12: 60 | D12: 40 | E12: 2.5 | F12: =IF(E12<=6,1*E12,IF(E12<=10,1.5*E12,2*E12)) -> 2.5 | G12: =IF(E12<=6,2*E12,IF(E12<=10,2.5*E12,3*E12)) -> 5 | H12: =(2*(C12-2*G12)*E12+2*(D12-2*G12)*E12+PI()*(G12^2-F12^2))*0.01 -> 4.5890486 | I12: 22 | J12: =I12/(0.5*C12*0.1) -> 7.3333333 | K12: 9.04 | L12: =SQRT(I12/H12) -> 2.1895255 | M12: =2*(C12-2*G12)*E12*0.01 -> 2.5 | N12: 11.7 | O12: =N12/(0.5*D12*0.1) -> 5.85 | P12: 6.83 | Q12: =SQRT(N12/H12) -> 1.5967304 | R12: =2*(D12-2*G12)*E12*0.01 -> 1.5 | S12: 25.1 | T12: 9.72
A13: =$B$3&" "&C13&"*"&D13&"*"&E13 -> RECF 60*40*3 | B13: =H13*0.785 -> 4.2454606 | C13: 60 | D13: 40 | E13: 3 | F13: =IF(E13<=6,1*E13,IF(E13<=10,1.5*E13,2*E13)) -> 3 | G13: =IF(E13<=6,2*E13,IF(E13<=10,2.5*E13,3*E13)) -> 6 | H13: =(2*(C13-2*G13)*E13+2*(D13-2*G13)*E13+PI()*(G13^2-F13^2))*0.01 -> 5.40823 | I13: 26.3 | J13: =I13/(0.5*C13*0.1) -> 8.7666667 | K13: 10.5 | L13: =SQRT(I13/H13) -> 2.2052117 | M13: =2*(C13-2*G13)*E13*0.01 -> 2.88 | N13: 13.4 | O13: =N13/(0.5*D13*0.1) -> 6.7 | P13: 7.92 | Q13: =SQRT(N13/H13) -> 1.5740728 | R13: =2*(D13-2*G13)*E13*0.01 -> 1.68 | S13: 29.3 | T13: 11.2
A14: =$B$3&" "&C14&"*"&D14&"*"&E14 -> RECF 60*40*4 | B14: =H14*0.785 -> 5.4541521 | C14: 60 | D14: 40 | E14: 4 | F14: =IF(E14<=6,1*E14,IF(E14<=10,1.5*E14,2*E14)) -> 4 | G14: =IF(E14<=6,2*E14,IF(E14<=10,2.5*E14,3*E14)) -> 8 | H14: =(2*(C14-2*G14)*E14+2*(D14-2*G14)*E14+PI()*(G14^2-F14^2))*0.01 -> 6.9479645 | I14: 30.7 | J14: =I14/(0.5*C14*0.1) -> 10.233333 | K14: 13.1 | L14: =SQRT(I14/H14) -> 2.1020372 | M14: =2*(C14-2*G14)*E14*0.01 -> 3.52 | N14: 16.1 | O14: =N14/(0.5*D14*0.1) -> 8.05 | P14: 9.85 | Q14: =SQRT(N14/H14) -> 1.5222436 | R14: =2*(D14-2*G14)*E14*0.01 -> 1.92 | S14: 36.7 | T14: 13.7
A15: =$B$3&" "&C15&"*"&D15&"*"&E15 -> RECF 60*40*5 | B15: =H15*0.785 -> 6.5596127 | C15: 60 | D15: 40 | E15: 5 | F15: =IF(E15<=6,1*E15,IF(E15<=10,1.5*E15,2*E15)) -> 5 | G15: =IF(E15<=6,2*E15,IF(E15<=10,2.5*E15,3*E15)) -> 10 | H15: =(2*(C15-2*G15)*E15+2*(D15-2*G15)*E15+PI()*(G15^2-F15^2))*0.01 -> 8.3561945 | I15: 34.8 | J15: =I15/(0.5*C15*0.1) -> 11.6 | K15: 16.3 | L15: =SQRT(I15/H15) -> 2.0407291 | M15: =2*(C15-2*G15)*E15*0.01 -> 4 | N15: 18.1 | O15: =N15/(0.5*D15*0.1) -> 9.05 | P15: 11.4 | Q15: =SQRT(N15/H15) -> 1.4717533 | R15: =2*(D15-2*G15)*E15*0.01 -> 2 | S15: 42.8 | T15: 15.6
... A123: =$B$3&" "&C123&"*"&D123&"*"&E123 -> RECF 260*180*5 | B123: =H123*0.785 -> 33.249613 | C123: 260 | D123: 180 | E123: 5 | F123: =IF(E123<=6,1*E123,IF(E123<=10,1.5*E123,2*E123)) -> 5 | G123: =IF(E123<=6,2*E123,IF(E123<=10,2.5*E123,3*E123)) -> 10 | H123: =(2*(C123-2*G123)*E123+2*(D123-2*G123)*E123+PI()*(G123^2-F123^2))*0.01 -> 42.356194 | I123: 4119 | J123: =I123/(0.5*C123*0.1) -> 316.84615 | K123: 377 | L123: =SQRT(I123/H123) -> 9.861374 | M123: =2*(C123-2*G123)*E123*0.01 -> 24 | N123: 2348 | O123: =N123/(0.5*D123*0.1) -> 260.88889 | P123: 294 | Q123: =SQRT(N123/H123) -> 7.4454436 | R123: =2*(D123-2*G123)*E123*0.01 -> 16 | S123: 4695 | T123: 425.9
A124: =$B$3&" "&C124&"*"&D124&"*"&E124 -> RECF 260*180*6 | B124: =H124*0.785 -> 39.589842 | C124: 260 | D124: 180 | E124: 6 | F124: =IF(E124<=6,1*E124,IF(E124<=10,1.5*E124,2*E124)) -> 6 | G124: =IF(E124<=6,2*E124,IF(E124<=10,2.5*E124,3*E124)) -> 12 | H124: =(2*(C124-2*G124)*E124+2*(D124-2*G124)*E124+PI()*(G124^2-F124^2))*0.01 -> 50.43292 | I124: 4852 | J124: =I124/(0.5*C124*0.1) -> 373.23077 | K124: 447 | L124: =SQRT(I124/H124) -> 9.8085168 | M124: =2*(C124-2*G124)*E124*0.01 -> 28.32 | N124: 2761 | O124: =N124/(0.5*D124*0.1) -> 306.77778 | P124: 348 | Q124: =SQRT(N124/H124) -> 7.3990531 | R124: =2*(D124-2*G124)*E124*0.01 -> 18.72
A125: =$B$3&" "&C125&"*"&D125&"*"&E125 -> RECF 260*180*6.3 | B125: =H125*0.785 -> 41.20433 | C125: 260 | D125: 180 | E125: 6.3 | F125: =IF(E125<=6,1*E125,IF(E125<=10,1.5*E125,2*E125)) -> 9.45 | G125: =IF(E125<=6,2*E125,IF(E125<=10,2.5*E125,3*E125)) -> 15.75 | H125: =(2*(C125-2*G125)*E125+2*(D125-2*G125)*E125+PI()*(G125^2-F125^2))*0.01 -> 52.489592 | I125: 5005 | J125: =I125/(0.5*C125*0.1) -> 385 | K125: 463 | L125: =SQRT(I125/H125) -> 9.7648469 | M125: =2*(C125-2*G125)*E125*0.01 -> 28.791 | N125: 2851 | O125: =N125/(0.5*D125*0.1) -> 316.77778 | P125: 360 | Q125: =SQRT(N125/H125) -> 7.369907 | R125: =2*(D125-2*G125)*E125*0.01 -> 18.711 | S125: 5844 | T125: 523
A126: =$B$3&" "&C126&"*"&D126&"*"&E126 -> RECF 260*180*8 | B126: =H126*0.785 -> 51.529345 | C126: 260 | D126: 180 | E126: 8 | F126: =IF(E126<=6,1*E126,IF(E126<=10,1.5*E126,2*E126)) -> 12 | G126: =IF(E126<=6,2*E126,IF(E126<=10,2.5*E126,3*E126)) -> 20 | H126: =(2*(C126-2*G126)*E126+2*(D126-2*G126)*E126+PI()*(G126^2-F126^2))*0.01 -> 65.642477 | I126: 6130 | J126: =I126/(0.5*C126*0.1) -> 471.53846 | K126: 572 | L126: =SQRT(I126/H126) -> 9.6635735 | M126: =2*(C126-2*G126)*E126*0.01 -> 35.2 | N126: 3483 | O126: =N126/(0.5*D126*0.1) -> 387 | P126: 445 | Q126: =SQRT(N126/H126) -> 7.2842402 | R126: =2*(D126-2*G126)*E126*0.01 -> 22.4 | S126: 7267 | T126: 642.4
A127: =$B$3&" "&C127&"*"&D127&"*"&E127 -> RECF 260*180*10 | B127: =H127*0.785 -> 63.244601 | C127: 260 | D127: 180 | E127: 10 | F127: =IF(E127<=6,1*E127,IF(E127<=10,1.5*E127,2*E127)) -> 15 | G127: =IF(E127<=6,2*E127,IF(E127<=10,2.5*E127,3*E127)) -> 25 | H127: =(2*(C127-2*G127)*E127+2*(D127-2*G127)*E127+PI()*(G127^2-F127^2))*0.01 -> 80.566371 | I127: 7333 | J127: =I127/(0.5*C127*0.1) -> 564.07692 | K127: 693 | L127: =SQRT(I127/H127) -> 9.540342 | M127: =2*(C127-2*G127)*E127*0.01 -> 42 | N127: 4154 | O127: =N127/(0.5*D127*0.1) -> 461.55556 | P127: 538 | Q127: =SQRT(N127/H127) -> 7.1805274 | R127: =2*(D127-2*G127)*E127*0.01 -> 26 | S127: 8850 | T127: 771.9
A128: =$B$3&" "&C128&"*"&D128&"*"&E128 -> RECF 260*180*12 | B128: =H128*0.785 -> 73.522682 | C128: 260 | D128: 180 | E128: 12 | F128: =IF(E128<=6,1*E128,IF(E128<=10,1.5*E128,2*E128)) -> 24 | G128: =IF(E128<=6,2*E128,IF(E128<=10,2.5*E128,3*E128)) -> 36 | H128: =(2*(C128-2*G128)*E128+2*(D128-2*G128)*E128+PI()*(G128^2-F128^2))*0.01 -> 93.659467 | I128: 8171 | J128: =I128/(0.5*C128*0.1) -> 628.53846 | K128: 787 | L128: =SQRT(I128/H128) -> 9.3403202 | M128: =2*(C128-2*G128)*E128*0.01 -> 45.12 | N128: 4630 | O128: =N128/(0.5*D128*0.1) -> 514.44444 | P128: 612 | Q128: =SQRT(N128/H128) -> 7.0309604 | R128: =2*(D128-2*G128)*E128*0.01 -> 25.92 | S128: 10330 | T128: 884.4
A129: =$B$3&" "&C129&"*"&D129&"*"&E129 -> RECF 260*180*12.5 | B129: =H129*0.785 -> 76.179299 | C129: 260 | D129: 180 | E129: 12.5 | F129: =IF(E129<=6,1*E129,IF(E129<=10,1.5*E129,2*E129)) -> 25 | G129: =IF(E129<=6,2*E129,IF(E129<=10,2.5*E129,3*E129)) -> 37.5 | H129: =(2*(C129-2*G129)*E129+2*(D129-2*G129)*E129+PI()*(G129^2-F129^2))*0.01 -> 97.043693 | I129: 8400 | J129: =I129/(0.5*C129*0.1) -> 646.15385 | K129: 812 | L129: =SQRT(I129/H129) -> 9.3037062 | M129: =2*(C129-2*G129)*E129*0.01 -> 46.25 | N129: 4756 | O129: =N129/(0.5*D129*0.1) -> 528.44444 | P129: 631 | Q129: =SQRT(N129/H129) -> 7.0006323 | R129: =2*(D129-2*G129)*E129*0.01 -> 26.25 | S129: 10680 | T129: 911.4
A130: =$B$3&" "&C130&"*"&D130&"*"&E130 -> RECF 260*180*16 | B130: =H130*0.785 -> 93.864323 | C130: 260 | D130: 180 | E130: 16 | F130: =IF(E130<=6,1*E130,IF(E130<=10,1.5*E130,2*E130)) -> 32 | G130: =IF(E130<=6,2*E130,IF(E130<=10,2.5*E130,3*E130)) -> 48 | H130: =(2*(C130-2*G130)*E130+2*(D130-2*G130)*E130+PI()*(G130^2-F130^2))*0.01 -> 119.57239 | I130: 9752 | J130: =I130/(0.5*C130*0.1) -> 750.15385 | K130: 970 | L130: =SQRT(I130/H130) -> 9.0309076 | M130: =2*(C130-2*G130)*E130*0.01 -> 52.48 | N130: 5499 | O130: =N130/(0.5*D130*0.1) -> 611 | P130: 752 | Q130: =SQRT(N130/H130) -> 6.7815101 | R130: =2*(D130-2*G130)*E130*0.01 -> 26.88 | S130: 12890 | T130: 1079
A131: =$B$3&" "&C131&"*"&D131&"*"&E131 -> RECF 300*100*6 | B131: =H131*0.785 -> 35.821842 | C131: 300 | D131: 100 | E131: 6 | F131: =IF(E131<=6,1*E131,IF(E131<=10,1.5*E131,2*E131)) -> 6 | G131: =IF(E131<=6,2*E131,IF(E131<=10,2.5*E131,3*E131)) -> 12 | H131: =(2*(C131-2*G131)*E131+2*(D131-2*G131)*E131+PI()*(G131^2-F131^2))*0.01 -> 45.63292 | I131: 4772 | J131: =I131/(0.5*C131*0.1) -> 318.13333 | K131: 411 | L131: =SQRT(I131/H131) -> 10.226125 | M131: =2*(C131-2*G131)*E131*0.01 -> 33.12 | N131: 841 | O131: =N131/(0.5*D131*0.1) -> 168.2 | P131: 188 | Q131: =SQRT(N131/H131) -> 4.29298 | R131: =2*(D131-2*G131)*E131*0.01 -> 9.12 | S131: 2403 | T131: 306.2
A132: =$B$3&" "&C132&"*"&D132&"*"&E132 -> RECF 300*100*6.3 | B132: =H132*0.785 -> 37.24793 | C132: 300 | D132: 100 | E132: 6.3 | F132: =IF(E132<=6,1*E132,IF(E132<=10,1.5*E132,2*E132)) -> 9.45 | G132: =IF(E132<=6,2*E132,IF(E132<=10,2.5*E132,3*E132)) -> 15.75 | H132: =(2*(C132-2*G132)*E132+2*(D132-2*G132)*E132+PI()*(G132^2-F132^2))*0.01 -> 47.449592 | I132: 4898 | J132: =I132/(0.5*C132*0.1) -> 326.53333 | K132: 425 | L132: =SQRT(I132/H132) -> 10.159987 | M132: =2*(C132-2*G132)*E132*0.01 -> 33.831 | N132: 865 | O132: =N132/(0.5*D132*0.1) -> 173 | P132: 194 | Q132: =SQRT(N132/H132) -> 4.2696454 | R132: =2*(D132-2*G132)*E132*0.01 -> 8.631 | S132: 2515 | T132: 318.3
A133: =$B$3&" "&C133&"*"&D133&"*"&E133 -> RECF 300*100*8 | B133: =H133*0.785 -> 46.505345 | C133: 300 | D133: 100 | E133: 8 | F133: =IF(E133<=6,1*E133,IF(E133<=10,1.5*E133,2*E133)) -> 12 | G133: =IF(E133<=6,2*E133,IF(E133<=10,2.5*E133,3*E133)) -> 20 | H133: =(2*(C133-2*G133)*E133+2*(D133-2*G133)*E133+PI()*(G133^2-F133^2))*0.01 -> 59.242477 | I133: 5960 | J133: =I133/(0.5*C133*0.1) -> 397.33333 | K133: 523 | L133: =SQRT(I133/H133) -> 10.030129 | M133: =2*(C133-2*G133)*E133*0.01 -> 41.6 | N133: 1039 | O133: =N133/(0.5*D133*0.1) -> 207.8 | P133: 238 | Q133: =SQRT(N133/H133) -> 4.1878505 | R133: =2*(D133-2*G133)*E133*0.01 -> 9.6 | S133: 3080 | T133: 385.2
A134: =$B$3&" "&C134&"*"&D134&"*"&E134 -> RECF 300*100*10 | B134: =H134*0.785 -> 56.964601 | C134: 300 | D134: 100 | E134: 10 | F134: =IF(E134<=6,1*E134,IF(E134<=10,1.5*E134,2*E134)) -> 15 | G134: =IF(E134<=6,2*E134,IF(E134<=10,2.5*E134,3*E134)) -> 25 | H134: =(2*(C134-2*G134)*E134+2*(D134-2*G134)*E134+PI()*(G134^2-F134^2))*0.01 -> 72.566371 | I134: 7071 | J134: =I134/(0.5*C134*0.1) -> 471.4 | K134: 630 | L134: =SQRT(I134/H134) -> 9.8712629 | M134: =2*(C134-2*G134)*E134*0.01 -> 50 | N134: 1213 | O134: =N134/(0.5*D134*0.1) -> 242.6 | P134: 284 | Q134: =SQRT(N134/H134) -> 4.0884877 | R134: =2*(D134-2*G134)*E134*0.01 -> 10 | S134: 3681 | T134: 454.5
A135: =$B$3&" "&C135&"*"&D135&"*"&E135 -> RECF 300*100*12 | B135: =H135*0.785 -> 65.986682 | C135: 300 | D135: 100 | E135: 12 | F135: =IF(E135<=6,1*E135,IF(E135<=10,1.5*E135,2*E135)) -> 24 | G135: =IF(E135<=6,2*E135,IF(E135<=10,2.5*E135,3*E135)) -> 36 | H135: =(2*(C135-2*G135)*E135+2*(D135-2*G135)*E135+PI()*(G135^2-F135^2))*0.01 -> 84.059467 | I135: 7723 | J135: =I135/(0.5*C135*0.1) -> 514.86667 | K135: 707 | L135: =SQRT(I135/H135) -> 9.5851674 | M135: =2*(C135-2*G135)*E135*0.01 -> 54.72 | N135: 1317 | O135: =N135/(0.5*D135*0.1) -> 263.4 | P135: 318 | Q135: =SQRT(N135/H135) -> 3.9582167 | R135: =2*(D135-2*G135)*E135*0.01 -> 6.72 | S135: 4177 | T135: 508.5
A136: =$B$3&" "&C136&"*"&D136&"*"&E136 -> RECF 300*100*12.5 | B136: =H136*0.785 -> 68.329299 | C136: 300 | D136: 100 | E136: 12.5 | F136: =IF(E136<=6,1*E136,IF(E136<=10,1.5*E136,2*E136)) -> 25 | G136: =IF(E136<=6,2*E136,IF(E136<=10,2.5*E136,3*E136)) -> 37.5 | H136: =(2*(C136-2*G136)*E136+2*(D136-2*G136)*E136+PI()*(G136^2-F136^2))*0.01 -> 87.043693 | I136: 7913 | J136: =I136/(0.5*C136*0.1) -> 527.53333 | K136: 728 | L136: =SQRT(I136/H136) -> 9.534588 | M136: =2*(C136-2*G136)*E136*0.01 -> 56.25 | N136: 1345 | O136: =N136/(0.5*D136*0.1) -> 269 | P136: 327 | Q136: =SQRT(N136/H136) -> 3.9309045 | R136: =2*(D136-2*G136)*E136*0.01 -> 6.25 | S136: 4292 | T136: 521.2
... A159: =$B$3&" "&C159&"*"&D159&"*"&E159 -> RECF 400*200*8 | B159: =H159*0.785 -> 71.625345 | C159: 400 | D159: 200 | E159: 8 | F159: =IF(E159<=6,1*E159,IF(E159<=10,1.5*E159,2*E159)) -> 12 | G159: =IF(E159<=6,2*E159,IF(E159<=10,2.5*E159,3*E159)) -> 20 | H159: =(2*(C159-2*G159)*E159+2*(D159-2*G159)*E159+PI()*(G159^2-F159^2))*0.01 -> 91.242477 | I159: 18950 | J159: =I159/(0.5*C159*0.1) -> 947.5 | K159: 1173 | L159: =SQRT(I159/H159) -> 14.411397 | M159: =2*(C159-2*G159)*E159*0.01 -> 57.6 | N159: 6505 | O159: =N159/(0.5*D159*0.1) -> 650.5 | P159: 727 | Q159: =SQRT(N159/H159) -> 8.4435507 | R159: =2*(D159-2*G159)*E159*0.01 -> 25.6 | S159: 15820 | T159: 1133
A160: =$B$3&" "&C160&"*"&D160&"*"&E160 -> RECF 400*200*10 | B160: =H160*0.785 -> 88.364601 | C160: 400 | D160: 200 | E160: 10 | F160: =IF(E160<=6,1*E160,IF(E160<=10,1.5*E160,2*E160)) -> 15 | G160: =IF(E160<=6,2*E160,IF(E160<=10,2.5*E160,3*E160)) -> 25 | H160: =(2*(C160-2*G160)*E160+2*(D160-2*G160)*E160+PI()*(G160^2-F160^2))*0.01 -> 112.56637 | I160: 22956 | J160: =I160/(0.5*C160*0.1) -> 1147.8 | K160: 1433 | L160: =SQRT(I160/H160) -> 14.280512 | M160: =2*(C160-2*G160)*E160*0.01 -> 70 | N160: 7841 | O160: =N160/(0.5*D160*0.1) -> 784.1 | P160: 887 | Q160: =SQRT(N160/H160) -> 8.3460579 | R160: =2*(D160-2*G160)*E160*0.01 -> 30
A161: =$B$3&" "&C161&"*"&D161&"*"&E161 -> RECF 400*200*12 | B161: =H161*0.785 -> 103.66668 | C161: 400 | D161: 200 | E161: 12 | F161: =IF(E161<=6,1*E161,IF(E161<=10,1.5*E161,2*E161)) -> 24 | G161: =IF(E161<=6,2*E161,IF(E161<=10,2.5*E161,3*E161)) -> 36 | H161: =(2*(C161-2*G161)*E161+2*(D161-2*G161)*E161+PI()*(G161^2-F161^2))*0.01 -> 132.05947 | I161: 26133 | J161: =I161/(0.5*C161*0.1) -> 1306.65 | K161: 1653 | L161: =SQRT(I161/H161) -> 14.067271 | M161: =2*(C161-2*G161)*E161*0.01 -> 78.72 | N161: 8922 | O161: =N161/(0.5*D161*0.1) -> 892.2 | P161: 1024 | Q161: =SQRT(N161/H161) -> 8.2195178 | R161: =2*(D161-2*G161)*E161*0.01 -> 30.72
A162: =$B$3&" "&C162&"*"&D162&"*"&E162 -> RECF 400*200*12.5 | B162: =H162*0.785 -> 107.5793 | C162: 400 | D162: 200 | E162: 12.5 | F162: =IF(E162<=6,1*E162,IF(E162<=10,1.5*E162,2*E162)) -> 25 | G162: =IF(E162<=6,2*E162,IF(E162<=10,2.5*E162,3*E162)) -> 37.5 | H162: =(2*(C162-2*G162)*E162+2*(D162-2*G162)*E162+PI()*(G162^2-F162^2))*0.01 -> 137.04369 | I162: 26970 | J162: =I162/(0.5*C162*0.1) -> 1348.5 | K162: 1711 | L162: =SQRT(I162/H162) -> 14.028491 | M162: =2*(C162-2*G162)*E162*0.01 -> 81.25 | N162: 9198 | O162: =N162/(0.5*D162*0.1) -> 919.8 | P162: 1059 | Q162: =SQRT(N162/H162) -> 8.1925137 | R162: =2*(D162-2*G162)*E162*0.01 -> 31.25 | S162: 23590 | T162: 1644
A163: =$B$3&" "&C163&"*"&D163&"*"&E163 -> RECF 400*200*16 | B163: =H163*0.785 -> 134.05632 | C163: 400 | D163: 200 | E163: 16 | F163: =IF(E163<=6,1*E163,IF(E163<=10,1.5*E163,2*E163)) -> 32 | G163: =IF(E163<=6,2*E163,IF(E163<=10,2.5*E163,3*E163)) -> 48 | H163: =(2*(C163-2*G163)*E163+2*(D163-2*G163)*E163+PI()*(G163^2-F163^2))*0.01 -> 170.77239 | I163: 32277 | J163: =I163/(0.5*C163*0.1) -> 1613.85 | K163: 2086 | L163: =SQRT(I163/H163) -> 13.747944 | M163: =2*(C163-2*G163)*E163*0.01 -> 97.28 | N163: 10927 | O163: =N163/(0.5*D163*0.1) -> 1092.7 | P163: 1287 | Q163: =SQRT(N163/H163) -> 7.9991096 | R163: =2*(D163-2*G163)*E163*0.01 -> 33.28 | S163: 28930 | T163: 1984
A164: =$B$3&" "&C164&"*"&D164&"*"&E164 -> RECF 400*300*8 | B164: =H164*0.785 -> 84.185345 | C164: 400 | D164: 300 | E164: 8 | F164: =IF(E164<=6,1*E164,IF(E164<=10,1.5*E164,2*E164)) -> 12 | G164: =IF(E164<=6,2*E164,IF(E164<=10,2.5*E164,3*E164)) -> 20 | H164: =(2*(C164-2*G164)*E164+2*(D164-2*G164)*E164+PI()*(G164^2-F164^2))*0.01 -> 107.24248 | I164: 25098 | J164: =I164/(0.5*C164*0.1) -> 1254.9 | K164: 1486 | L164: =SQRT(I164/H164) -> 15.298052 | M164: =2*(C164-2*G164)*E164*0.01 -> 57.6 | N164: 16194 | O164: =N164/(0.5*D164*0.1) -> 1079.6 | P164: 1224 | Q164: =SQRT(N164/H164) -> 12.288352 | R164: =2*(D164-2*G164)*E164*0.01 -> 41.6 | S164: 31180 | T164: 1747
A165: =$B$3&" "&C165&"*"&D165&"*"&E165 -> RECF 400*300*10 | B165: =H165*0.785 -> 104.0646 | C165: 400 | D165: 300 | E165: 10 | F165: =IF(E165<=6,1*E165,IF(E165<=10,1.5*E165,2*E165)) -> 15 | G165: =IF(E165<=6,2*E165,IF(E165<=10,2.5*E165,3*E165)) -> 25 | H165: =(2*(C165-2*G165)*E165+2*(D165-2*G165)*E165+PI()*(G165^2-F165^2))*0.01 -> 132.56637 | I165: 30562 | J165: =I165/(0.5*C165*0.1) -> 1528.1 | K165: 1823 | L165: =SQRT(I165/H165) -> 15.183581 | M165: =2*(C165-2*G165)*E165*0.01 -> 70 | N165: 19691 | O165: =N165/(0.5*D165*0.1) -> 1312.7333 | P165: 1500 | Q165: =SQRT(N165/H165) -> 12.187572 | R165: =2*(D165-2*G165)*E165*0.01 -> 50 | S165: 38410 | T165: 2132
A166: =$B$3&" "&C166&"*"&D166&"*"&E166 -> RECF 400*300*12 | B166: =H166*0.785 -> 122.50668 | C166: 400 | D166: 300 | E166: 12 | F166: =IF(E166<=6,1*E166,IF(E166<=10,1.5*E166,2*E166)) -> 24 | G166: =IF(E166<=6,2*E166,IF(E166<=10,2.5*E166,3*E166)) -> 36 | H166: =(2*(C166-2*G166)*E166+2*(D166-2*G166)*E166+PI()*(G166^2-F166^2))*0.01 -> 156.05947 | I166: 35169 | J166: =I166/(0.5*C166*0.1) -> 1758.45 | K166: 2119 | L166: =SQRT(I166/H166) -> 15.011875 | M166: =2*(C166-2*G166)*E166*0.01 -> 78.72 | N166: 22661 | O166: =N166/(0.5*D166*0.1) -> 1510.7333 | P166: 1744 | Q166: =SQRT(N166/H166) -> 12.050206 | R166: =2*(D166-2*G166)*E166*0.01 -> 54.72 | S166: 45530 | T166: 2492
A167: =$B$3&" "&C167&"*"&D167&"*"&E167 -> RECF 400*300*12.5 | B167: =H167*0.785 -> 127.2043 | C167: 400 | D167: 300 | E167: 12.5 | F167: =IF(E167<=6,1*E167,IF(E167<=10,1.5*E167,2*E167)) -> 25 | G167: =IF(E167<=6,2*E167,IF(E167<=10,2.5*E167,3*E167)) -> 37.5 | H167: =(2*(C167-2*G167)*E167+2*(D167-2*G167)*E167+PI()*(G167^2-F167^2))*0.01 -> 162.04369 | I167: 36358 | J167: =I167/(0.5*C167*0.1) -> 1817.9 | K167: 2195 | L167: =SQRT(I167/H167) -> 14.979038 | M167: =2*(C167-2*G167)*E167*0.01 -> 81.25 | N167: 23421 | O167: =N167/(0.5*D167*0.1) -> 1561.4 | P167: 1807 | Q167: =SQRT(N167/H167) -> 12.022275 | R167: =2*(D167-2*G167)*E167*0.01 -> 56.25 | S167: 47240 | T167: 2580
A168: =$B$3&" "&C168&"*"&D168&"*"&E168 -> RECF 400*300*16 | B168: =H168*0.785 -> 159.17632 | C168: 400 | D168: 300 | E168: 16 | F168: =IF(E168<=6,1*E168,IF(E168<=10,1.5*E168,2*E168)) -> 32 | G168: =IF(E168<=6,2*E168,IF(E168<=10,2.5*E168,3*E168)) -> 48 | H168: =(2*(C168-2*G168)*E168+2*(D168-2*G168)*E168+PI()*(G168^2-F168^2))*0.01 -> 202.77239 | I168: 44080 | J168: =I168/(0.5*C168*0.1) -> 2204 | K168: 2701 | L168: =SQRT(I168/H168) -> 14.744036 | M168: =2*(C168-2*G168)*E168*0.01 -> 97.28 | N168: 28336 | O168: =N168/(0.5*D168*0.1) -> 1889.0667 | P168: 2221 | Q168: =SQRT(N168/H168) -> 11.82129 | R168: =2*(D168-2*G168)*E168*0.01 -> 65.28 | S168: 58730 | T168: 3159
B169: RECC
A170: =$B$169&" "&C170&"*"&D170&"*"&E170 -> RECC 50*30*2.6 | B170: =H170*0.785 -> 2.9166793 | C170: 50 | D170: 30 | E170: 2.6 | F170: =IF(E170<=6,1*E170,IF(E170<=10,1.5*E170,2*E170)) -> 2.6 | G170: =IF(E170<=6,2*E170,IF(E170<=10,2.5*E170,3*E170)) -> 5.2 | H170: =(2*(C170-2*G170)*E170+2*(D170-2*G170)*E170+PI()*(G170^2-F170^2))*0.01 -> 3.715515 | I170: 12.2 | J170: =I170/(0.5*C170*0.1) -> 4.88 | K170: 6.12 | L170: =SQRT(I170/H170) -> 1.812051 | M170: =2*(C170-2*G170)*E170*0.01 -> 2.0592 | N170: 5.38 | O170: =N170/(0.5*D170*0.1) -> 3.5866667 | P170: 4.25 | Q170: =SQRT(N170/H170) -> 1.2033214 | R170: =2*(D170-2*G170)*E170*0.01 -> 1.0192 | S170: 12.1 | T170: 5.9
A171: =$B$169&" "&C171&"*"&D171&"*"&E171 -> RECC 50*30*3.2 | B171: =H171*0.785 -> 3.4906574 | C171: 50 | D171: 30 | E171: 3.2 | F171: =IF(E171<=6,1*E171,IF(E171<=10,1.5*E171,2*E171)) -> 3.2 | G171: =IF(E171<=6,2*E171,IF(E171<=10,2.5*E171,3*E171)) -> 6.4 | H171: =(2*(C171-2*G171)*E171+2*(D171-2*G171)*E171+PI()*(G171^2-F171^2))*0.01 -> 4.4466973 | I171: 14.2 | J171: =I171/(0.5*C171*0.1) -> 5.68 | K171: 7.25 | L171: =SQRT(I171/H171) -> 1.7870034 | M171: =2*(C171-2*G171)*E171*0.01 -> 2.3808 | N171: 6.2 | O171: =N171/(0.5*D171*0.1) -> 4.1333333 | P171: 5 | Q171: =SQRT(N171/H171) -> 1.180802 | R171: =2*(D171-2*G171)*E171*0.01 -> 1.1008 | S171: 14.2 | T171: 6.8
A172: =$B$169&" "&C172&"*"&D172&"*"&E172 -> RECC 50*30*4 | B172: =H172*0.785 -> 4.1981521 | C172: 50 | D172: 30 | E172: 4 | F172: =IF(E172<=6,1*E172,IF(E172<=10,1.5*E172,2*E172)) -> 4 | G172: =IF(E172<=6,2*E172,IF(E172<=10,2.5*E172,3*E172)) -> 8 | H172: =(2*(C172-2*G172)*E172+2*(D172-2*G172)*E172+PI()*(G172^2-F172^2))*0.01 -> 5.3479645 | I172: 16.5 | J172: =I172/(0.5*C172*0.1) -> 6.6 | K172: 8.59 | L172: =SQRT(I172/H172) -> 1.7564982 | M172: =2*(C172-2*G172)*E172*0.01 -> 2.72 | N172: 7.08 | O172: =N172/(0.5*D172*0.1) -> 4.72 | P172: 5.88 | Q172: =SQRT(N172/H172) -> 1.1505947 | R172: =2*(D172-2*G172)*E172*0.01 -> 1.12 | S172: 16.6 | T172: 7.77
A173: =$B$169&" "&C173&"*"&D173&"*"&E173 -> RECC 50*30*5 | B173: =H173*0.785 -> 4.9896127 | C173: 50 | D173: 30 | E173: 5 | F173: =IF(E173<=6,1*E173,IF(E173<=10,1.5*E173,2*E173)) -> 5 | G173: =IF(E173<=6,2*E173,IF(E173<=10,2.5*E173,3*E173)) -> 10 | H173: =(2*(C173-2*G173)*E173+2*(D173-2*G173)*E173+PI()*(G173^2-F173^2))*0.01 -> 6.3561945 | I173: 18.7 | J173: =I173/(0.5*C173*0.1) -> 7.48 | K173: 10 | L173: =SQRT(I173/H173) -> 1.7152294 | M173: =2*(C173-2*G173)*E173*0.01 -> 3 | N173: 7.89 | O173: =N173/(0.5*D173*0.1) -> 5.26 | P173: 6.8 | Q173: =SQRT(N173/H173) -> 1.1141404 | R173: =2*(D173-2*G173)*E173*0.01 -> 1 | S173: 19 | T173: 8.67
A174: =$B$169&" "&C174&"*"&D174&"*"&E174 -> RECC 60*40*2.6 | B174: =H174*0.785 -> 3.7330793 | C174: 60 | D174: 40 | E174: 2.6 | F174: =IF(E174<=6,1*E174,IF(E174<=10,1.5*E174,2*E174)) -> 2.6 | G174: =IF(E174<=6,2*E174,IF(E174<=10,2.5*E174,3*E174)) -> 5.2 | H174: =(2*(C174-2*G174)*E174+2*(D174-2*G174)*E174+PI()*(G174^2-F174^2))*0.01 -> 4.755515 | I174: 23.6 | J174: =I174/(0.5*C174*0.1) -> 7.8666667 | K174: 9.65 | L174: =SQRT(I174/H174) -> 2.2277027 | M174: =2*(C174-2*G174)*E174*0.01 -> 2.5792 | N174: 12.4 | O174: =N174/(0.5*D174*0.1) -> 6.2 | P174: 7.26 | Q174: =SQRT(N174/H174) -> 1.6147752 | R174: =2*(D174-2*G174)*E174*0.01 -> 1.5392 | S174: 25.9 | T174: 10
A175: =$B$169&" "&C175&"*"&D175&"*"&E175 -> RECC 60*40*3.2 | B175: =H175*0.785 -> 4.4954574 | C175: 60 | D175: 40 | E175: 3.2 | F175: =IF(E175<=6,1*E175,IF(E175<=10,1.5*E175,2*E175)) -> 3.2 | G175: =IF(E175<=6,2*E175,IF(E175<=10,2.5*E175,3*E175)) -> 6.4 | H175: =(2*(C175-2*G175)*E175+2*(D175-2*G175)*E175+PI()*(G175^2-F175^2))*0.01 -> 5.7266973 | I175: 27.8 | J175: =I175/(0.5*C175*0.1) -> 9.2666667 | K175: 11.5 | L175: =SQRT(I175/H175) -> 2.203283 | M175: =2*(C175-2*G175)*E175*0.01 -> 3.0208 | N175: 14.6 | O175: =N175/(0.5*D175*0.1) -> 7.3 | P175: 8.64 | Q175: =SQRT(N175/H175) -> 1.5967036 | R175: =2*(D175-2*G175)*E175*0.01 -> 1.7408 | S175: 30.8 | T175: 11.7
A176: =$B$169&" "&C176&"*"&D176&"*"&E176 -> RECC 60*40*4 | B176: =H176*0.785 -> 5.4541521 | C176: 60 | D176: 40 | E176: 4 | F176: =IF(E176<=6,1*E176,IF(E176<=10,1.5*E176,2*E176)) -> 4 | G176: =IF(E176<=6,2*E176,IF(E176<=10,2.5*E176,3*E176)) -> 8 | H176: =(2*(C176-2*G176)*E176+2*(D176-2*G176)*E176+PI()*(G176^2-F176^2))*0.01 -> 6.9479645 | I176: 32.8 | J176: =I176/(0.5*C176*0.1) -> 10.933333 | K176: 13.8 | L176: =SQRT(I176/H176) -> 2.1727418 | M176: =2*(C176-2*G176)*E176*0.01 -> 3.52 | N176: 17 | O176: =N176/(0.5*D176*0.1) -> 8.5 | P176: 10.3 | Q176: =SQRT(N176/H176) -> 1.5642122 | R176: =2*(D176-2*G176)*E176*0.01 -> 1.92 | S176: 36.7 | T176: 13.7
A177: =$B$169&" "&C177&"*"&D177&"*"&E177 -> RECC 60*40*5 | B177: =H177*0.785 -> 6.5596127 | C177: 60 | D177: 40 | E177: 5 | F177: =IF(E177<=6,1*E177,IF(E177<=10,1.5*E177,2*E177)) -> 5 | G177: =IF(E177<=6,2*E177,IF(E177<=10,2.5*E177,3*E177)) -> 10 | H177: =(2*(C177-2*G177)*E177+2*(D177-2*G177)*E177+PI()*(G177^2-F177^2))*0.01 -> 8.3561945 | I177: 38.1 | J177: =I177/(0.5*C177*0.1) -> 12.7 | K177: 16.4 | L177: =SQRT(I177/H177) -> 2.1352966 | M177: =2*(C177-2*G177)*E177*0.01 -> 4 | N177: 19.5 | O177: =N177/(0.5*D177*0.1) -> 9.75 | P177: 12.2 | Q177: =SQRT(N177/H177) -> 1.5276119 | R177: =2*(D177-2*G177)*E177*0.01 -> 2 | S177: 43 | T177: 15.7
A178: =$B$169&" "&C178&"*"&D178&"*"&E178 -> RECC 60*40*6.3 | B178: =H178*0.785 -> 7.5749301 | C178: 60 | D178: 40 | E178: 6.3 | F178: =IF(E178<=6,1*E178,IF(E178<=10,1.5*E178,2*E178)) -> 9.45 | G178: =IF(E178<=6,2*E178,IF(E178<=10,2.5*E178,3*E178)) -> 15.75 | H178: =(2*(C178-2*G178)*E178+2*(D178-2*G178)*E178+PI()*(G178^2-F178^2))*0.01 -> 9.6495925 | I178: 43.4 | J178: =I178/(0.5*C178*0.1) -> 14.466667 | K178: 19.2 | L178: =SQRT(I178/H178) -> 2.1207544 | M178: =2*(C178-2*G178)*E178*0.01 -> 3.591 | N178: 21.9 | O178: =N178/(0.5*D178*0.1) -> 10.95 | P178: 14.2 | Q178: =SQRT(N178/H178) -> 1.5064946 | R178: =2*(D178-2*G178)*E178*0.01 -> 1.071 | S178: 49.5 | T178: 17.6
A179: =$B$169&" "&C179&"*"&D179&"*"&E179 -> RECC 80*40*3.2 | B179: =H179*0.785 -> 5.5002574 | C179: 80 | D179: 40 | E179: 3.2 | F179: =IF(E179<=6,1*E179,IF(E179<=10,1.5*E179,2*E179)) -> 3.2 | G179: =IF(E179<=6,2*E179,IF(E179<=10,2.5*E179,3*E179)) -> 6.4 | H179: =(2*(C179-2*G179)*E179+2*(D179-2*G179)*E179+PI()*(G179^2-F179^2))*0.01 -> 7.0066973 | I179: 57.2 | J179: =I179/(0.5*C179*0.1) -> 14.3 | K179: 18 | L179: =SQRT(I179/H179) -> 2.8572046 | M179: =2*(C179-2*G179)*E179*0.01 -> 4.3008 | N179: 18.9 | O179: =N179/(0.5*D179*0.1) -> 9.45 | P179: 11 | Q179: =SQRT(N179/H179) -> 1.6423822 | R179: =2*(D179-2*G179)*E179*0.01 -> 1.7408 | S179: 46.2 | T179: 16.1
A180: =$B$169&" "&C180&"*"&D180&"*"&E180 -> RECC 80*40*4 | B180: =H180*0.785 -> 6.7101521 | C180: 80 | D180: 40 | E180: 4 | F180: =IF(E180<=6,1*E180,IF(E180<=10,1.5*E180,2*E180)) -> 4 | G180: =IF(E180<=6,2*E180,IF(E180<=10,2.5*E180,3*E180)) -> 8 | H180: =(2*(C180-2*G180)*E180+2*(D180-2*G180)*E180+PI()*(G180^2-F180^2))*0.01 -> 8.5479645 | I180: 68.2 | J180: =I180/(0.5*C180*0.1) -> 17.05 | K180: 21.8 | L180: =SQRT(I180/H180) -> 2.8246252 | M180: =2*(C180-2*G180)*E180*0.01 -> 5.12 | N180: 22.2 | O180: =N180/(0.5*D180*0.1) -> 11.1 | P180: 13.2 | Q180: =SQRT(N180/H180) -> 1.611555 | R180: =2*(D180-2*G180)*E180*0.01 -> 1.92 | S180: 55.2 | T180: 18.9
A181: =$B$169&" "&C181&"*"&D181&"*"&E181 -> RECC 80*40*5 | B181: =H181*0.785 -> 8.1296127 | C181: 80 | D181: 40 | E181: 5 | F181: =IF(E181<=6,1*E181,IF(E181<=10,1.5*E181,2*E181)) -> 5 | G181: =IF(E181<=6,2*E181,IF(E181<=10,2.5*E181,3*E181)) -> 10 | H181: =(2*(C181-2*G181)*E181+2*(D181-2*G181)*E181+PI()*(G181^2-F181^2))*0.01 -> 10.356194 | I181: 80.3 | J181: =I181/(0.5*C181*0.1) -> 20.075 | K181: 26.1 | L181: =SQRT(I181/H181) -> 2.784567 | M181: =2*(C181-2*G181)*E181*0.01 -> 6 | N181: 25.7 | O181: =N181/(0.5*D181*0.1) -> 12.85 | P181: 15.7 | Q181: =SQRT(N181/H181) -> 1.5753116 | R181: =2*(D181-2*G181)*E181*0.01 -> 2 | S181: 65.1 | T181: 21.9
... A281: =$B$169&" "&C281&"*"&D281&"*"&E281 -> RECC 500*300*16 | B281: =H281*0.785 -> 184.29632 | C281: 500 | D281: 300 | E281: 16 | F281: =IF(E281<=6,1*E281,IF(E281<=10,1.5*E281,2*E281)) -> 32 | G281: =IF(E281<=6,2*E281,IF(E281<=10,2.5*E281,3*E281)) -> 48 | H281: =(2*(C281-2*G281)*E281+2*(D281-2*G281)*E281+PI()*(G281^2-F281^2))*0.01 -> 234.77239 | I281: 98777 | J281: =I281/(0.5*C281*0.1) -> 3951.08 | K281: 4885 | L281: =SQRT(I281/H281) -> 20.51183 | M281: =2*(C281-2*G281)*E281*0.01 -> 129.28 | N281: 44078 | O281: =N281/(0.5*D281*0.1) -> 2938.5333 | P281: 3408 | Q281: =SQRT(N281/H281) -> 13.702109 | R281: =2*(D281-2*G281)*E281*0.01 -> 65.28 | S281: 974500 | T281: 4842

Sheet Tubes_CHS
A1: Type de profilé | B1: Masse | C1: Dimensions | H1: Aire | I1: Inertie | J1: Modules de flexion | L1: Rayon de giration | S1: Inertie de Torsion | T1: Constante de Torsion
B2: G (kg/ml) | C2: h (mm) | D2: t | H2: A (cm2) | I2: I (cm4) | J2: Wel (cm3) | K2: Wpl (cm3) | L2: i (cm) | S2: It (cm4) | T2: Ct (cm3)
B3: CIRF
A4: =$B$3&" "&C4&"*"&D4 -> CIRF 21.3*2 | B4: =H4*0.785 -> 0.95193399 | C4: 21.3 | D4: 2 | H4: =(C4^2-(C4-2*D4)^2)*PI()*0.01/4 -> 1.2126548 | I4: =(C4^4-(C4-2*D4)^4)*PI()*0.0001/64 -> 0.57069049 | J4: =I4/(C4*0.5*0.1) -> 0.53585962 | K4: 0.748 | L4: =SQRT(I4/H4) -> 0.68601203 | S4: 1.141 | T4: 1.072
A5: =$B$3&" "&C5&"*"&D5 -> CIRF 21.3*2.5 | B5: =H5*0.785 -> 1.1590906 | C5: 21.3 | D5: 2.5 | H5: =(C5^2-(C5-2*D5)^2)*PI()*0.01/4 -> 1.4765485 | I5: =(C5^4-(C5-2*D5)^4)*PI()*0.0001/64 -> 0.66387468 | J5: =I5/(C5*0.5*0.1) -> 0.62335651 | K5: 0.889 | L5: =SQRT(I5/H5) -> 0.67053151 | S5: 1.328 | T5: 1.247
A6: =$B$3&" "&C6&"*"&D6 -> CIRF 21.3*3 | B6: =H6*0.785 -> 1.3539165 | C6: 21.3 | D6: 3 | H6: =(C6^2-(C6-2*D6)^2)*PI()*0.01/4 -> 1.7247344 | I6: =(C6^4-(C6-2*D6)^4)*PI()*0.0001/64 -> 0.74139863 | J6: =I6/(C6*0.5*0.1) -> 0.69614895 | K6: 1.01 | L6: =SQRT(I6/H6) -> 0.655639 | S6: 1.483 | T6: 1.392
A7: =$B$3&" "&C7&"*"&D7 -> CIRF 26.9*2 | B7: =H7*0.785 -> 1.2281428 | C7: 26.9 | D7: 2 | H7: =(C7^2-(C7-2*D7)^2)*PI()*0.01/4 -> 1.5645131 | I7: =(C7^4-(C7-2*D7)^4)*PI()*0.0001/64 -> 1.2203398 | J7: =I7/(C7*0.5*0.1) -> 0.90731584 | K7: 1.24 | L7: =SQRT(I7/H7) -> 0.88318316 | S7: 2.441 | T7: 1.815
A8: =$B$3&" "&C8&"*"&D8 -> CIRF 26.9*2.5 | B8: =H8*0.785 -> 1.5043516 | C8: 26.9 | D8: 2.5 | H8: =(C8^2-(C8-2*D8)^2)*PI()*0.01/4 -> 1.9163715 | I8: =(C8^4-(C8-2*D8)^4)*PI()*0.0001/64 -> 1.4411353 | J8: =I8/(C8*0.5*0.1) -> 1.0714761 | K8: 1.49 | L8: =SQRT(I8/H8) -> 0.86718654 | S8: 2.882 | T8: 2.143
A9: =$B$3&" "&C9&"*"&D9 -> CIRF 26.9*3 | B9: =H9*0.785 -> 1.7682297 | C9: 26.9 | D9: 3 | H9: =(C9^2-(C9-2*D9)^2)*PI()*0.01/4 -> 2.2525219 | I9: =(C9^4-(C9-2*D9)^4)*PI()*0.0001/64 -> 1.6336697 | J9: =I9/(C9*0.5*0.1) -> 1.2146243 | K9: 1.72 | L9: =SQRT(I9/H9) -> 0.85162345 | S9: 3.267 | T9: 2.429
A10: =$B$3&" "&C10&"*"&D10 -> CIRF 33.7*2 | B10: =H10*0.785 -> 1.5635392 | C10: 33.7 | D10: 2 | H10: =(C10^2-(C10-2*D10)^2)*PI()*0.01/4 -> 1.9917697 | I10: =(C10^4-(C10-2*D10)^4)*PI()*0.0001/64 -> 2.5118457 | J10: =I10/(C10*0.5*0.1) -> 1.4907096 | K10: 2.01 | L10: =SQRT(I10/H10) -> 1.1229927 | S10: 5.024 | T10: 2.981
A11: =$B$3&" "&C11&"*"&D11 -> CIRF 33.7*2.5 | B11: =H11*0.785 -> 1.9235972 | C11: 33.7 | D11: 2.5 | H11: =(C11^2-(C11-2*D11)^2)*PI()*0.01/4 -> 2.4504423 | I11: =(C11^4-(C11-2*D11)^4)*PI()*0.0001/64 -> 3.0008422 | J11: =I11/(C11*0.5*0.1) -> 1.7809153 | K11: 2.44 | L11: =SQRT(I11/H11) -> 1.1066221 | S11: 6.002 | T11: 3.562
A12: =$B$3&" "&C12&"*"&D12 -> CIRF 33.7*3 | B12: =H12*0.785 -> 2.2713244 | C12: 33.7 | D12: 3 | H12: =(C12^2-(C12-2*D12)^2)*PI()*0.01/4 -> 2.8934068 | I12: =(C12^4-(C12-2*D12)^4)*PI()*0.0001/64 -> 3.4413096 | J12: =I12/(C12*0.5*0.1) -> 2.0423202 | K12: 2.84 | L12: =SQRT(I12/H12) -> 1.090579 | S12: 6.883 | T12: 4.085
A13: =$B$3&" "&C13&"*"&D13 -> CIRF 42.4*2 | B13: =H13*0.785 -> 1.9926494 | C13: 42.4 | D13: 2 | H13: =(C13^2-(C13-2*D13)^2)*PI()*0.01/4 -> 2.5384069 | I13: =(C13^4-(C13-2*D13)^4)*PI()*0.0001/64 -> 5.1915497 | J13: =I13/(C13*0.5*0.1) -> 2.4488442 | K13: 3.27 | L13: =SQRT(I13/H13) -> 1.4301049 | S13: 10.38 | T13: 4.898
A14: =$B$3&" "&C14&"*"&D14 -> CIRF 42.4*2.5 | B14: =H14*0.785 -> 2.4599849 | C14: 42.4 | D14: 2.5 | H14: =(C14^2-(C14-2*D14)^2)*PI()*0.01/4 -> 3.1337387 | I14: =(C14^4-(C14-2*D14)^4)*PI()*0.0001/64 -> 6.2606615 | J14: =I14/(C14*0.5*0.1) -> 2.9531422 | K14: 3.99 | L14: =SQRT(I14/H14) -> 1.4134444 | S14: 12.52 | T14: 5.906
A15: =$B$3&" "&C15&"*"&D15 -> CIRF 42.4*3 | B15: =H15*0.785 -> 2.9149896 | C15: 42.4 | D15: 3 | H15: =(C15^2-(C15-2*D15)^2)*PI()*0.01/4 -> 3.7133625 | I15: =(C15^4-(C15-2*D15)^4)*PI()*0.0001/64 -> 7.2473696 | J15: =I15/(C15*0.5*0.1) -> 3.4185706 | K15: 4.67 | L15: =SQRT(I15/H15) -> 1.3970326 | S15: 14.49 | T15: 6.837
... A224: =$B$3&" "&C224&"*"&D224 -> CIRF 1219*25 | B224: =H224*0.785 -> 736.14584 | C224: 1219 | D224: 25 | H224: =(C224^2-(C224-2*D224)^2)*PI()*0.01/4 -> 937.76541 | I224: =(C224^4-(C224-2*D224)^4)*PI()*0.0001/64 -> 1671872.8 | J224: =I224/(C224*0.5*0.1) -> 27430.234 | K224: 35646 | L224: =SQRT(I224/H224) -> 42.223527 | S224: 3344000 | T224: 54860
B225: CIRC
A226: =$B$225&" "&C226&"*"&D226 -> CIRC 21.3*2.3 | B226: =H226*0.785 -> 1.0777077 | C226: 21.3 | D226: 2.3 | H226: =(C226^2-(C226-2*D226)^2)*PI()*0.01/4 -> 1.372876 | I226: =(C226^4-(C226-2*D226)^4)*PI()*0.0001/64 -> 0.62858843 | J226: =I226/(C226*0.5*0.1) -> 0.59022388 | K226: 0.834 | L226: =SQRT(I226/H226) -> 0.67665538 | S226: 1.257 | T226: 1.18
A227: =$B$225&" "&C227&"*"&D227 -> CIRC 21.3*2.6 | B227: =H227*0.785 -> 1.1990422 | C227: 21.3 | D227: 2.6 | H227: =(C227^2-(C227-2*D227)^2)*PI()*0.01/4 -> 1.5274423 | I227: =(C227^4-(C227-2*D227)^4)*PI()*0.0001/64 -> 0.68057103 | J227: =I227/(C227*0.5*0.1) -> 0.63903383 | K227: 0.915 | L227: =SQRT(I227/H227) -> 0.66750468 | S227: 1.361 | T227: 1.278
A228: =$B$225&" "&C228&"*"&D228 -> CIRC 21.3*3.2 | B228: =H228*0.785 -> 1.4283942 | C228: 21.3 | D228: 3.2 | H228: =(C228^2-(C228-2*D228)^2)*PI()*0.01/4 -> 1.8196105 | I228: =(C228^4-(C228-2*D228)^4)*PI()*0.0001/64 -> 0.76844424 | J228: =I228/(C228*0.5*0.1) -> 0.72154389 | K228: 1.06 | L228: =SQRT(I228/H228) -> 0.64985575 | S228: 1.537 | T228: 1.443
A229: =$B$225&" "&C229&"*"&D229 -> CIRC 26.9*2.3 | B229: =H229*0.785 -> 1.3953478 | C229: 26.9 | D229: 2.3 | H229: =(C229^2-(C229-2*D229)^2)*PI()*0.01/4 -> 1.7775131 | I229: =(C229^4-(C229-2*D229)^4)*PI()*0.0001/64 -> 1.3563536 | J229: =I229/(C229*0.5*0.1) -> 1.0084413 | K229: 1.4 | L229: =SQRT(I229/H229) -> 0.87353449 | S229: 2.713 | T229: 2.017
A230: =$B$225&" "&C230&"*"&D230 -> CIRC 26.9*2.6 | B230: =H230*0.785 -> 1.5581137 | C230: 26.9 | D230: 2.6 | H230: =(C230^2-(C230-2*D230)^2)*PI()*0.01/4 -> 1.9848582 | I230: =(C230^4-(C230-2*D230)^4)*PI()*0.0001/64 -> 1.4818207 | J230: =I230/(C230*0.5*0.1) -> 1.1017254 | K230: 1.54 | L230: =SQRT(I230/H230) -> 0.86403848 | S230: 2.964 | T230: 2.203
A231: =$B$225&" "&C231&"*"&D231 -> CIRC 26.9*3.2 | B231: =H231*0.785 -> 1.8703283 | C231: 26.9 | D231: 3.2 | H231: =(C231^2-(C231-2*D231)^2)*PI()*0.01/4 -> 2.3825839 | I231: =(C231^4-(C231-2*D231)^4)*PI()*0.0001/64 -> 1.703339 | J231: =I231/(C231*0.5*0.1) -> 1.266423 | K231: 1.81 | L231: =SQRT(I231/H231) -> 0.84552498 | S231: 3.407 | T231: 2.533
A232: =$B$225&" "&C232&"*"&D232 -> CIRC 33.7*2.6 | B232: =H232*0.785 -> 1.9941291 | C232: 33.7 | D232: 2.6 | H232: =(C232^2-(C232-2*D232)^2)*PI()*0.01/4 -> 2.5402918 | I232: =(C232^4-(C232-2*D232)^4)*PI()*0.0001/64 -> 3.09271 | J232: =I232/(C232*0.5*0.1) -> 1.8354362 | K232: 2.52 | L232: =SQRT(I232/H232) -> 1.1033868 | S232: 6.185 | T232: 3.671
A233: =$B$225&" "&C233&"*"&D233 -> CIRC 33.7*3.2 | B233: =H233*0.785 -> 2.4069626 | C233: 33.7 | D233: 3.2 | H233: =(C233^2-(C233-2*D233)^2)*PI()*0.01/4 -> 3.0661944 | I233: =(C233^4-(C233-2*D233)^4)*PI()*0.0001/64 -> 3.6046565 | J233: =I233/(C233*0.5*0.1) -> 2.139262 | K233: 2.99 | L233: =SQRT(I233/H233) -> 1.0842567 | S233: 7.209 | T233: 4.279
A234: =$B$225&" "&C234&"*"&D234 -> CIRC 33.7*4 | B234: =H234*0.785 -> 2.9297865 | C234: 33.7 | D234: 4 | H234: =(C234^2-(C234-2*D234)^2)*PI()*0.01/4 -> 3.7322121 | I234: =(C234^4-(C234-2*D234)^4)*PI()*0.0001/64 -> 4.1898279 | J234: =I234/(C234*0.5*0.1) -> 2.4865448 | K234: 3.55 | L234: =SQRT(I234/H234) -> 1.0595341 | S234: 8.38 | T234: 4.973
A235: =$B$225&" "&C235&"*"&D235 -> CIRC 42.4*2.6 | B235: =H235*0.785 -> 2.5519723 | C235: 42.4 | D235: 2.6 | H235: =(C235^2-(C235-2*D235)^2)*PI()*0.01/4 -> 3.2509201 | I235: =(C235^4-(C235-2*D235)^4)*PI()*0.0001/64 -> 6.4644546 | J235: =I235/(C235*0.5*0.1) -> 3.049271 | K235: 4.12 | L235: =SQRT(I235/H235) -> 1.4101418 | S235: 12.93 | T235: 6.099
A236: =$B$225&" "&C236&"*"&D236 -> CIRC 42.4*3.2 | B236: =H236*0.785 -> 3.0935389 | C236: 42.4 | D236: 3.2 | H236: =(C236^2-(C236-2*D236)^2)*PI()*0.01/4 -> 3.9408138 | I236: =(C236^4-(C236-2*D236)^4)*PI()*0.0001/64 -> 7.6199576 | J236: =I236/(C236*0.5*0.1) -> 3.5943196 | K236: 4.93 | L236: =SQRT(I236/H236) -> 1.3905395 | S236: 15.24 | T236: 7.189
A237: =$B$225&" "&C237&"*"&D237 -> CIRC 42.4*4 | B237: =H237*0.785 -> 3.7880068 | C237: 42.4 | D237: 4 | H237: =(C237^2-(C237-2*D237)^2)*PI()*0.01/4 -> 4.8254863 | I237: =(C237^4-(C237-2*D237)^4)*PI()*0.0001/64 -> 8.9908461 | J237: =I237/(C237*0.5*0.1) -> 4.2409651 | K237: 5.92 | L237: =SQRT(I237/H237) -> 1.3649908 | S237: 17.98 | T237: 8.482
... A439: =$B$225&" "&C439&"*"&D439 -> CIRC 1219*25 | B439: =H439*0.785 -> 736.14584 | C439: 1219 | D439: 25 | H439: =(C439^2-(C439-2*D439)^2)*PI()*0.01/4 -> 937.76541 | I439: =(C439^4-(C439-2*D439)^4)*PI()*0.0001/64 -> 1671872.8 | J439: =I439/(C439*0.5*0.1) -> 27430.234 | K439: 35646 | L439: =SQRT(I439/H439) -> 42.223527 | S439: 3344000 | T439: 54860
