Workbook
Name Ac: [1]Corniere!$X$25
Name alpha: [1]Corniere!$N$39
Name Asb: [1]Corniere!$T$49
Name bc: #REF!
Name beta2: [1]Corniere!$U$101
Name beta3: [1]Corniere!$U$102
Name cdg: [1]Corniere!$AC$25
Name classe: [1]Corniere!$R$22
Name d0: [1]Corniere!$G$16
Name db: [1]Corniere!$Q$49
Name e0: #REF!
Name emini: #REF!
Name entraxe: [1]Corniere!$G$24
Name fub: [1]Corniere!$S$22
Name fuc: [1]Corniere!$U$26
Name fup: [1]Corniere!$U$27
Name fyb: #REF!
Name fyc: [1]Corniere!$S$26
Name fyp: [1]Corniere!$S$27
Name g0_: Data!$O$4
Name g1_: Data!$O$5
Name g2_: Data!$O$6
Name g3_: Data!$O$7
Name gamma0: [1]Corniere!$Q$7
Name gamma1: #REF!
Name gamma2: [1]Corniere!$Q$9
Name gamma3: [1]Corniere!$Q$10
Name gamma7: [1]Corniere!$Q$11
Name hc: #REF!
Name mu: [1]Corniere!#REF!
Name nb: [1]Corniere!$G$33
Name nc: [1]Corniere!$Q$28
Name Ned: [1]Corniere!$I$41
Name pas: #REF!
Name Prin_PRS: PRS!$B$2:$H$33
Name taux: [1]Corniere!$Q$18
Name tc: [1]Corniere!$T$25
Name tp: [1]Corniere!$J$15
Name trusq: [1]Corniere!$Y$25

Sheet Données d'Entrées
C3: Description de l'attache | I3: ?
C5: Type d'attache | I5: ?
C7: Schéma | AA7: Zoom
C30: Profils
C36: Connecteurs

Sheet NdC Détaillée

Sheet NdC Simplifiée

Sheet Informations
D3: Calcul des caractéristiques de PRS
D6: Avertissement :
D7: La présente feuille de calculs est fournie en l'état et ne peux engager la responsabilitée de son auteur. Son utilisation engage la seule responsabilité de son utilisateur. Il apartient à l'utilisateur de contrôler les résultats.
D10: La présente Feuille a été créée par | L10: http://coursconstructionacier.fr | S10: et est sous licence | W10: CreativeCommon
D11: Merci de me contacter à | J11: cours.constructionacier@gmail.com | R11: pour signaler toute erreur dans cette feuille.
D13: Objectifs :
D14: La présente feuille de calcul permet de calculer rapidement les caractéristiques mécaniques des PRS bi-symétriques et mono-symétriques de classes 1, 2 et 3 ainis que les PRS de classe équivalente 2 et les PRS de classe équivalente 3 par des méthodes simplifiées.
D18: Normes, Guides et Recommandations utilisées dans cette feuille :
D19: NF EN 1993-1-1 (Octobre 2005) : Calcul des structures en acier
E20: Partie 1-1 : règles générales et règles pour les bâtiments
D21: Europratic : Calcul suivant les Eurocodes d'un bâtiment simple en acier à l'usage des praticiens
E22: Anthony Rodier, éd.CTICM 2015
D24: Légende :
E26: Cases des données à renseigner (Saisie manuelle ou menu déroulant) :
E28: Cases comportant des Commentaires / Schémas descriptifs des paramètres à saisir : | X28: ?
E30: Cases contenant des Résultats :
D32: Onglets de la feuille de calcul :
E34: Feuilles Principales de l'Utilitaire
E35: Feuille 1 | I35: Feuille 2 | O35: Feuille 3 | T35: Feuille 4 | Y35: Feuille 5
E36: Informations | I36: Données d'Entrées | O36: NdC Détaillée | T36: NdC Simplifiée | Y36: PRS
E38: Feuilles de données à ne pas modifier !
E39: Feuille 6 | H39: Feuille 7 | K39: Feuille 8 | O39: Feuille 9 | S39: Feuille 10 | W39: Feuille 11
E40: Data | H40: Profilés | K40: Cornières | O40: Tubes_SHS | S40: Tubes_RHS | W40: Tubes_CHS
D42: Révisions :
D44: Version | G44: Date | J44: Modification / Correction
D45: V0.0 | G45: 01/11/2020 | J45: Première Version

Sheet PRS
B2: Outils de prédimensionnement
C3: Med-ELU | D3: 45000 | E3: daN*m | F3: On considère une charge uniformément répartie
C4: Med-ELS | D4: =D3/1.5 -> 30000 | E4: daN*m
C5: Nuance | D5: S355 | F5: Wmin-ELU | G5: =D3/P5 -> 1267.6056 | H5: cm3 | O5: Nuance Prédim | P5: =VLOOKUP(D5,Data!A3:C6,2) -> 35.5
C6: Poutre | D6: Art-Art
C7: Longueur | D7: 30 | E7: m | F7: Imin-ELU | G7: =IF(D6="Art-Art",(8*5*D3*D7^2)/(384*210*(D7/D8)),IF(D6="Enc-Enc",(12*D3*D7^2)/(384*210*(D7/D8)),(8*D3*D7^2)/(185*210*(D7/D8)))) -> 133928.57 | H7: cm4
C8: Flèche | D8: 200 | E8: ème | F8: Imin-ELS | G8: =IF(D6="Art-Art",(8*5*D4*D7^2)/(384*210*(D7/D8)),IF(D6="Enc-Enc",(12*D4*D7^2)/(384*210*(D7/D8)),(8*D4*D7^2)/(185*210*(D7/D8)))) -> 89285.714 | H8: cm4
B10: PRS 1 | C10: S355 | G10: ="PRS "&C16&" * "&C17&" - "&C13&" * "&C14&" - "&C10 -> PRS 580 * 6 - 300 * 15 - S355
F11: A | G11: =(C13*C14+C16*C17+C19*C20)*10^-2 -> 124.8 | H11: cm² | N11: Nuance PRS 1 | O11: =VLOOKUP(C10,Data!A3:C6,2) -> 35.5 | Q11: A1 | R11: =C13*C14 -> 4500 | S11: mm²
C12: Dimensions [mm] | N12: ε | O12: =SQRT(23.5/O11) -> 0.81361651 | Q12: Aw | R12: =C16*C17 -> 3480 | S12: mm²
B13: b1 | C13: 300 | F13: Masse linéaire | G13: =0.79*G11 -> 98.592 | H13: kg/m | Q13: Awz+ | R13: =C17*(C16+C20-D25) -> 1740 | S13: mm²
B14: Tf1 | C14: 15 | Q14: Awz- | R14: =C17*(D25-C20) -> 1740 | S14: mm²
F15: Iy | G15: =(((C13*C14^3+C17*C16^3+C19*C20^3)*10^-4)/12)+((C13*C14*(C16+C20-D25+(C14/2))^2)+(C19*C20*(D25-(C20/2))^2)+(C16*C17*(C20+(C16/2)-D25)^2))*10^-4 -> 89428.1 | H15: cm4 | O15: c/t | Q15: A2 | R15: =C19*C20 -> 4500 | S15: mm²
B16: Hw | C16: 580 | F16: Wely | G16: =MIN(G15/((C14+C16+C20-D25)*10^-1),G15/(D25*10^-1)) -> 2932.0689 | H16: cm3 | N16: b1 | O16: w | P16: b2
B17: Tw | C17: 6 | F17: Wply | G17: =((R11+R13)*R17+(R14+R15)*R18)*10^-3 -> 3182.1 | H17: cm3 | N17: =(C13-C17)/(2*C14) -> 9.8 | O17: =C16/C17 -> 96.666667 | P17: =(C19-C17)/(2*C20) -> 9.8 | Q17: CdGz+ | R17: =(R11*(C20+C16-D25+C14/2)+R13*(C20+C16-D25)/2)/(R11+R13) -> 254.97596 | S17: mm
F18: Avz | G18: =C16*C17*10^-2 -> 34.8 | H18: cm² | Q18: CdGz- | R18: =(R15*(D25-C20/2)+R14*(D25-C20)/2)/(R15+R14) -> 254.97596 | S18: mm
B19: b2 | C19: 300 | F19: iy | G19: =SQRT(G15/$G$11) -> 26.76885 | H19: cm | Q19: CdGy | R19: =((R11*C13/8)+(R12*C17/8)+(R15*C19/8))/((R11+R12+R15)/2) -> 54.504808 | S19: mm
B20: Tf2 | C20: 15 | F20: Am/V | G20: =((0.2*(C13+C16+C19+C14+C20-C17)/G11)*100) -> 192.94872 | H20: m-1
F21: [Am/V]b | G21: =((0.1*2*(C13+C16+C14+C20))/G11)*100 -> 145.83333 | H21: m-1 | Q21: Wely + | R21: =G15/((C14+C16+C20-D25)*10^-1) -> 2932.0689 | S21: cm3
Q22: Wely - | R22: =G15/(D25*10^-1) -> 2932.0689 | S22: cm3
D23: CdG | F23: Iz | G23: =((C14*C13^3+C16*C17^3+C20*C19^3)*10^-4)/12 -> 6751.044 | H23: cm4
C24: YG | D24: =MAX(C13,C19)/2 -> 150 | E24: mm | F24: Welz | G24: =G23/(D24*10^-1) -> 450.0696 | H24: cm3
C25: ZG | D25: =(C13*C14*(C20+C16+C14/2)+C16*C17*(C20+C16/2)+C19*C20*(C20/2))/(C13*C14+C16*C17+C19*C20) -> 305 | E25: mm | F25: Wplz | G25: =2*((R11/2+R12/2+R15/2)*R19)*10^-3 -> 680.22 | H25: cm3
F26: Avy | G26: =(C13*C14+C19*C20)*10^-2 -> 90 | H26: cm²
C27: Classe | D27: Compression | E27: Flexion | F27: iz | G27: =SQRT(G23/$G$11) -> 7.3549238 | H27: cm
C28: Ame | D28: =IF(O17<33*$O$12,1,IF(O17<38*$O$12,2,IF(O17<42*$O$12,3,4))) -> 4 | E28: =IF(O17<72*$O$12,1,IF(O17<83*$O$12,2,IF(O17<124*$O$12,3,4))) -> 3
C29: Semelle 1 | D29: =IF(N17<9*$O$12,1,IF(N17<10*$O$12,2,IF(N17<14*$O$12,3,4))) -> 3 | F29: It | G29: =(10^-4/3)*(((C13)*C14^3)+((C19)*C20^3)+(C16*C17^3)) -> 71.676 | H29: cm4
C30: Semelle 2 | D30: =IF(P17<9*$O$12,1,IF(P17<10*$O$12,2,IF(P17<14*$O$12,3,4))) -> 3 | F30: Iw | G30: =(10^-6/12)*((C14*C13^3*(C20+C16+(C14/2)-D25)^2)+(C20*C19^3*(D25-(C20/2))^2)) -> 5974171.9 | H30: cm6
B31: * Les soudures sont négligées pour les calculs d'inertie et de Classe
B32: * Les PRS utlisés pour les calculs d'attaches doivent être bi-symétriques
B35: PRS 2 | C35: S355 | G35: ="PRS "&C41&" * "&C42&" - "&C38&" * "&C39&" - "&C35 -> PRS 620 * 6 - 260 * 15 - S355 | J35: Section efficace de profil à âme de classe 3 et semelles de classe 1 ou 2 | K35: ="PRS éq,Cl2 "&C41&" * "&C42&" - "&C38&" * "&C39&" - "&C35 -> PRS éq,Cl2 620 * 6 - 260 * 15 - S355
F36: A | G36: =(C38*C39+C41*C42+C44*C45)*10^-2 -> 115.2 | H36: cm² | K36: A,eff | L36: =G36-O48*0.01 -> 108.31608 | M36: cm² | N36: Nuance PRS 2 | O36: =VLOOKUP(C35,Data!A3:C6,2) -> 35.5 | Q36: A1 | R36: =C38*C39 -> 3900 | S36: mm²
C37: Dimensions [mm] | K37: NF EN 1993-1-1 §5.5.2(11) et §6.2.2.4 | N37: ε | O37: =SQRT(23.5/O36) -> 0.81361651 | Q37: Aw | R37: =C41*C42 -> 3720 | S37: mm² | T37: Awz+,eff | U37: =R37-O48 -> 3031.6078 | V37: mm²
B38: b1 | C38: 260 | F38: Masse linéaire | G38: =0.79*G36 -> 91.008 | H38: kg/m | K38: =IF(AND(E53=3,D54<=2,D55<=2),"Applicable","Non Applicable") -> Non Applicable | Q38: Awz+ | R38: =C42*(C41+C45-D50) -> 1860 | S38: mm² | T38: Awz+,eff | U38: =C42*(C41+C45-D50)-O48 -> 1171.6078 | V38: mm²
B39: Tf1 | C39: 15 | Q39: Awz- | R39: =C42*(D50-C45) -> 1860 | S39: mm²
F40: Iy | G40: =(((C38*C39^3+C42*C41^3+C44*C45^3)*10^-4)/12)+((C38*C39*(C41+C45-D50+(C39/2))^2)+(C44*C45*(D50-(C45/2))^2)+(C41*C42*(C45+(C41/2)-D50)^2))*10^-4 -> 90559.9 | H40: cm4 | K40: Iy,eff | L40: =G40-O49 -> 88906.038 | M40: cm4 | O40: c/t | Q40: A2 | R40: =C44*C45 -> 3900 | S40: mm²
B41: Hw | C41: 620 | F41: Wely | G41: =MIN(G40/((C39+C41+C45-D50)*10^-1),G40/(D50*10^-1)) -> 2786.4585 | H41: cm3 | K41: Wely,eff | L41: =MIN(L40/((C39+C41+C45-D50)*10^-1),L40/(D50*10^-1)) -> 2735.5704 | M41: cm3 | N41: b1 | O41: w | P41: b2
B42: Tw | C42: 6 | F42: Wply | G42: =((R36+R38)*R42+(R39+R40)*R43)*10^-3 -> 3053.1 | H42: cm3 | K42: Wply,eff | L42: =((R36+U38)*R42+(R39+R40)*R43)*10^-3 -> 2870.6581 | M42: cm3 | N42: =(C38-C42)/(2*C39) -> 8.4666667 | O42: =C41/C42 -> 103.33333 | P42: =(C44-C42)/(2*C45) -> 8.4666667 | Q42: CdGz+ | R42: =(R36*(C45+C41-D50+C39/2)+R38*(C45+C41-D50)/2)/(R36+R38) -> 265.02604 | S42: mm
F43: Avz | G43: =C41*C42*10^-2 -> 37.2 | H43: cm² | K43: Avz,eff | L43: =G43-O48*10^-2 -> 30.316078 | M43: cm² | Q43: CdGz- | R43: =(R40*(D50-C45/2)+R39*(D50-C45)/2)/(R40+R39) -> 265.02604 | S43: mm
B44: b2 | C44: =C38 -> 260 | F44: iy | G44: =SQRT(G40/$G$36) -> 28.037658 | H44: cm | K44: iy,eff | L44: =SQRT(L40/$L$36) -> 28.64964 | M44: cm | Q44: CdGy | R44: =((R36*C38/8)+(R37*C42/8)+(R40*C44/8))/((R36+R37+R40)/2) -> 44.494792 | S44: mm
B45: Tf2 | C45: =C39 -> 15 | F45: [Am/V] | G45: =((0.2*(C38+C41+C44+C39+C45-C42)/G36)*100) -> 202.08333 | H45: m-1
F46: [Am/V]b | G46: =((0.1*2*(C38+C41+C39+C45))/G36)*100 -> 157.98611 | H46: m-1 | N46: 20 ε tw | O46: =20*O37*C42 -> 97.633982 | P46: mm | Q46: Wely + | R46: =G40/((C39+C41+C45-D50)*10^-1) -> 2786.4585 | S46: cm3
N47: Hw,suppr | O47: =((C41/2)-2*O46) -> 114.73204 | P47: mm | Q47: Wely - | R47: =G40/(D50*10^-1) -> 2786.4585 | S47: cm3
D48: CdG | F48: Iz | G48: =((C39*C38^3+C41*C42^3+C45*C44^3)*10^-4)/12 -> 4395.116 | H48: cm4 | K48: Iz,eff | L48: =G48-O50 -> 4394.9095 | M48: cm4 | N48: Aw,suppr | O48: =O47*C42 -> 688.39222 | P48: mm²
C49: YG | D49: =MAX(C38,C44)/2 -> 130 | E49: mm | F49: Welz | G49: =G48/(D49*10^-1) -> 338.08585 | H49: cm3 | K49: Welz,eff | L49: =L48/(D49*10^-1) -> 338.06996 | M49: cm3 | N49: Huyghens,y | O49: =(O48*10^-2)*(((O46+O47/2)*10^-1)^2) -> 1653.8623 | P49: cm4
C50: ZG | D50: =(C38*C39*(C45+C41+C39/2)+C41*C42*(C45+C41/2)+C44*C45*(C45/2))/(C38*C39+C41*C42+C44*C45) -> 325 | E50: mm | F50: Wplz | G50: =2*((R36/2+R37/2+R40/2)*R44)*10^-3 -> 512.58 | H50: cm3 | K50: Wplz,eff | L50: =2*((R36/2+U37/2+R40/2)*R44)*10^-3 -> 481.95013 | M50: cm3 | N50: Huyghens,z | O50: =(O47*C42^3/12)*10^-4 -> 0.20651767 | P50: cm4
F51: Avy | G51: =(C38*C39+C44*C45)*10^-2 -> 78 | H51: cm² | K51: Avy,eff | L51: =(C38*C39+C44*C45)*10^-2 -> 78 | M51: cm²
C52: Classe | D52: Compression | E52: Flexion | F52: iz | G52: =SQRT(G48/$G$36) -> 6.1767345 | H52: cm | K52: iz,eff | L52: =SQRT(L48/$L$36) -> 6.3698397 | M52: cm
C53: Ame | D53: =IF(O42<33*$O$37,1,IF(O42<38*$O$37,2,IF(O42<42*$O$37,3,4))) -> 4 | E53: =IF(O42<72*$O$37,1,IF(O42<83*$O$37,2,IF(O42<124*$O$37,3,4))) -> 4
C54: Semelle 1 | D54: =IF(N42<9*$O$37,1,IF(N42<10*$O$37,2,IF(N42<14*$O$37,3,4))) -> 3 | F54: It | G54: =(10^-4/3)*(((C38)*C39^3)+((C44)*C45^3)+(C41*C42^3)) -> 62.964 | H54: cm4 | K54: It,eff | L54: =(10^-4/3)*(((C38)*C39^3)+((C44)*C45^3)+(C41*(C42^3-(O47*0.1)^3))) -> 31.751788 | M54: cm4
C55: Semelle 2 | D55: =IF(P42<9*$O$37,1,IF(P42<10*$O$37,2,IF(P42<14*$O$37,3,4))) -> 3 | F55: Iw | G55: =(10^-6/12)*((C39*C38^3*(C45+C41+(C39/2)-D50)^2)+(C45*C44^3*(D50-(C45/2))^2)) -> 4429426.6 | H55: cm6 | K55: Iw,eff | L55: =(10^-6/12)*((C39*C38^3*((C45+C41+(C39/2)-D50)^2-(O47*0.1)^2))+(C45*C44^3*(D50-(C45/2))^2)) -> 4426534.6 | M55: cm6
B58: PRS 3 | C58: S355 | G58: ="PRS "&C64&" * "&C65&" - "&C61&" * "&C62&" - "&C58 -> PRS 580 * 6 - 300 * 15 - S355 | J58: Section efficace de profil à âme de classe 4 et semelles de classe 1, 2 ou 3 | K58: ="PRS éq,Cl3 "&C64&" * "&C65&" - "&C61&" * "&C62&" - "&C58 -> PRS éq,Cl3 580 * 6 - 300 * 15 - S355
F59: A | G59: =(C61*C62+C64*C65+C67*C68)*10^-2 -> 124.8 | H59: cm² | K59: A,eff | L59: =G59-(C64*C65-2*O69)*0.01 -> 92.050314 | M59: cm² | N59: Nuance PRS | O59: =VLOOKUP(C58,Data!A3:C6,2) -> 35.5 | Q59: A1 | R59: =C61*C62 -> 4500 | S59: mm²
C60: Dimensions [mm] | K60: Europratic : Annexe C | N60: ε | O60: =SQRT(23.5/O59) -> 0.81361651 | Q60: Aw | R60: =C64*C65 -> 3480 | S60: mm² | T60: Awz+,eff | U60: =R60-O73 -> 3555.9921 | V60: mm²
B61: b1 | C61: 300 | F61: Masse linéaire | G61: =0.79*G59 -> 98.592 | H61: kg/m | K61: =IF(AND(E76=4,D77<=3,D78<=3),"Applicable","Non Applicable") -> Non Applicable | Q61: Awz+ | R61: =C65*(C64+C68-D73) -> 1740 | S61: mm² | T61: Awz+,eff | U61: =C65*(C64+C68-D73)-O73 -> 1815.9921 | V61: mm²
B62: Tf1 | C62: 15 | O62: Hw / Tw*ε ≤ | Q62: Awz- | R62: =C65*(D73-C68) -> 1740 | S62: mm²
F63: Iy | G63: =(((C61*C62^3+C65*C64^3+C67*C68^3)*10^-4)/12)+((C61*C62*(C64+C68-D73+(C62/2))^2)+(C67*C68*(D73-(C68/2))^2)+(C64*C65*(C68+(C64/2)-D73)^2))*10^-4 -> 89428.1 | H63: cm4 | K63: Iy,eff | L63: =G63-O74 -> 89658.942 | M63: cm4 | O63: c/t | Q63: A2 | R63: =C67*C68 -> 4500 | S63: mm²
B64: Hw | C64: 580 | F64: Wely | G64: =MIN(G63/((C62+C64+C68-D73)*10^-1),G63/(D73*10^-1)) -> 2932.0689 | H64: cm3 | K64: Wely,eff | L64: =IF(O66<=124,L63/(D73*0.1),IF(O66<=160,(L63-(0.0001*0.15*C65*C64^3/12))/(D73*0.1),IF(O66<=210,(L63-(0.0001*0.3*C65*C64^3/12))/(D73*0.1),"Hors Limites"))) -> 2939.6374 | M64: cm3 | N64: b1 | O64: w | P64: b2
B65: Tw | C65: 6 | F65: Wply | G65: =((R59+R61)*R65+(R62+R63)*R66)*10^-3 -> 3182.1 | H65: cm3 | L65: =IF(O66<=124,"Hw / Tw*ε ≤ 124",IF(O66<=160,"Hw / Tw*ε ≤ 160",IF(O66<=210,"Hw / Tw*ε ≤ 210","Hw / Tw*ε ≥ 210"))) -> Hw / Tw*ε ≤ 124 | N65: =(C61-C65)/(2*C62) -> 9.8 | O65: =C64/C65 -> 96.666667 | P65: =(C67-C65)/(2*C68) -> 9.8 | Q65: CdGz+ | R65: =(R59*(C68+C64-D73+C62/2)+R61*(C68+C64-D73)/2)/(R59+R61) -> 254.97596 | S65: mm
F66: Avz | G66: =C64*C65*10^-2 -> 34.8 | H66: cm² | K66: Avz,eff | L66: =G66-O73*10^-2 -> 35.559921 | M66: cm² | O66: =C64/(C65*O60) -> 118.81109 | Q66: CdGz- | R66: =(R63*(D73-C68/2)+R62*(D73-C68)/2)/(R63+R62) -> 254.97596 | S66: mm
B67: b2 | C67: =C61 -> 300 | F67: iy | G67: =SQRT(G63/$G$36) -> 27.861902 | H67: cm | K67: iy,eff | L67: =SQRT(L63/$L$59) -> 31.20931 | M67: cm | Q67: CdGy | R67: =((R59*C61/8)+(R60*C65/8)+(R63*C67/8))/((R59+R60+R63)/2) -> 54.504808 | S67: mm
B68: Tf2 | C68: =C62 -> 15 | F68: [Am/V] | G68: =((0.2*(C61+C64+C67+C62+C68-C65)/G59)*100) -> 192.94872 | H68: m-1
F69: [Am/V]b | G69: =((0.1*2*(C61+C64+C62+C68))/G59)*100 -> 145.83333 | H69: m-1 | N69: 21 ε tw | O69: =21*O60*C65 -> 102.51568 | P69: mm | Q69: Wely + | R69: =G63/((C62+C64+C68-D73)*10^-1) -> 2932.0689 | S69: cm3
N70: 25 ε tw | O70: =25*O60*C65 -> 122.04248 | P70: mm | Q70: Wely - | R70: =G63/(D73*10^-1) -> 2932.0689 | S70: cm3
D71: CdG | F71: Iz | G71: =((C62*C61^3+C64*C65^3+C68*C67^3)*10^-4)/12 -> 6751.044 | H71: cm4 | K71: Iz,eff | L71: =G71-O75 -> 6751.0668 | M71: cm4 | N71: 37 ε tw | O71: =37*O60*C65 -> 180.62287 | P71: mm
C72: YG | D72: =MAX(C61,C67)/2 -> 150 | E72: mm | F72: Welz | G72: =G71/(D72*10^-1) -> 450.0696 | H72: cm3 | K72: Welz,eff | L72: =L71/(D72*10^-1) -> 450.07112 | M72: cm3 | N72: Hw,suppr | O72: =((C64/2)-(O70+O71)) -> -12.665343 | P72: mm
C73: ZG | D73: =(C61*C62*(C68+C64+C62/2)+C64*C65*(C68+C64/2)+C67*C68*(C68/2))/(C61*C62+C64*C65+C67*C68) -> 305 | E73: mm | F73: Wplz | G73: =2*((R59/2+R60/2+R63/2)*R67)*10^-3 -> 680.22 | H73: cm3 | N73: Aw,suppr | O73: =O72*C65 -> -75.992058 | P73: mm²
F74: Avy | G74: =(C61*C62+C67*C68)*10^-2 -> 90 | H74: cm² | K74: Avy,eff | L74: =(C61*C62+C67*C68)*10^-2 -> 90 | M74: cm² | N74: Huyghens,y | O74: =(O73*10^-2)*(((O71+O72/2)*10^-1)^2) -> -230.84162 | P74: cm4
C75: Classe | D75: Compression | E75: Flexion | F75: iz | G75: =SQRT(G71/$G$36) -> 7.6552474 | H75: cm | K75: iz,eff | L75: =SQRT(L71/$L$59) -> 8.563939 | M75: cm | N75: Huyghens,z | O75: =(O72*C65^3/12)*10^-4 -> -0.022797617 | P75: cm4
C76: Ame | D76: =IF(O65<33*$O$60,1,IF(O65<38*$O$60,2,IF(O65<42*$O$60,3,4))) -> 4 | E76: =IF(O65<72*$O$60,1,IF(O65<83*$O$60,2,IF(O65<124*$O$60,3,4))) -> 3
C77: Semelle 1 | D77: =IF(N65<9*$O$60,1,IF(N65<10*$O$60,2,IF(N65<14*$O$60,3,4))) -> 3 | F77: It | G77: =(10^-4/3)*(((C61)*C62^3)+((C67)*C68^3)+(C64*C65^3)) -> 71.676 | H77: cm4 | K77: It,eff | L77: =(10^-4/3)*(((C61)*C62^3)+((C67)*C68^3)+(C64*(C65^3-(O72*0.1)^3))) -> 71.715279 | M77: cm4
C78: Semelle 2 | D78: =IF(P65<9*$O$60,1,IF(P65<10*$O$60,2,IF(P65<14*$O$60,3,4))) -> 3 | F78: Iw | G78: =(10^-6/12)*((C62*C61^3*(C68+C64+(C62/2)-D73)^2)+(C68*C67^3*(D73-(C68/2))^2)) -> 5974171.9 | H78: cm6 | K78: Iw,eff | L78: =(10^-6/12)*((C62*C61^3*((C68+C64+(C62/2)-D73)^2-(O72*0.1)^2))+(C68*C67^3*(D73-(C68/2))^2)) -> 5974117.7 | M78: cm6

Sheet Data
A2: Nuance | B2: fy | C2: fu | D2: βw | F2: Øboulons | G2: Pas | H2: hnut | I2: A | J2: AS | K2: do | L2: dm | N2: Coefficients partiels | Q2: Fleche 1/
A3: S235 | B3: 23.5 | C3: 36 | D3: 0.8 | F3: 12 | G3: 1.75 | H3: =ROUND(0.8*F3,0) -> 10 | I3: =ROUND(PI()*F3^2/4,0) -> 113 | J3: =ROUND(I3*((F3-0.93815*G3)/F3)^2,0) -> 84 | K3: =F3+2 -> 14 | L3: 19.39 | N3: Acier | Q3: 100
A4: S275 | B4: 27.5 | C4: 43 | D4: 0.85 | F4: 14 | G4: 2 | H4: =ROUND(0.8*F4,0) -> 11 | I4: =ROUND(PI()*F4^2/4,0) -> 154 | J4: =ROUND(I4*((F4-0.93815*G4)/F4)^2,0) -> 115 | K4: =F4+2 -> 16 | L4: 22.63 | N4: γ0 | O4: 1 | Q4: 150
A5: S355 | B5: 35.5 | C5: 49 | D5: 0.9 | F5: 16 | G5: 2 | H5: =ROUND(0.8*F5,0) -> 13 | I5: =ROUND(PI()*F5^2/4,0) -> 201 | J5: =ROUND(I5*((F5-0.93815*G5)/F5)^2,0) -> 157 | K5: =F5+2 -> 18 | L5: 25.86 | N5: γ1 | O5: 1 | Q5: 200
A6: S460 | B6: 46 | C6: 55 | D6: 1 | F6: 18 | G6: 2.5 | H6: =ROUND(0.8*F6,0) -> 14 | I6: =ROUND(PI()*F6^2/4,0) -> 254 | J6: =ROUND(I6*((F6-0.93815*G6)/F6)^2,0) -> 192 | K6: =F6+2 -> 20 | L6: 29.09 | N6: γ2 | O6: 1.25 | Q6: 250
F7: 20 | G7: 2.5 | H7: =ROUND(0.8*F7,0) -> 16 | I7: =ROUND(PI()*F7^2/4,0) -> 314 | J7: =ROUND(I7*((F7-0.93815*G7)/F7)^2,0) -> 245 | K7: =F7+2 -> 22 | L7: 32.32 | N7: γ3 | O7: 1.1 | Q7: 300
A8: Classes | B8: fy | C8: fu | D8: αv | F8: 22 | G8: 2.5 | H8: =ROUND(0.8*F8,0) -> 18 | I8: =ROUND(PI()*F8^2/4,0) -> 380 | J8: =ROUND(I8*((F8-0.93815*G8)/F8)^2,0) -> 303 | K8: =F8+2 -> 24 | L8: 36.63 | N8: γ4 | Q8: 350
A9: 4.6 | B9: 24 | C9: 40 | D9: 0.6 | F9: 24 | G9: 3 | H9: =ROUND(0.8*F9,0) -> 19 | I9: =ROUND(PI()*F9^2/4,0) -> 452 | J9: =ROUND(I9*((F9-0.93815*G9)/F9)^2,0) -> 352 | K9: =F9+2 -> 26 | L9: 38.76 | N9: γ5 | Q9: 400
A10: 4.8 | B10: 32 | C10: 40 | D10: 0.5 | F10: 27 | G10: 3 | H10: =ROUND(0.8*F10,0) -> 22 | I10: =ROUND(PI()*F10^2/4,0) -> 573 | J10: =ROUND(I10*((F10-0.93815*G10)/F10)^2,0) -> 460 | K10: =F10+3 -> 30 | L10: 44.17 | N10: γ6 | Q10: 450
A11: 5.6 | B11: 30 | C11: 50 | D11: 0.6 | F11: 30 | G11: 3.5 | H11: =ROUND(0.8*F11,0) -> 24 | I11: =ROUND(PI()*F11^2/4,0) -> 707 | J11: =ROUND(I11*((F11-0.93815*G11)/F11)^2,0) -> 561 | K11: =F11+3 -> 33 | L11: 49.56 | N11: Béton | Q11: 500
A12: 5.8 | B12: 40 | C12: 50 | D12: 0.5 | F12: 36 | G12: 4 | H12: =ROUND(0.8*F12,0) -> 29 | I12: =ROUND(PI()*F12^2/4,0) -> 1018 | J12: =ROUND(I12*((F12-0.93815*G12)/F12)^2,0) -> 817 | K12: =F12+3 -> 39 | L12: 59.27 | N12: γc | O12: 1.5 | Q12: 550
A13: 6.6 | B13: 36 | C13: 60 | D13: 0.6 | F13: 42 | G13: 4.5 | H13: =ROUND(0.8*F13,0) -> 34 | I13: =ROUND(PI()*F13^2/4,0) -> 1385 | J13: =ROUND(I13*((F13-0.93815*G13)/F13)^2,0) -> 1121 | K13: =F13+3 -> 45 | L13: 70 | N13: kf | O13: 1.1 | Q13: 600
A14: 6.8 | B14: 48 | C14: 60 | D14: 0.5 | F14: 48 | G14: 5 | H14: =ROUND(0.8*F14,0) -> 38 | I14: =ROUND(PI()*F14^2/4,0) -> 1810 | J14: =ROUND(I14*((F14-0.93815*G14)/F14)^2,0) -> 1474 | K14: =F14+3 -> 51 | L14: 80.88 | Q14: 650
A15: 6.9 | B15: 54 | C15: 60 | D15: 0.5 | F15: 56 | G15: 5.5 | H15: =ROUND(0.8*F15,0) -> 45 | I15: =ROUND(PI()*F15^2/4,0) -> 2463 | J15: =ROUND(I15*((F15-0.93815*G15)/F15)^2,0) -> 2030 | K15: =F15+3 -> 59 | L15: 91.66 | N15: Goujon Nelson | Q15: 700
A16: 8.8 | B16: 64 | C16: 80 | D16: 0.6 | F16: 64 | G16: 6 | H16: =ROUND(0.8*F16,0) -> 51 | I16: =ROUND(PI()*F16^2/4,0) -> 3217 | J16: =ROUND(I16*((F16-0.93815*G16)/F16)^2,0) -> 2676 | K16: =F16+3 -> 67 | L16: 102.44 | N16: 16 | Q16: 750
A17: 10.9 | B17: 90 | C17: 100 | D17: 0.5 | N17: 19 | Q17: 800
A18: S235 | B18: 23.5 | C18: 36 | D18: 0.5 | F18: Poutres | H18: Oui | J18: Filetée | N18: 22 | Q18: 850
A19: S275 | B19: 27.5 | C19: 43 | D19: 0.5 | F19: Art-Art | H19: Non | J19: Non filetée | N19: 25 | Q19: 900
A20: S355 | B20: 35.5 | C20: 49 | D20: 0.5 | F20: Art-Enc | Q20: 950
A21: S460 | B21: 46 | C21: 55 | D21: 0.5 | F21: Enc-Enc | Q21: 1000
A23: Béton | B23: fck | C23: fck,cube | D23: fcm | E23: fctm | F23: fctk,0.05 | G23: fctk,0.95 | H23: Ecm
B24: [daN/mm²] | C24: [daN/mm²] | D24: [daN/mm²] | E24: [daN/mm²] | F24: [daN/mm²] | G24: [daN/mm²] | H24: [GPa]
A25: C 16/20 | B25: 1.6 | C25: 2 | D25: =B25+0.8 -> 2.4 | E25: =0.3*B25^0.67 -> 0.41103769 | F25: =0.7*E25 -> 0.28772638 | G25: =1.3*E25 -> 0.53434899 | H25: =22*D25^0.3 -> 28.607905
A26: C 20/25 | B26: 2 | C26: 2.5 | D26: =B26+0.8 -> 2.8 | E26: =0.3*B26^0.67 -> 0.47732189 | F26: =0.7*E26 -> 0.33412532 | G26: =1.3*E26 -> 0.62051846 | H26: =22*D26^0.3 -> 29.961951
A27: C 25/30 | B27: 2.5 | C27: 3 | D27: =B27+0.8 -> 3.3 | E27: =0.3*B27^0.67 -> 0.55429513 | F27: =0.7*E27 -> 0.38800659 | G27: =1.3*E27 -> 0.72058367 | H27: =22*D27^0.3 -> 31.475806
A28: C 30/37 | B28: 3 | C28: 3.7 | D28: =B28+0.8 -> 3.8 | E28: =0.3*B28^0.67 -> 0.62631454 | F28: =0.7*E28 -> 0.43842018 | G28: =1.3*E28 -> 0.8142089 | H28: =22*D28^0.3 -> 32.836568
A29: C 35/45 | B29: 3.5 | C29: 4.5 | D29: =B29+0.8 -> 4.3 | E29: =0.3*B29^0.67 -> 0.69445937 | F29: =0.7*E29 -> 0.48612156 | G29: =1.3*E29 -> 0.90279719 | H29: =22*D29^0.3 -> 34.077146
A30: C 40/50 | B30: 4 | C30: 5 | D30: =B30+0.8 -> 4.8 | E30: =0.3*B30^0.67 -> 0.75945396 | F30: =0.7*E30 -> 0.53161777 | G30: =1.3*E30 -> 0.98729014 | H30: =22*D30^0.3 -> 35.220462
A31: C 45/55 | B31: 4.5 | C31: 5.5 | D31: =B31+0.8 -> 5.3 | E31: =0.3*B31^0.67 -> 0.8218142 | F31: =0.7*E31 -> 0.57526994 | G31: =1.3*E31 -> 1.0683585 | H31: =22*D31^0.3 -> 36.283188
A32: C 50/60 | B32: 5 | C32: 6 | D32: =B32+0.8 -> 5.8 | E32: =2.12*LN(1+0.1*D32) -> 0.96974068 | F32: =0.7*E32 -> 0.67881847 | G32: =1.3*E32 -> 1.2606629 | H32: =22*D32^0.3 -> 37.277869
A33: C 55/67 | B33: 5.5 | C33: 6.7 | D33: =B33+0.8 -> 6.3 | E33: =2.12*LN(1+0.1*D33) -> 1.0357896 | F33: =0.7*E33 -> 0.72505274 | G33: =1.3*E33 -> 1.3465265 | H33: =22*D33^0.3 -> 38.214206
A34: C 60/75 | B34: 6 | C34: 7.5 | D34: =B34+0.8 -> 6.8 | E34: =2.12*LN(1+0.1*D34) -> 1.0998428 | F34: =0.7*E34 -> 0.76988999 | G34: =1.3*E34 -> 1.4297957 | H34: =22*D34^0.3 -> 39.099874
A35: C 70/85 | B35: 7 | C35: 8.5 | D35: =B35+0.8 -> 7.8 | E35: =2.12*LN(1+0.1*D35) -> 1.2224203 | F35: =0.7*E35 -> 0.85569423 | G35: =1.3*E35 -> 1.5891464 | H35: =22*D35^0.3 -> 40.742818

Sheet Profilés
A1: Type de profilé | B1: Masse | C1: Dimensions | H1: Aire | I1: Inertie | J1: Modules de flexion | L1: Rayon de giration | M1: Aire de cisaillement | N1: Inertie | O1: Modules de flexion | Q1: Rayon de giration | R1: Aire de cisaillement | S1: Inertie de Torsion | T1: Inertie de Gauchissement
B2: G (kg/ml) | C2: h (mm) | D2: b (mm) | E2: tw (mm) | F2: tf (mm) | G2: r (mm) | H2: A (cm2) | I2: Iy (cm4) | J2: Wely (cm3) | K2: Wply (cm3) | L2: iy (cm) | M2: Ayz (cm2) | N2: Iz (cm4) | O2: Welz (cm3) | P2: Wplz (cm3) | Q2: iz (cm) | R2: Azy (cm2) | S2: It (cm4) | T2: Ix (cm6)
B3: IPE
A4: IPE 80 | B4: 6 | C4: 80 | D4: 46 | E4: 3.8 | F4: 5.2 | G4: 5 | H4: 7.64 | I4: 80.14 | J4: 20.03 | K4: 23.22 | L4: 3.24 | M4: 3.58 | N4: 8.48 | O4: 3.69 | P4: 5.82 | Q4: 1.05 | R4: 4.784 | S4: =(0.67*(D4-0.63*F4)*F4^3+0.33*(C4-2*F4)*E4^3+2*(E4/F4)*(0.145+0.1*G4/F4)*(((G4+0.5*E4)^2+(G4+F4)^2-G4^2)/(2*G4+F4))^4)/10000 -> 0.6984049 | T4: =(F4*D4^3*(C4-F4)^2)/24000000 -> 117.99641
A5: IPE 100 | B5: 8.1 | C5: 100 | D5: 55 | E5: 4.1 | F5: 5.7 | G5: 7 | H5: 10.3 | I5: 171 | J5: 34.2 | K5: 39.41 | L5: 4.07 | M5: 5.08 | N5: 15.92 | O5: 5.79 | P5: 9.15 | Q5: 1.24 | R5: 6.27 | S5: =(0.67*(D5-0.63*F5)*F5^3+0.33*(C5-2*F5)*E5^3+2*(E5/F5)*(0.145+0.1*G5/F5)*(((G5+0.5*E5)^2+(G5+F5)^2-G5^2)/(2*G5+F5))^4)/10000 -> 1.2031597 | T5: =(F5*D5^3*(C5-F5)^2)/24000000 -> 351.37841
A6: IPE 120 | B6: 10.4 | C6: 120 | D6: 64 | E6: 4.4 | F6: 6.3 | G6: 7 | H6: 13.2 | I6: 317.8 | J6: 52.96 | K6: 60.73 | L6: 4.9 | M6: 6.31 | N6: 27.67 | O6: 8.65 | P6: 13.58 | Q6: 1.45 | R6: 8.064 | S6: =(0.67*(D6-0.63*F6)*F6^3+0.33*(C6-2*F6)*E6^3+2*(E6/F6)*(0.145+0.1*G6/F6)*(((G6+0.5*E6)^2+(G6+F6)^2-G6^2)/(2*G6+F6))^4)/10000 -> 1.7374184 | T6: =(F6*D6^3*(C6-F6)^2)/24000000 -> 889.59055
A7: IPE 140 | B7: 12.9 | C7: 140 | D7: 73 | E7: 4.7 | F7: 6.9 | G7: 7 | H7: 16.4 | I7: 541.2 | J7: 77.32 | K7: 88.34 | L7: 5.74 | M7: 7.64 | N7: 44.92 | O7: 12.31 | P7: 19.25 | Q7: 1.65 | R7: 10.074 | S7: =(0.67*(D7-0.63*F7)*F7^3+0.33*(C7-2*F7)*E7^3+2*(E7/F7)*(0.145+0.1*G7/F7)*(((G7+0.5*E7)^2+(G7+F7)^2-G7^2)/(2*G7+F7))^4)/10000 -> 2.4499872 | T7: =(F7*D7^3*(C7-F7)^2)/24000000 -> 1981.3561
A8: IPE 160 | B8: 15.8 | C8: 160 | D8: 82 | E8: 5 | F8: 7.4 | G8: 9 | H8: 20.1 | I8: 869.3 | J8: 108.7 | K8: 123.9 | L8: 6.58 | M8: 9.66 | N8: 68.31 | O8: 16.66 | P8: 26.1 | Q8: 1.84 | R8: 12.136 | S8: =(0.67*(D8-0.63*F8)*F8^3+0.33*(C8-2*F8)*E8^3+2*(E8/F8)*(0.145+0.1*G8/F8)*(((G8+0.5*E8)^2+(G8+F8)^2-G8^2)/(2*G8+F8))^4)/10000 -> 3.6087338 | T8: =(F8*D8^3*(C8-F8)^2)/24000000 -> 3958.8687
A9: IPE 180 | B9: 18.8 | C9: 180 | D9: 91 | E9: 5.3 | F9: 8 | G9: 9 | H9: 23.9 | I9: 1317 | J9: 146.3 | K9: 166.4 | L9: 7.42 | M9: 11.25 | N9: 100.9 | O9: 22.16 | P9: 34.6 | Q9: 2.05 | R9: 14.56 | S9: =(0.67*(D9-0.63*F9)*F9^3+0.33*(C9-2*F9)*E9^3+2*(E9/F9)*(0.145+0.1*G9/F9)*(((G9+0.5*E9)^2+(G9+F9)^2-G9^2)/(2*G9+F9))^4)/10000 -> 4.7966474 | T9: =(F9*D9^3*(C9-F9)^2)/24000000 -> 7431.2148
A10: IPE 200 | B10: 22.4 | C10: 200 | D10: 100 | E10: 5.6 | F10: 8.5 | G10: 12 | H10: 28.5 | I10: 1943 | J10: 194.3 | K10: 220.6 | L10: 8.26 | M10: 14 | N10: 142.4 | O10: 28.47 | P10: 44.61 | Q10: 2.24 | R10: 17 | S10: =(0.67*(D10-0.63*F10)*F10^3+0.33*(C10-2*F10)*E10^3+2*(E10/F10)*(0.145+0.1*G10/F10)*(((G10+0.5*E10)^2+(G10+F10)^2-G10^2)/(2*G10+F10))^4)/10000 -> 6.9887822 | T10: =(F10*D10^3*(C10-F10)^2)/24000000 -> 12988.089
A11: IPE 220 | B11: 26.2 | C11: 220 | D11: 110 | E11: 5.9 | F11: 9.2 | G11: 12 | H11: 33.4 | I11: 2772 | J11: 252 | K11: 285.4 | L11: 9.11 | M11: 15.88 | N11: 204.9 | O11: 37.25 | P11: 58.11 | Q11: 2.48 | R11: 20.24 | S11: =(0.67*(D11-0.63*F11)*F11^3+0.33*(C11-2*F11)*E11^3+2*(E11/F11)*(0.145+0.1*G11/F11)*(((G11+0.5*E11)^2+(G11+F11)^2-G11^2)/(2*G11+F11))^4)/10000 -> 9.079003 | T11: =(F11*D11^3*(C11-F11)^2)/24000000 -> 22672.314
A12: IPE 240 | B12: 30.7 | C12: 240 | D12: 120 | E12: 6.2 | F12: 9.8 | G12: 15 | H12: 39.12 | I12: 3892 | J12: 324.3 | K12: 366.6 | L12: 9.97 | M12: 19.14 | N12: 283.6 | O12: 47.27 | P12: 73.92 | Q12: 2.69 | R12: 23.52 | S12: =(0.67*(D12-0.63*F12)*F12^3+0.33*(C12-2*F12)*E12^3+2*(E12/F12)*(0.145+0.1*G12/F12)*(((G12+0.5*E12)^2+(G12+F12)^2-G12^2)/(2*G12+F12))^4)/10000 -> 12.898014 | T12: =(F12*D12^3*(C12-F12)^2)/24000000 -> 37391.183
A13: IPE 270 | B13: 36.1 | C13: 270 | D13: 135 | E13: 6.6 | F13: 10.2 | G13: 15 | H13: 45.94 | I13: 5790 | J13: 428.9 | K13: 484 | L13: 11.23 | M13: 22.14 | N13: 419.9 | O13: 62.2 | P13: 96.95 | Q13: 3.02 | R13: 27.54 | S13: =(0.67*(D13-0.63*F13)*F13^3+0.33*(C13-2*F13)*E13^3+2*(E13/F13)*(0.145+0.1*G13/F13)*(((G13+0.5*E13)^2+(G13+F13)^2-G13^2)/(2*G13+F13))^4)/10000 -> 15.966359 | T13: =(F13*D13^3*(C13-F13)^2)/24000000 -> 70577.867
A14: IPE 300 | B14: 42.2 | C14: 300 | D14: 150 | E14: 7.1 | F14: 10.7 | G14: 15 | H14: 53.81 | I14: 8356 | J14: 557.1 | K14: 628.4 | L14: 12.46 | M14: 25.68 | N14: 603.8 | O14: 80.5 | P14: 125.2 | Q14: 3.35 | R14: 32.1 | S14: =(0.67*(D14-0.63*F14)*F14^3+0.33*(C14-2*F14)*E14^3+2*(E14/F14)*(0.145+0.1*G14/F14)*(((G14+0.5*E14)^2+(G14+F14)^2-G14^2)/(2*G14+F14))^4)/10000 -> 20.143757 | T14: =(F14*D14^3*(C14-F14)^2)/24000000 -> 125934.05
A15: IPE 330 | B15: 49.1 | C15: 330 | D15: 160 | E15: 7.5 | F15: 11.5 | G15: 18 | H15: 62.61 | I15: 11770 | J15: 713.1 | K15: 804.3 | L15: 13.71 | M15: 30.81 | N15: 788.1 | O15: 98.52 | P15: 153.7 | Q15: 3.55 | R15: 36.8 | S15: =(0.67*(D15-0.63*F15)*F15^3+0.33*(C15-2*F15)*E15^3+2*(E15/F15)*(0.145+0.1*G15/F15)*(((G15+0.5*E15)^2+(G15+F15)^2-G15^2)/(2*G15+F15))^4)/10000 -> 28.179559 | T15: =(F15*D15^3*(C15-F15)^2)/24000000 -> 199097.32
... A21: IPE 600 | B21: 122 | C21: 600 | D21: 220 | E21: 12 | F21: 19 | G21: 24 | H21: 156 | I21: 92080 | J21: 3069 | K21: 3512 | L21: 24.3 | M21: 83.78 | N21: 3387 | O21: 307.9 | P21: 485.6 | Q21: 4.66 | R21: 83.6 | S21: =(0.67*(D21-0.63*F21)*F21^3+0.33*(C21-2*F21)*E21^3+2*(E21/F21)*(0.145+0.1*G21/F21)*(((G21+0.5*E21)^2+(G21+F21)^2-G21^2)/(2*G21+F21))^4)/10000 -> 165.56865 | T21: =(F21*D21^3*(C21-F21)^2)/24000000 -> 2845526.7
B22: IPE-A
A23: IPE-A 80 | B23: =7.85*H23*0.1 -> 5.0046904 | C23: 78 | D23: 46 | E23: 3.3 | F23: 4.2 | G23: 5 | H23: =((C23-2*F23)*E23+2*D23*F23+(2*G23)^2-PI()*G23^2)*0.01 -> 6.3754018 | I23: =0.0001*(C23^3*E23/12+(D23-F23)*F23*(C23-F23)^2/2+F23^3*(D23-E23)/6+G23^2*(4-PI())*(0.5*C23-F23-G23*(1-2/(12-3*PI())))^2+4*G23^4*(1/3-PI()/16-1/(9*(4-PI())))) -> 63.348419 | J23: =I23/(C23*0.5*0.1) -> 16.243184 | K23: =((E23*C23^2)/4+(D23-E23)*(C23-F23)*F23+((C23-2*F23)*(4-PI())*G23^2/2)+((3*PI()-10)*3)/3)*0.001 -> 19.000831 | L23: =SQRT(I23/H23) -> 3.1522025 | M23: =H23-(2*D23*F23-(E23+2*G23)*F23)*0.01 -> 3.0700018 | N23: =0.0001*(C23*E23^3/12+(D23-F23)*F23*(D23+F23)^2/8+F23*(D23-E23)^3/24+G23^2*(4-PI())*(0.5*E23-G23*(1-2/(12-3*PI())))^2+4*G23^4*(1/3-PI()/16-1/(9*(4-PI())))) -> 6.9185366 | O23: =N23/(D23*0.5*0.1) -> 3.0080594 | P23: =0.001*(D23^2*F23/2+((C23-2*F23)*E23^2)/4+G23^3*(10/3-PI())+(2-PI()/2)*E23*G23^2) -> 4.6924629 | Q23: =SQRT(N23/H23) -> 1.0417256 | R23: =0.01*2*D23*E23 -> 3.036 | S23: =(0.67*(D23-0.63*F23)*F23^3+0.33*(C23-2*F23)*E23^3+2*(E23/F23)*(0.145+0.1*G23/F23)*(((G23+0.5*E23)^2+(G23+F23)^2-G23^2)/(2*G23+F23))^4)/10000 -> 0.41650168 | T23: =(F23*D23^3*(C23-F23)^2)/24000000 -> 92.77357
A24: IPE-A 100 | B24: =7.85*H24*0.1 -> 6.8924724 | C24: 98 | D24: 55 | E24: 3.6 | F24: 4.7 | G24: 7 | H24: =((C24-2*F24)*E24+2*D24*F24+(2*G24)^2-PI()*G24^2)*0.01 -> 8.7802196 | I24: =0.0001*(C24^3*E24/12+(D24-F24)*F24*(C24-F24)^2/2+F24^3*(D24-E24)/6+G24^2*(4-PI())*(0.5*C24-F24-G24*(1-2/(12-3*PI())))^2+4*G24^4*(1/3-PI()/16-1/(9*(4-PI())))) -> 138.9103 | J24: =I24/(C24*0.5*0.1) -> 28.349042 | K24: =((E24*C24^2)/4+(D24-E24)*(C24-F24)*F24+((C24-2*F24)*(4-PI())*G24^2/2)+((3*PI()-10)*3)/3)*0.001 -> 33.045784 | L24: =SQRT(I24/H24) -> 3.9775399 | M24: =H24-(2*D24*F24-(E24+2*G24)*F24)*0.01 -> 4.4374196 | N24: =0.0001*(C24*E24^3/12+(D24-F24)*F24*(D24+F24)^2/8+F24*(D24-E24)^3/24+G24^2*(4-PI())*(0.5*E24-G24*(1-2/(12-3*PI())))^2+4*G24^4*(1/3-PI()/16-1/(9*(4-PI())))) -> 13.237268 | O24: =N24/(D24*0.5*0.1) -> 4.8135521 | P24: =0.001*(D24^2*F24/2+((C24-2*F24)*E24^2)/4+G24^3*(10/3-PI())+(2-PI()/2)*E24*G24^2) -> 7.5372926 | Q24: =SQRT(N24/H24) -> 1.2278533 | R24: =0.01*2*D24*E24 -> 3.96 | S24: =(0.67*(D24-0.63*F24)*F24^3+0.33*(C24-2*F24)*E24^3+2*(E24/F24)*(0.145+0.1*G24/F24)*(((G24+0.5*E24)^2+(G24+F24)^2-G24^2)/(2*G24+F24))^4)/10000 -> 0.77352707 | T24: =(F24*D24^3*(C24-F24)^2)/24000000 -> 283.62073
A25: IPE-A 120 | B25: =7.85*H25*0.1 -> 8.6584084 | C25: 117.6 | D25: 64 | E25: 3.8 | F25: 5.1 | G25: 7 | H25: =((C25-2*F25)*E25+2*D25*F25+(2*G25)^2-PI()*G25^2)*0.01 -> 11.02982 | I25: =0.0001*(C25^3*E25/12+(D25-F25)*F25*(C25-F25)^2/2+F25^3*(D25-E25)/6+G25^2*(4-PI())*(0.5*C25-F25-G25*(1-2/(12-3*PI())))^2+4*G25^4*(1/3-PI()/16-1/(9*(4-PI())))) -> 253.16622 | J25: =I25/(C25*0.5*0.1) -> 43.05548 | K25: =((E25*C25^2)/4+(D25-E25)*(C25-F25)*F25+((C25-2*F25)*(4-PI())*G25^2/2)+((3*PI()-10)*3)/3)*0.001 -> 49.936174 | L25: =SQRT(I25/H25) -> 4.7909173 | M25: =H25-(2*D25*F25-(E25+2*G25)*F25)*0.01 -> 5.4096196 | N25: =0.0001*(C25*E25^3/12+(D25-F25)*F25*(D25+F25)^2/8+F25*(D25-E25)^3/24+G25^2*(4-PI())*(0.5*E25-G25*(1-2/(12-3*PI())))^2+4*G25^4*(1/3-PI()/16-1/(9*(4-PI())))) -> 22.626365 | O25: =N25/(D25*0.5*0.1) -> 7.070739 | P25: =0.001*(D25^2*F25/2+((C25-2*F25)*E25^2)/4+G25^3*(10/3-PI())+(2-PI()/2)*E25*G25^2) -> 10.978199 | Q25: =SQRT(N25/H25) -> 1.4322644 | R25: =0.01*2*D25*E25 -> 4.864 | S25: =(0.67*(D25-0.63*F25)*F25^3+0.33*(C25-2*F25)*E25^3+2*(E25/F25)*(0.145+0.1*G25/F25)*(((G25+0.5*E25)^2+(G25+F25)^2-G25^2)/(2*G25+F25))^4)/10000 -> 1.0422755 | T25: =(F25*D25^3*(C25-F25)^2)/24000000 -> 705.024
A26: IPE-A 140 | B26: =7.85*H26*0.1 -> 10.512892 | C26: 137.4 | D26: 73 | E26: 3.8 | F26: 5.6 | G26: 7 | H26: =((C26-2*F26)*E26+2*D26*F26+(2*G26)^2-PI()*G26^2)*0.01 -> 13.39222 | I26: =0.0001*(C26^3*E26/12+(D26-F26)*F26*(C26-F26)^2/2+F26^3*(D26-E26)/6+G26^2*(4-PI())*(0.5*C26-F26-G26*(1-2/(12-3*PI())))^2+4*G26^4*(1/3-PI()/16-1/(9*(4-PI())))) -> 426.10905 | J26: =I26/(C26*0.5*0.1) -> 62.024607 | K26: =((E26*C26^2)/4+(D26-E26)*(C26-F26)*F26+((C26-2*F26)*(4-PI())*G26^2/2)+((3*PI()-10)*3)/3)*0.001 -> 71.663492 | L26: =SQRT(I26/H26) -> 5.6407142 | M26: =H26-(2*D26*F26-(E26+2*G26)*F26)*0.01 -> 6.2130196 | N26: =0.0001*(C26*E26^3/12+(D26-F26)*F26*(D26+F26)^2/8+F26*(D26-E26)^3/24+G26^2*(4-PI())*(0.5*E26-G26*(1-2/(12-3*PI())))^2+4*G26^4*(1/3-PI()/16-1/(9*(4-PI())))) -> 36.950223 | O26: =N26/(D26*0.5*0.1) -> 10.123349 | P26: =0.001*(D26^2*F26/2+((C26-2*F26)*E26^2)/4+G26^3*(10/3-PI())+(2-PI()/2)*E26*G26^2) -> 15.522467 | Q26: =SQRT(N26/H26) -> 1.6610483 | R26: =0.01*2*D26*E26 -> 5.548 | S26: =(0.67*(D26-0.63*F26)*F26^3+0.33*(C26-2*F26)*E26^3+2*(E26/F26)*(0.145+0.1*G26/F26)*(((G26+0.5*E26)^2+(G26+F26)^2-G26^2)/(2*G26+F26))^4)/10000 -> 1.362565 | T26: =(F26*D26^3*(C26-F26)^2)/24000000 -> 1576.7985
A27: IPE-A 160 | B27: =7.85*H27*0.1 -> 12.700758 | C27: 157 | D27: 82 | E27: 4 | F27: 5.9 | G27: 9 | H27: =((C27-2*F27)*E27+2*D27*F27+(2*G27)^2-PI()*G27^2)*0.01 -> 16.17931 | I27: =0.0001*(C27^3*E27/12+(D27-F27)*F27*(C27-F27)^2/2+F27^3*(D27-E27)/6+G27^2*(4-PI())*(0.5*C27-F27-G27*(1-2/(12-3*PI())))^2+4*G27^4*(1/3-PI()/16-1/(9*(4-PI())))) -> 676.4791 | J27: =I27/(C27*0.5*0.1) -> 86.175682 | K27: =((E27*C27^2)/4+(D27-E27)*(C27-F27)*F27+((C27-2*F27)*(4-PI())*G27^2/2)+((3*PI()-10)*3)/3)*0.001 -> 99.232595 | L27: =SQRT(I27/H27) -> 6.4661712 | M27: =H27-(2*D27*F27-(E27+2*G27)*F27)*0.01 -> 7.80131 | N27: =0.0001*(C27*E27^3/12+(D27-F27)*F27*(D27+F27)^2/8+F27*(D27-E27)^3/24+G27^2*(4-PI())*(0.5*E27-G27*(1-2/(12-3*PI())))^2+4*G27^4*(1/3-PI()/16-1/(9*(4-PI())))) -> 55.133116 | O27: =N27/(D27*0.5*0.1) -> 13.447101 | P27: =0.001*(D27^2*F27/2+((C27-2*F27)*E27^2)/4+G27^3*(10/3-PI())+(2-PI()/2)*E27*G27^2) -> 20.695441 | Q27: =SQRT(N27/H27) -> 1.8459769 | R27: =0.01*2*D27*E27 -> 6.56 | S27: =(0.67*(D27-0.63*F27)*F27^3+0.33*(C27-2*F27)*E27^3+2*(E27/F27)*(0.145+0.1*G27/F27)*(((G27+0.5*E27)^2+(G27+F27)^2-G27^2)/(2*G27+F27))^4)/10000 -> 1.9665963 | T27: =(F27*D27^3*(C27-F27)^2)/24000000 -> 3094.648
A28: IPE-A 180 | B28: =7.85*H28*0.1 -> 15.368188 | C28: 177 | D28: 91 | E28: 4.3 | F28: 6.5 | G28: 9 | H28: =((C28-2*F28)*E28+2*D28*F28+(2*G28)^2-PI()*G28^2)*0.01 -> 19.57731 | I28: =0.0001*(C28^3*E28/12+(D28-F28)*F28*(C28-F28)^2/2+F28^3*(D28-E28)/6+G28^2*(4-PI())*(0.5*C28-F28-G28*(1-2/(12-3*PI())))^2+4*G28^4*(1/3-PI()/16-1/(9*(4-PI())))) -> 1041.9509 | J28: =I28/(C28*0.5*0.1) -> 117.73457 | K28: =((E28*C28^2)/4+(D28-E28)*(C28-F28)*F28+((C28-2*F28)*(4-PI())*G28^2/2)+((3*PI()-10)*3)/3)*0.001 -> 135.46492 | L28: =SQRT(I28/H28) -> 7.2953667 | M28: =H28-(2*D28*F28-(E28+2*G28)*F28)*0.01 -> 9.19681 | N28: =0.0001*(C28*E28^3/12+(D28-F28)*F28*(D28+F28)^2/8+F28*(D28-E28)^3/24+G28^2*(4-PI())*(0.5*E28-G28*(1-2/(12-3*PI())))^2+4*G28^4*(1/3-PI()/16-1/(9*(4-PI())))) -> 83.054155 | O28: =N28/(D28*0.5*0.1) -> 18.25366 | P28: =0.001*(D28^2*F28/2+((C28-2*F28)*E28^2)/4+G28^3*(10/3-PI())+(2-PI()/2)*E28*G28^2) -> 27.960611 | Q28: =SQRT(N28/H28) -> 2.059701 | R28: =0.01*2*D28*E28 -> 7.826 | S28: =(0.67*(D28-0.63*F28)*F28^3+0.33*(C28-2*F28)*E28^3+2*(E28/F28)*(0.145+0.1*G28/F28)*(((G28+0.5*E28)^2+(G28+F28)^2-G28^2)/(2*G28+F28))^4)/10000 -> 2.7024202 | T28: =(F28*D28^3*(C28-F28)^2)/24000000 -> 5933.0097
A29: IPE-A 200 | B29: =7.85*H29*0.1 -> 18.424819 | C29: 197 | D29: 100 | E29: 4.5 | F29: 7 | G29: 12 | H29: =((C29-2*F29)*E29+2*D29*F29+(2*G29)^2-PI()*G29^2)*0.01 -> 23.471107 | I29: =0.0001*(C29^3*E29/12+(D29-F29)*F29*(C29-F29)^2/2+F29^3*(D29-E29)/6+G29^2*(4-PI())*(0.5*C29-F29-G29*(1-2/(12-3*PI())))^2+4*G29^4*(1/3-PI()/16-1/(9*(4-PI())))) -> 1559.8805 | J29: =I29/(C29*0.5*0.1) -> 158.3635 | K29: =((E29*C29^2)/4+(D29-E29)*(C29-F29)*F29+((C29-2*F29)*(4-PI())*G29^2/2)+((3*PI()-10)*3)/3)*0.001 -> 181.98492 | L29: =SQRT(I29/H29) -> 8.152276 | M29: =H29-(2*D29*F29-(E29+2*G29)*F29)*0.01 -> 11.466107 | N29: =0.0001*(C29*E29^3/12+(D29-F29)*F29*(D29+F29)^2/8+F29*(D29-E29)^3/24+G29^2*(4-PI())*(0.5*E29-G29*(1-2/(12-3*PI())))^2+4*G29^4*(1/3-PI()/16-1/(9*(4-PI())))) -> 118.7844 | O29: =N29/(D29*0.5*0.1) -> 23.756881 | P29: =0.001*(D29^2*F29/2+((C29-2*F29)*E29^2)/4+G29^3*(10/3-PI())+(2-PI()/2)*E29*G29^2) -> 36.535889 | Q29: =SQRT(N29/H29) -> 2.2496395 | R29: =0.01*2*D29*E29 -> 9 | S29: =(0.67*(D29-0.63*F29)*F29^3+0.33*(C29-2*F29)*E29^3+2*(E29/F29)*(0.145+0.1*G29/F29)*(((G29+0.5*E29)^2+(G29+F29)^2-G29^2)/(2*G29+F29))^4)/10000 -> 4.1186626 | T29: =(F29*D29^3*(C29-F29)^2)/24000000 -> 10529.167
A30: IPE-A 220 | B30: =7.85*H30*0.1 -> 22.181044 | C30: 217 | D30: 110 | E30: 5 | F30: 7.7 | G30: 12 | H30: =((C30-2*F30)*E30+2*D30*F30+(2*G30)^2-PI()*G30^2)*0.01 -> 28.256107 | I30: =0.0001*(C30^3*E30/12+(D30-F30)*F30*(C30-F30)^2/2+F30^3*(D30-E30)/6+G30^2*(4-PI())*(0.5*C30-F30-G30*(1-2/(12-3*PI())))^2+4*G30^4*(1/3-PI()/16-1/(9*(4-PI())))) -> 2270.9706 | J30: =I30/(C30*0.5*0.1) -> 209.30605 | K30: =((E30*C30^2)/4+(D30-E30)*(C30-F30)*F30+((C30-2*F30)*(4-PI())*G30^2/2)+((3*PI()-10)*3)/3)*0.001 -> 240.53968 | L30: =SQRT(I30/H30) -> 8.9649857 | M30: =H30-(2*D30*F30-(E30+2*G30)*F30)*0.01 -> 13.549107 | N30: =0.0001*(C30*E30^3/12+(D30-F30)*F30*(D30+F30)^2/8+F30*(D30-E30)^3/24+G30^2*(4-PI())*(0.5*E30-G30*(1-2/(12-3*PI())))^2+4*G30^4*(1/3-PI()/16-1/(9*(4-PI())))) -> 173.83418 | O30: =N30/(D30*0.5*0.1) -> 31.606215 | P30: =0.001*(D30^2*F30/2+((C30-2*F30)*E30^2)/4+G30^3*(10/3-PI())+(2-PI()/2)*E30*G30^2) -> 48.485355 | Q30: =SQRT(N30/H30) -> 2.4803412 | R30: =0.01*2*D30*E30 -> 11 | S30: =(0.67*(D30-0.63*F30)*F30^3+0.33*(C30-2*F30)*E30^3+2*(E30/F30)*(0.145+0.1*G30/F30)*(((G30+0.5*E30)^2+(G30+F30)^2-G30^2)/(2*G30+F30))^4)/10000 -> 5.6965523 | T30: =(F30*D30^3*(C30-F30)^2)/24000000 -> 18706.649
A31: IPE-A 240 | B31: =7.85*H31*0.1 -> 26.15009 | C31: 237 | D31: 120 | E31: 5.2 | F31: 8.3 | G31: 15 | H31: =((C31-2*F31)*E31+2*D31*F31+(2*G31)^2-PI()*G31^2)*0.01 -> 33.312217 | I31: =0.0001*(C31^3*E31/12+(D31-F31)*F31*(C31-F31)^2/2+F31^3*(D31-E31)/6+G31^2*(4-PI())*(0.5*C31-F31-G31*(1-2/(12-3*PI())))^2+4*G31^4*(1/3-PI()/16-1/(9*(4-PI())))) -> 3223.1723 | J31: =I31/(C31*0.5*0.1) -> 271.99766 | K31: =((E31*C31^2)/4+(D31-E31)*(C31-F31)*F31+((C31-2*F31)*(4-PI())*G31^2/2)+((3*PI()-10)*3)/3)*0.001 -> 312.21784 | L31: =SQRT(I31/H31) -> 9.8364864 | M31: =H31-(2*D31*F31-(E31+2*G31)*F31)*0.01 -> 16.313817 | N31: =0.0001*(C31*E31^3/12+(D31-F31)*F31*(D31+F31)^2/8+F31*(D31-E31)^3/24+G31^2*(4-PI())*(0.5*E31-G31*(1-2/(12-3*PI())))^2+4*G31^4*(1/3-PI()/16-1/(9*(4-PI())))) -> 243.52755 | O31: =N31/(D31*0.5*0.1) -> 40.587925 | P31: =0.001*(D31^2*F31/2+((C31-2*F31)*E31^2)/4+G31^3*(10/3-PI())+(2-PI()/2)*E31*G31^2) -> 62.399197 | Q31: =SQRT(N31/H31) -> 2.7037858 | R31: =0.01*2*D31*E31 -> 12.48 | S31: =(0.67*(D31-0.63*F31)*F31^3+0.33*(C31-2*F31)*E31^3+2*(E31/F31)*(0.145+0.1*G31/F31)*(((G31+0.5*E31)^2+(G31+F31)^2-G31^2)/(2*G31+F31))^4)/10000 -> 8.3631145 | T31: =(F31*D31^3*(C31-F31)^2)/24000000 -> 31256.685
A32: IPE-A 270 | B32: =7.85*H32*0.1 -> 30.732292 | C32: 267 | D32: 135 | E32: 5.5 | F32: 8.7 | G32: 15 | H32: =((C32-2*F32)*E32+2*D32*F32+(2*G32)^2-PI()*G32^2)*0.01 -> 39.149417 | I32: =0.0001*(C32^3*E32/12+(D32-F32)*F32*(C32-F32)^2/2+F32^3*(D32-E32)/6+G32^2*(4-PI())*(0.5*C32-F32-G32*(1-2/(12-3*PI())))^2+4*G32^4*(1/3-PI()/16-1/(9*(4-PI())))) -> 4824.4259 | J32: =I32/(C32*0.5*0.1) -> 361.38021 | K32: =((E32*C32^2)/4+(D32-E32)*(C32-F32)*F32+((C32-2*F32)*(4-PI())*G32^2/2)+((3*PI()-10)*3)/3)*0.001 -> 413.13957 | L32: =SQRT(I32/H32) -> 11.100951 | M32: =H32-(2*D32*F32-(E32+2*G32)*F32)*0.01 -> 18.747917 | N32: =0.0001*(C32*E32^3/12+(D32-F32)*F32*(D32+F32)^2/8+F32*(D32-E32)^3/24+G32^2*(4-PI())*(0.5*E32-G32*(1-2/(12-3*PI())))^2+4*G32^4*(1/3-PI()/16-1/(9*(4-PI())))) -> 362.88185 | O32: =N32/(D32*0.5*0.1) -> 53.760275 | P32: =0.001*(D32^2*F32/2+((C32-2*F32)*E32^2)/4+G32^3*(10/3-PI())+(2-PI()/2)*E32*G32^2) -> 82.344614 | Q32: =SQRT(N32/H32) -> 3.044528 | R32: =0.01*2*D32*E32 -> 14.85 | S32: =(0.67*(D32-0.63*F32)*F32^3+0.33*(C32-2*F32)*E32^3+2*(E32/F32)*(0.145+0.1*G32/F32)*(((G32+0.5*E32)^2+(G32+F32)^2-G32^2)/(2*G32+F32))^4)/10000 -> 10.313129 | T32: =(F32*D32^3*(C32-F32)^2)/24000000 -> 59505.64
A33: IPE-A 300 | B33: =7.85*H33*0.1 -> 36.522923 | C33: 297 | D33: 150 | E33: 6.1 | F33: 9.2 | G33: 15 | H33: =((C33-2*F33)*E33+2*D33*F33+(2*G33)^2-PI()*G33^2)*0.01 -> 46.526017 | I33: =0.0001*(C33^3*E33/12+(D33-F33)*F33*(C33-F33)^2/2+F33^3*(D33-E33)/6+G33^2*(4-PI())*(0.5*C33-F33-G33*(1-2/(12-3*PI())))^2+4*G33^4*(1/3-PI()/16-1/(9*(4-PI())))) -> 7055.3835 | J33: =I33/(C33*0.5*0.1) -> 475.11 | K33: =((E33*C33^2)/4+(D33-E33)*(C33-F33)*F33+((C33-2*F33)*(4-PI())*G33^2/2)+((3*PI()-10)*3)/3)*0.001 -> 542.43545 | L33: =SQRT(I33/H33) -> 12.314375 | M33: =H33-(2*D33*F33-(E33+2*G33)*F33)*0.01 -> 22.247217 | N33: =0.0001*(C33*E33^3/12+(D33-F33)*F33*(D33+F33)^2/8+F33*(D33-E33)^3/24+G33^2*(4-PI())*(0.5*E33-G33*(1-2/(12-3*PI())))^2+4*G33^4*(1/3-PI()/16-1/(9*(4-PI())))) -> 525.32114 | O33: =N33/(D33*0.5*0.1) -> 70.042819 | P33: =0.001*(D33^2*F33/2+((C33-2*F33)*E33^2)/4+G33^3*(10/3-PI())+(2-PI()/2)*E33*G33^2) -> 107.32788 | Q33: =SQRT(N33/H33) -> 3.3601952 | R33: =0.01*2*D33*E33 -> 18.3 | S33: =(0.67*(D33-0.63*F33)*F33^3+0.33*(C33-2*F33)*E33^3+2*(E33/F33)*(0.145+0.1*G33/F33)*(((G33+0.5*E33)^2+(G33+F33)^2-G33^2)/(2*G33+F33))^4)/10000 -> 13.45135 | T33: =(F33*D33^3*(C33-F33)^2)/24000000 -> 107159.81
A34: IPE-A 330 | B34: =7.85*H34*0.1 -> 42.967948 | C34: 327 | D34: 160 | E34: 6.5 | F34: 10 | G34: 18 | H34: =((C34-2*F34)*E34+2*D34*F34+(2*G34)^2-PI()*G34^2)*0.01 -> 54.73624 | I34: =0.0001*(C34^3*E34/12+(D34-F34)*F34*(C34-F34)^2/2+F34^3*(D34-E34)/6+G34^2*(4-PI())*(0.5*C34-F34-G34*(1-2/(12-3*PI())))^2+4*G34^4*(1/3-PI()/16-1/(9*(4-PI())))) -> 10054.973 | J34: =I34/(C34*0.5*0.1) -> 614.98304 | K34: =((E34*C34^2)/4+(D34-E34)*(C34-F34)*F34+((C34-2*F34)*(4-PI())*G34^2/2)+((3*PI()-10)*3)/3)*0.001 -> 703.04608 | L34: =SQRT(I34/H34) -> 13.553547 | M34: =H34-(2*D34*F34-(E34+2*G34)*F34)*0.01 -> 26.98624 | N34: =0.0001*(C34*E34^3/12+(D34-F34)*F34*(D34+F34)^2/8+F34*(D34-E34)^3/24+G34^2*(4-PI())*(0.5*E34-G34*(1-2/(12-3*PI())))^2+4*G34^4*(1/3-PI()/16-1/(9*(4-PI())))) -> 693.65692 | O34: =N34/(D34*0.5*0.1) -> 86.707115 | P34: =0.001*(D34^2*F34/2+((C34-2*F34)*E34^2)/4+G34^3*(10/3-PI())+(2-PI()/2)*E34*G34^2) -> 133.26482 | Q34: =SQRT(N34/H34) -> 3.5598761 | R34: =0.01*2*D34*E34 -> 20.8 | S34: =(0.67*(D34-0.63*F34)*F34^3+0.33*(C34-2*F34)*E34^3+2*(E34/F34)*(0.145+0.1*G34/F34)*(((G34+0.5*E34)^2+(G34+F34)^2-G34^2)/(2*G34+F34))^4)/10000 -> 19.595527 | T34: =(F34*D34^3*(C34-F34)^2)/24000000 -> 171501.23
... A40: IPE-A 600 | B40: =7.85*H40*0.1 -> 107.56103 | C40: 597 | D40: 220 | E40: 9.8 | F40: 17.5 | G40: 24 | H40: =((C40-2*F40)*E40+2*D40*F40+(2*G40)^2-PI()*G40^2)*0.01 -> 137.02043 | I40: =0.0001*(C40^3*E40/12+(D40-F40)*F40*(C40-F40)^2/2+F40^3*(D40-E40)/6+G40^2*(4-PI())*(0.5*C40-F40-G40*(1-2/(12-3*PI())))^2+4*G40^4*(1/3-PI()/16-1/(9*(4-PI())))) -> 80656.273 | J40: =I40/(C40*0.5*0.1) -> 2702.0527 | K40: =((E40*C40^2)/4+(D40-E40)*(C40-F40)*F40+((C40-2*F40)*(4-PI())*G40^2/2)+((3*PI()-10)*3)/3)*0.001 -> 3143.8306 | L40: =SQRT(I40/H40) -> 24.26199 | M40: =H40-(2*D40*F40-(E40+2*G40)*F40)*0.01 -> 70.135426 | N40: =0.0001*(C40*E40^3/12+(D40-F40)*F40*(D40+F40)^2/8+F40*(D40-E40)^3/24+G40^2*(4-PI())*(0.5*E40-G40*(1-2/(12-3*PI())))^2+4*G40^4*(1/3-PI()/16-1/(9*(4-PI())))) -> 3181.5273 | O40: =N40/(D40*0.5*0.1) -> 289.22976 | P40: =0.001*(D40^2*F40/2+((C40-2*F40)*E40^2)/4+G40^3*(10/3-PI())+(2-PI()/2)*E40*G40^2) -> 442.06701 | Q40: =SQRT(N40/H40) -> 4.8186476 | R40: =0.01*2*D40*E40 -> 43.12 | S40: =(0.67*(D40-0.63*F40)*F40^3+0.33*(C40-2*F40)*E40^3+2*(E40/F40)*(0.145+0.1*G40/F40)*(((G40+0.5*E40)^2+(G40+F40)^2-G40^2)/(2*G40+F40))^4)/10000 -> 118.95816 | T40: =(F40*D40^3*(C40-F40)^2)/24000000 -> 2607364.4
B41: IPN
A42: IPN 80 | B42: 5.94 | C42: 80 | D42: 42 | E42: 3.9 | F42: 5.9 | G42: 3.9 | H42: 7.58 | I42: 77.8 | J42: 19.5 | K42: 22.8 | L42: 3.2 | M42: 3.41 | N42: 6.29 | O42: 3 | P42: 5 | Q42: 0.91 | R42: 4.956 | S42: =(0.67*(D42-0.63*F42)*F42^3+0.33*(C42-2*F42)*E42^3+2*(E42/F42)*(0.145+0.1*G42/F42)*(((G42+0.5*E42)^2+(G42+F42)^2-G42^2)/(2*G42+F42))^4)/10000 -> 0.79910743 | T42: =(F42*D42^3*(C42-F42)^2)/24000000 -> 100.00577
A43: IPN 100 | B43: 8.34 | C43: 100 | D43: 50 | E43: 4.5 | F43: 6.8 | G43: 4.5 | H43: 10.6 | I43: 171 | J43: 34.2 | K43: 39.8 | L43: 4.01 | M43: 4.85 | N43: 12.2 | O43: 4.88 | P43: 8.1 | Q43: 1.07 | R43: 6.8 | S43: =(0.67*(D43-0.63*F43)*F43^3+0.33*(C43-2*F43)*E43^3+2*(E43/F43)*(0.145+0.1*G43/F43)*(((G43+0.5*E43)^2+(G43+F43)^2-G43^2)/(2*G43+F43))^4)/10000 -> 1.4686911 | T43: =(F43*D43^3*(C43-F43)^2)/24000000 -> 307.63767
A44: IPN 120 | B44: 11.1 | C44: 120 | D44: 58 | E44: 5.1 | F44: 7.7 | G44: 5.1 | H44: 14.2 | I44: 328 | J44: 54.7 | K44: 63.6 | L44: 4.81 | M44: 6.63 | N44: 21.5 | O44: 7.41 | P44: 12.4 | Q44: 1.23 | R44: 8.932 | S44: =(0.67*(D44-0.63*F44)*F44^3+0.33*(C44-2*F44)*E44^3+2*(E44/F44)*(0.145+0.1*G44/F44)*(((G44+0.5*E44)^2+(G44+F44)^2-G44^2)/(2*G44+F44))^4)/10000 -> 2.4887322 | T44: =(F44*D44^3*(C44-F44)^2)/24000000 -> 789.447
A45: IPN 140 | B45: 14.3 | C45: 140 | D45: 66 | E45: 5.7 | F45: 8.6 | G45: 5.7 | H45: 18.3 | I45: 573 | J45: 81.9 | K45: 95.4 | L45: 5.61 | M45: 8.65 | N45: 35.2 | O45: 10.7 | P45: 17.9 | Q45: 1.4 | R45: 11.352 | S45: =(0.67*(D45-0.63*F45)*F45^3+0.33*(C45-2*F45)*E45^3+2*(E45/F45)*(0.145+0.1*G45/F45)*(((G45+0.5*E45)^2+(G45+F45)^2-G45^2)/(2*G45+F45))^4)/10000 -> 3.963957 | T45: =(F45*D45^3*(C45-F45)^2)/24000000 -> 1778.7288
A46: IPN 160 | B46: 17.9 | C46: 160 | D46: 74 | E46: 6.3 | F46: 9.5 | G46: 6.3 | H46: 22.8 | I46: 935 | J46: 117 | K46: 136 | L46: 6.4 | M46: 10.83 | N46: 54.7 | O46: 14.8 | P46: 24.9 | Q46: 1.55 | R46: 14.06 | S46: =(0.67*(D46-0.63*F46)*F46^3+0.33*(C46-2*F46)*E46^3+2*(E46/F46)*(0.145+0.1*G46/F46)*(((G46+0.5*E46)^2+(G46+F46)^2-G46^2)/(2*G46+F46))^4)/10000 -> 6.0127696 | T46: =(F46*D46^3*(C46-F46)^2)/24000000 -> 3633.1265
A47: IPN 180 | B47: 21.9 | C47: 180 | D47: 82 | E47: 6.9 | F47: 10.4 | G47: 6.9 | H47: 27.9 | I47: 1450 | J47: 161 | K47: 187 | L47: 7.2 | M47: 13.35 | N47: 81.3 | O47: 19.8 | P47: 33.2 | Q47: 1.71 | R47: 17.056 | S47: =(0.67*(D47-0.63*F47)*F47^3+0.33*(C47-2*F47)*E47^3+2*(E47/F47)*(0.145+0.1*G47/F47)*(((G47+0.5*E47)^2+(G47+F47)^2-G47^2)/(2*G47+F47))^4)/10000 -> 8.7672513 | T47: =(F47*D47^3*(C47-F47)^2)/24000000 -> 6872.5095
A48: IPN 200 | B48: 26.2 | C48: 200 | D48: 90 | E48: 7.5 | F48: 11.3 | G48: 7.5 | H48: 33.4 | I48: 2140 | J48: 214 | K48: 250 | L48: 8 | M48: 16.03 | N48: 117 | O48: 26 | P48: 43.5 | Q48: 1.87 | R48: 20.34 | S48: =(0.67*(D48-0.63*F48)*F48^3+0.33*(C48-2*F48)*E48^3+2*(E48/F48)*(0.145+0.1*G48/F48)*(((G48+0.5*E48)^2+(G48+F48)^2-G48^2)/(2*G48+F48))^4)/10000 -> 12.373161 | T48: =(F48*D48^3*(C48-F48)^2)/24000000 -> 12221.894
A49: IPN 220 | B49: 31.1 | C49: 220 | D49: 98 | E49: 8.1 | F49: 12.2 | G49: 8.1 | H49: 39.5 | I49: 3060 | J49: 278 | K49: 324 | L49: 8.8 | M49: 19.06 | N49: 162 | O49: 33.1 | P49: 55.7 | Q49: 2.02 | R49: 23.912 | S49: =(0.67*(D49-0.63*F49)*F49^3+0.33*(C49-2*F49)*E49^3+2*(E49/F49)*(0.145+0.1*G49/F49)*(((G49+0.5*E49)^2+(G49+F49)^2-G49^2)/(2*G49+F49))^4)/10000 -> 16.989936 | T49: =(F49*D49^3*(C49-F49)^2)/24000000 -> 20659.409
A50: IPN 240 | B50: 36.2 | C50: 240 | D50: 106 | E50: 8.7 | F50: 13.1 | G50: 8.7 | H50: 46.1 | I50: 4250 | J50: 354 | K50: 412 | L50: 9.59 | M50: 22.33 | N50: 221 | O50: 41.7 | P50: 70 | Q50: 2.2 | R50: 27.772 | S50: =(0.67*(D50-0.63*F50)*F50^3+0.33*(C50-2*F50)*E50^3+2*(E50/F50)*(0.145+0.1*G50/F50)*(((G50+0.5*E50)^2+(G50+F50)^2-G50^2)/(2*G50+F50))^4)/10000 -> 22.790691 | T50: =(F50*D50^3*(C50-F50)^2)/24000000 -> 33469.301
A51: IPN 260 | B51: 41.9 | C51: 260 | D51: 113 | E51: 9.4 | F51: 14.1 | G51: 9.4 | H51: 53.3 | I51: 5740 | J51: 442 | K51: 514 | L51: 10.4 | M51: 26.08 | N51: 288 | O51: 51 | P51: 85.9 | Q51: 2.32 | R51: 31.866 | S51: =(0.67*(D51-0.63*F51)*F51^3+0.33*(C51-2*F51)*E51^3+2*(E51/F51)*(0.145+0.1*G51/F51)*(((G51+0.5*E51)^2+(G51+F51)^2-G51^2)/(2*G51+F51))^4)/10000 -> 30.554248 | T51: =(F51*D51^3*(C51-F51)^2)/24000000 -> 51257.835
A52: IPN 280 | B52: 47.9 | C52: 280 | D52: 119 | E52: 10.1 | F52: 15.2 | G52: 10.1 | H52: 61 | I52: 7590 | J52: 542 | K52: 632 | L52: 11.1 | M52: 30.18 | N52: 364 | O52: 61.2 | P52: 103 | Q52: 2.45 | R52: 36.176 | S52: =(0.67*(D52-0.63*F52)*F52^3+0.33*(C52-2*F52)*E52^3+2*(E52/F52)*(0.145+0.1*G52/F52)*(((G52+0.5*E52)^2+(G52+F52)^2-G52^2)/(2*G52+F52))^4)/10000 -> 40.445039 | T52: =(F52*D52^3*(C52-F52)^2)/24000000 -> 74835.763
A53: IPN 300 | B53: 54.2 | C53: 300 | D53: 125 | E53: 10.8 | F53: 16.2 | G53: 10.8 | H53: 69 | I53: 9800 | J53: 653 | K53: 762 | L53: 11.9 | M53: 34.58 | N53: 451 | O53: 72.2 | P53: 121 | Q53: 2.56 | R53: 40.5 | S53: =(0.67*(D53-0.63*F53)*F53^3+0.33*(C53-2*F53)*E53^3+2*(E53/F53)*(0.145+0.1*G53/F53)*(((G53+0.5*E53)^2+(G53+F53)^2-G53^2)/(2*G53+F53))^4)/10000 -> 51.919396 | T53: =(F53*D53^3*(C53-F53)^2)/24000000 -> 106183.88
... A61: IPN 550 | B61: 166 | C61: 550 | D61: 200 | E61: 19 | F61: 30 | G61: 19 | H61: 212 | I61: 99180 | J61: 3610 | K61: 4240 | L61: 21.6 | M61: 111.3 | N61: 3490 | O61: 349 | P61: 592 | Q61: 4.02 | R61: 120 | S61: =(0.67*(D61-0.63*F61)*F61^3+0.33*(C61-2*F61)*E61^3+2*(E61/F61)*(0.145+0.1*G61/F61)*(((G61+0.5*E61)^2+(G61+F61)^2-G61^2)/(2*G61+F61))^4)/10000 -> 520.20371 | T61: =(F61*D61^3*(C61-F61)^2)/24000000 -> 2704000
B62: HEA
A63: HEA 100 | B63: 16.7 | C63: 96 | D63: 100 | E63: 5 | F63: 8 | G63: 12 | H63: 21.24 | I63: 349.2 | J63: 72.76 | K63: 83.01 | L63: 4.06 | M63: 7.56 | N63: 133.8 | O63: 26.76 | P63: 41.14 | Q63: 2.51 | R63: 16 | S63: =(0.67*(D63-0.63*F63)*F63^3+0.33*(C63-2*F63)*E63^3+2*(E63/F63)*(0.145+0.1*G63/F63)*(((G63+0.5*E63)^2+(G63+F63)^2-G63^2)/(2*G63+F63))^4)/10000 -> 5.2494178 | T63: =(F63*D63^3*(C63-F63)^2)/24000000 -> 2581.3333
A64: HEA 120 | B64: 19.9 | C64: 114 | D64: 120 | E64: 5 | F64: 8 | G64: 12 | H64: 25.34 | I64: 606.2 | J64: 106.3 | K64: 119.5 | L64: 4.89 | M64: 8.46 | N64: 230.9 | O64: 38.48 | P64: 58.85 | Q64: 3.02 | R64: 19.2 | S64: =(0.67*(D64-0.63*F64)*F64^3+0.33*(C64-2*F64)*E64^3+2*(E64/F64)*(0.145+0.1*G64/F64)*(((G64+0.5*E64)^2+(G64+F64)^2-G64^2)/(2*G64+F64))^4)/10000 -> 6.0097478 | T64: =(F64*D64^3*(C64-F64)^2)/24000000 -> 6471.936
A65: HEA 140 | B65: 24.7 | C65: 133 | D65: 140 | E65: 5.5 | F65: 8.5 | G65: 12 | H65: 31.42 | I65: 1033 | J65: 155.4 | K65: 173.5 | L65: 5.73 | M65: 10.12 | N65: 389.3 | O65: 55.62 | P65: 84.85 | Q65: 3.52 | R65: 23.8 | S65: =(0.67*(D65-0.63*F65)*F65^3+0.33*(C65-2*F65)*E65^3+2*(E65/F65)*(0.145+0.1*G65/F65)*(((G65+0.5*E65)^2+(G65+F65)^2-G65^2)/(2*G65+F65))^4)/10000 -> 8.1509254 | T65: =(F65*D65^3*(C65-F65)^2)/24000000 -> 15063.66
A66: HEA 160 | B66: 30.4 | C66: 152 | D66: 160 | E66: 6 | F66: 9 | G66: 15 | H66: 38.77 | I66: 1673 | J66: 220.1 | K66: 245.1 | L66: 6.57 | M66: 13.21 | N66: 615.6 | O66: 76.95 | P66: 117.6 | Q66: 3.98 | R66: 28.8 | S66: =(0.67*(D66-0.63*F66)*F66^3+0.33*(C66-2*F66)*E66^3+2*(E66/F66)*(0.145+0.1*G66/F66)*(((G66+0.5*E66)^2+(G66+F66)^2-G66^2)/(2*G66+F66))^4)/10000 -> 12.222035 | T66: =(F66*D66^3*(C66-F66)^2)/24000000 -> 31409.664
A67: HEA 180 | B67: 35.5 | C67: 171 | D67: 180 | E67: 6 | F67: 9.5 | G67: 15 | H67: 45.25 | I67: 2510 | J67: 293.6 | K67: 324.9 | L67: 7.45 | M67: 14.47 | N67: 924.6 | O67: 102.7 | P67: 156.5 | Q67: 4.52 | R67: 34.2 | S67: =(0.67*(D67-0.63*F67)*F67^3+0.33*(C67-2*F67)*E67^3+2*(E67/F67)*(0.145+0.1*G67/F67)*(((G67+0.5*E67)^2+(G67+F67)^2-G67^2)/(2*G67+F67))^4)/10000 -> 14.837025 | T67: =(F67*D67^3*(C67-F67)^2)/24000000 -> 60210.874
A68: HEA 200 | B68: 42.3 | C68: 190 | D68: 200 | E68: 6.5 | F68: 10 | G68: 16 | H68: 53.83 | I68: 3692 | J68: 388.6 | K68: 429.5 | L68: 8.28 | M68: 18.08 | N68: 1336 | O68: 133.6 | P68: 203.8 | Q68: 4.98 | R68: 40 | S68: =(0.67*(D68-0.63*F68)*F68^3+0.33*(C68-2*F68)*E68^3+2*(E68/F68)*(0.145+0.1*G68/F68)*(((G68+0.5*E68)^2+(G68+F68)^2-G68^2)/(2*G68+F68))^4)/10000 -> 19.495812 | T68: =(F68*D68^3*(C68-F68)^2)/24000000 -> 108000
A69: HEA 220 | B69: 50.5 | C69: 210 | D69: 220 | E69: 7 | F69: 11 | G69: 18 | H69: 64.34 | I69: 5410 | J69: 515.2 | K69: 568.5 | L69: 9.17 | M69: 20.67 | N69: 1955 | O69: 177.7 | P69: 270.6 | Q69: 5.51 | R69: 48.4 | S69: =(0.67*(D69-0.63*F69)*F69^3+0.33*(C69-2*F69)*E69^3+2*(E69/F69)*(0.145+0.1*G69/F69)*(((G69+0.5*E69)^2+(G69+F69)^2-G69^2)/(2*G69+F69))^4)/10000 -> 28.531192 | T69: =(F69*D69^3*(C69-F69)^2)/24000000 -> 193266.08
A70: HEA 240 | B70: 60.3 | C70: 230 | D70: 240 | E70: 7.5 | F70: 12 | G70: 21 | H70: 76.84 | I70: 7763 | J70: 675.1 | K70: 744.6 | L70: 10.05 | M70: 25.18 | N70: 2769 | O70: 230.7 | P70: 351.7 | Q70: 6 | R70: 57.6 | S70: =(0.67*(D70-0.63*F70)*F70^3+0.33*(C70-2*F70)*E70^3+2*(E70/F70)*(0.145+0.1*G70/F70)*(((G70+0.5*E70)^2+(G70+F70)^2-G70^2)/(2*G70+F70))^4)/10000 -> 41.656857 | T70: =(F70*D70^3*(C70-F70)^2)/24000000 -> 328485.89
A71: HEA 260 | B71: 68.2 | C71: 250 | D71: 260 | E71: 7.5 | F71: 12.5 | G71: 24 | H71: 86.82 | I71: 10450 | J71: 836.4 | K71: 919.8 | L71: 10.97 | M71: 28.76 | N71: 3668 | O71: 282.1 | P71: 430.2 | Q71: 6.5 | R71: 65 | S71: =(0.67*(D71-0.63*F71)*F71^3+0.33*(C71-2*F71)*E71^3+2*(E71/F71)*(0.145+0.1*G71/F71)*(((G71+0.5*E71)^2+(G71+F71)^2-G71^2)/(2*G71+F71))^4)/10000 -> 52.507212 | T71: =(F71*D71^3*(C71-F71)^2)/24000000 -> 516352.21
A72: HEA 280 | B72: 76.4 | C72: 270 | D72: 280 | E72: 8 | F72: 13 | G72: 24 | H72: 97.26 | I72: 13670 | J72: 1013 | K72: 1112 | L72: 11.86 | M72: 31.74 | N72: 4763 | O72: 340.2 | P72: 518.1 | Q72: 7 | R72: 72.8 | S72: =(0.67*(D72-0.63*F72)*F72^3+0.33*(C72-2*F72)*E72^3+2*(E72/F72)*(0.145+0.1*G72/F72)*(((G72+0.5*E72)^2+(G72+F72)^2-G72^2)/(2*G72+F72))^4)/10000 -> 62.254175 | T72: =(F72*D72^3*(C72-F72)^2)/24000000 -> 785366.64
A73: HEA 300 | B73: 88.3 | C73: 290 | D73: 300 | E73: 8.5 | F73: 14 | G73: 27 | H73: 112.5 | I73: 18260 | J73: 1260 | K73: 1383 | L73: 12.74 | M73: 37.28 | N73: 6310 | O73: 420.6 | P73: 641.2 | Q73: 7.49 | R73: 84 | S73: =(0.67*(D73-0.63*F73)*F73^3+0.33*(C73-2*F73)*E73^3+2*(E73/F73)*(0.145+0.1*G73/F73)*(((G73+0.5*E73)^2+(G73+F73)^2-G73^2)/(2*G73+F73))^4)/10000 -> 85.385781 | T73: =(F73*D73^3*(C73-F73)^2)/24000000 -> 1199772
A74: HEA 320 | B74: 97.6 | C74: 310 | D74: 300 | E74: 9 | F74: 15.5 | G74: 27 | H74: 124.4 | I74: 22930 | J74: 1479 | K74: 1628 | L74: 13.58 | M74: 41.13 | N74: 6985 | O74: 465.7 | P74: 709.7 | Q74: 7.49 | R74: 93 | S74: =(0.67*(D74-0.63*F74)*F74^3+0.33*(C74-2*F74)*E74^3+2*(E74/F74)*(0.145+0.1*G74/F74)*(((G74+0.5*E74)^2+(G74+F74)^2-G74^2)/(2*G74+F74))^4)/10000 -> 108.2673 | T74: =(F74*D74^3*(C74-F74)^2)/24000000 -> 1512358.7
... A86: HEA 1000 | B86: 272 | C86: 990 | D86: 300 | E86: 16.5 | F86: 31 | G86: 30 | H86: 346.8 | I86: 553800 | J86: 11190 | K86: 12820 | L86: 39.96 | M86: 184.6 | N86: 14000 | O86: 933.6 | P86: 1470 | Q86: 6.35 | R86: 186 | S86: =(0.67*(D86-0.63*F86)*F86^3+0.33*(C86-2*F86)*E86^3+2*(E86/F86)*(0.145+0.1*G86/F86)*(((G86+0.5*E86)^2+(G86+F86)^2-G86^2)/(2*G86+F86))^4)/10000 -> 823.80529 | T86: =(F86*D86^3*(C86-F86)^2)/24000000 -> 32073875
B87: HEB
A88: HEB 100 | B88: 20.4 | C88: 100 | D88: 100 | E88: 6 | F88: 10 | G88: 12 | H88: 26.04 | I88: 449.5 | J88: 89.91 | K88: 104.2 | L88: 4.16 | M88: 9.04 | N88: 167.3 | O88: 33.45 | P88: 51.42 | Q88: 2.53 | R88: 20 | S88: =(0.67*(D88-0.63*F88)*F88^3+0.33*(C88-2*F88)*E88^3+2*(E88/F88)*(0.145+0.1*G88/F88)*(((G88+0.5*E88)^2+(G88+F88)^2-G88^2)/(2*G88+F88))^4)/10000 -> 9.2731037 | T88: =(F88*D88^3*(C88-F88)^2)/24000000 -> 3375
A89: HEB 120 | B89: 26.7 | C89: 120 | D89: 120 | E89: 6.5 | F89: 11 | G89: 12 | H89: 34.01 | I89: 864.4 | J89: 144.1 | K89: 165.2 | L89: 5.04 | M89: 10.96 | N89: 317.5 | O89: 52.92 | P89: 80.97 | Q89: 3.06 | R89: 26.4 | S89: =(0.67*(D89-0.63*F89)*F89^3+0.33*(C89-2*F89)*E89^3+2*(E89/F89)*(0.145+0.1*G89/F89)*(((G89+0.5*E89)^2+(G89+F89)^2-G89^2)/(2*G89+F89))^4)/10000 -> 13.882039 | T89: =(F89*D89^3*(C89-F89)^2)/24000000 -> 9409.752
A90: HEB 140 | B90: 33.7 | C90: 140 | D90: 140 | E90: 7 | F90: 12 | G90: 12 | H90: 42.96 | I90: 1509 | J90: 215.6 | K90: 245.4 | L90: 5.93 | M90: 13.08 | N90: 549.7 | O90: 78.52 | P90: 119.8 | Q90: 3.58 | R90: 33.6 | S90: =(0.67*(D90-0.63*F90)*F90^3+0.33*(C90-2*F90)*E90^3+2*(E90/F90)*(0.145+0.1*G90/F90)*(((G90+0.5*E90)^2+(G90+F90)^2-G90^2)/(2*G90+F90))^4)/10000 -> 20.121948 | T90: =(F90*D90^3*(C90-F90)^2)/24000000 -> 22478.848
A91: HEB 160 | B91: 42.6 | C91: 160 | D91: 160 | E91: 8 | F91: 13 | G91: 15 | H91: 54.25 | I91: 2492 | J91: 311.5 | K91: 354 | L91: 6.78 | M91: 17.59 | N91: 889.2 | O91: 111.2 | P91: 170 | Q91: 4.05 | R91: 41.6 | S91: =(0.67*(D91-0.63*F91)*F91^3+0.33*(C91-2*F91)*E91^3+2*(E91/F91)*(0.145+0.1*G91/F91)*(((G91+0.5*E91)^2+(G91+F91)^2-G91^2)/(2*G91+F91))^4)/10000 -> 31.325706 | T91: =(F91*D91^3*(C91-F91)^2)/24000000 -> 47943.168
A92: HEB 180 | B92: 51.2 | C92: 180 | D92: 180 | E92: 8.5 | F92: 14 | G92: 15 | H92: 65.25 | I92: 3831 | J92: 425.7 | K92: 481.4 | L92: 7.65 | M92: 20.24 | N92: 1363 | O92: 151.4 | P92: 231 | Q92: 4.57 | R92: 50.4 | S92: =(0.67*(D92-0.63*F92)*F92^3+0.33*(C92-2*F92)*E92^3+2*(E92/F92)*(0.145+0.1*G92/F92)*(((G92+0.5*E92)^2+(G92+F92)^2-G92^2)/(2*G92+F92))^4)/10000 -> 42.290024 | T92: =(F92*D92^3*(C92-F92)^2)/24000000 -> 93745.512
A93: HEB 200 | B93: 61.3 | C93: 200 | D93: 200 | E93: 9 | F93: 15 | G93: 18 | H93: 78.08 | I93: 5696 | J93: 569.6 | K93: 642.5 | L93: 8.54 | M93: 24.83 | N93: 2003 | O93: 200.3 | P93: 305.8 | Q93: 5.07 | R93: 60 | S93: =(0.67*(D93-0.63*F93)*F93^3+0.33*(C93-2*F93)*E93^3+2*(E93/F93)*(0.145+0.1*G93/F93)*(((G93+0.5*E93)^2+(G93+F93)^2-G93^2)/(2*G93+F93))^4)/10000 -> 59.454188 | T93: =(F93*D93^3*(C93-F93)^2)/24000000 -> 171125
A94: HEB 220 | B94: 71.5 | C94: 220 | D94: 220 | E94: 9.5 | F94: 16 | G94: 18 | H94: 91.04 | I94: 8091 | J94: 735.5 | K94: 827 | L94: 9.43 | M94: 27.92 | N94: 2843 | O94: 258.5 | P94: 393.9 | Q94: 5.59 | R94: 70.4 | S94: =(0.67*(D94-0.63*F94)*F94^3+0.33*(C94-2*F94)*E94^3+2*(E94/F94)*(0.145+0.1*G94/F94)*(((G94+0.5*E94)^2+(G94+F94)^2-G94^2)/(2*G94+F94))^4)/10000 -> 76.800891 | T94: =(F94*D94^3*(C94-F94)^2)/24000000 -> 295418.11
A95: HEB 240 | B95: 83.2 | C95: 240 | D95: 240 | E95: 10 | F95: 17 | G95: 21 | H95: 106 | I95: 11260 | J95: 938.3 | K95: 1053 | L95: 10.31 | M95: 33.23 | N95: 3923 | O95: 326.9 | P95: 498.4 | Q95: 6.08 | R95: 81.6 | S95: =(0.67*(D95-0.63*F95)*F95^3+0.33*(C95-2*F95)*E95^3+2*(E95/F95)*(0.145+0.1*G95/F95)*(((G95+0.5*E95)^2+(G95+F95)^2-G95^2)/(2*G95+F95))^4)/10000 -> 102.99257 | T95: =(F95*D95^3*(C95-F95)^2)/24000000 -> 486946.37
A96: HEB 260 | B96: 93 | C96: 260 | D96: 260 | E96: 10 | F96: 17.5 | G96: 24 | H96: 118.4 | I96: 14920 | J96: 1148 | K96: 1283 | L96: 11.22 | M96: 37.59 | N96: 5135 | O96: 395 | P96: 602.2 | Q96: 6.58 | R96: 91 | S96: =(0.67*(D96-0.63*F96)*F96^3+0.33*(C96-2*F96)*E96^3+2*(E96/F96)*(0.145+0.1*G96/F96)*(((G96+0.5*E96)^2+(G96+F96)^2-G96^2)/(2*G96+F96))^4)/10000 -> 124.14806 | T96: =(F96*D96^3*(C96-F96)^2)/24000000 -> 753651.1
A97: HEB 280 | B97: 103 | C97: 280 | D97: 280 | E97: 10.5 | F97: 18 | G97: 24 | H97: 131.4 | I97: 19270 | J97: 1376 | K97: 1534 | L97: 12.11 | M97: 41.09 | N97: 6595 | O97: 471 | P97: 717.6 | Q97: 7.09 | R97: 100.8 | S97: =(0.67*(D97-0.63*F97)*F97^3+0.33*(C97-2*F97)*E97^3+2*(E97/F97)*(0.145+0.1*G97/F97)*(((G97+0.5*E97)^2+(G97+F97)^2-G97^2)/(2*G97+F97))^4)/10000 -> 144.14461 | T97: =(F97*D97^3*(C97-F97)^2)/24000000 -> 1130154.8
A98: HEB 300 | B98: 117 | C98: 300 | D98: 300 | E98: 11 | F98: 19 | G98: 27 | H98: 149.1 | I98: 25170 | J98: 1678 | K98: 1869 | L98: 12.99 | M98: 47.43 | N98: 8563 | O98: 570.9 | P98: 870.1 | Q98: 7.58 | R98: 114 | S98: =(0.67*(D98-0.63*F98)*F98^3+0.33*(C98-2*F98)*E98^3+2*(E98/F98)*(0.145+0.1*G98/F98)*(((G98+0.5*E98)^2+(G98+F98)^2-G98^2)/(2*G98+F98))^4)/10000 -> 185.5877 | T98: =(F98*D98^3*(C98-F98)^2)/24000000 -> 1687791.4
A99: HEB 320 | B99: 127 | C99: 320 | D99: 300 | E99: 11.5 | F99: 20.5 | G99: 27 | H99: 161.3 | I99: 30820 | J99: 1926 | K99: 2149 | L99: 13.82 | M99: 51.77 | N99: 9239 | O99: 615.9 | P99: 939.1 | Q99: 7.57 | R99: 123 | S99: =(0.67*(D99-0.63*F99)*F99^3+0.33*(C99-2*F99)*E99^3+2*(E99/F99)*(0.145+0.1*G99/F99)*(((G99+0.5*E99)^2+(G99+F99)^2-G99^2)/(2*G99+F99))^4)/10000 -> 225.75224 | T99: =(F99*D99^3*(C99-F99)^2)/24000000 -> 2068712
... A111: HEB 1000 | B111: 314 | C111: 1000 | D111: 300 | E111: 19 | F111: 36 | G111: 30 | H111: 400 | I111: 644700 | J111: 12890 | K111: 14860 | L111: 40.15 | M111: 212.5 | N111: 16280 | O111: 1085 | P111: 1716 | Q111: 6.38 | R111: 216 | S111: =(0.67*(D111-0.63*F111)*F111^3+0.33*(C111-2*F111)*E111^3+2*(E111/F111)*(0.145+0.1*G111/F111)*(((G111+0.5*E111)^2+(G111+F111)^2-G111^2)/(2*G111+F111))^4)/10000 -> 1256.6118 | T111: =(F111*D111^3*(C111-F111)^2)/24000000 -> 37636488
B112: HEM
A113: HEM 100 | B113: =7.85*H113*0.1 -> 41.790344 | C113: 120 | D113: 106 | E113: 12 | F113: 20 | G113: 12 | H113: =((C113-2*F113)*E113+2*D113*F113+(2*G113)^2-PI()*G113^2)*0.01 -> 53.236107 | I113: =0.0001*(C113^3*E113/12+(D113-F113)*F113*(C113-F113)^2/2+F113^3*(D113-E113)/6+G113^2*(4-PI())*(0.5*C113-F113-G113*(1-2/(12-3*PI())))^2+4*G113^4*(1/3-PI()/16-1/(9*(4-PI())))) -> 1062.6118 | J113: =I113/(C113*0.5*0.1) -> 177.10197 | K113: =((E113*C113^2)/4+(D113-E113)*(C113-F113)*F113+((C113-2*F113)*(4-PI())*G113^2/2)+((3*PI()-10)*3)/3)*0.001 -> 236.14385 | L113: =SQRT(I113/H113) -> 4.4677018 | M113: =H113-(2*D113*F113-(E113+2*G113)*F113)*0.01 -> 18.036107 | N113: =0.0001*(C113*E113^3/12+(D113-F113)*F113*(D113+F113)^2/8+F113*(D113-E113)^3/24+G113^2*(4-PI())*(0.5*E113-G113*(1-2/(12-3*PI())))^2+4*G113^4*(1/3-PI()/16-1/(9*(4-PI())))) -> 412.47613 | O113: =N113/(D113*0.5*0.1) -> 77.825685 | P113: =0.001*(D113^2*F113/2+((C113-2*F113)*E113^2)/4+G113^3*(10/3-PI())+(2-PI()/2)*E113*G113^2) -> 116.31299 | Q113: =SQRT(N113/H113) -> 2.7835323 | R113: =0.01*2*D113*E113 -> 25.44 | S113: =(0.67*(D113-0.63*F113)*F113^3+0.33*(C113-2*F113)*E113^3+2*(E113/F113)*(0.145+0.1*G113/F113)*(((G113+0.5*E113)^2+(G113+F113)^2-G113^2)/(2*G113+F113))^4)/10000 -> 68.416418 | T113: =(F113*D113^3*(C113-F113)^2)/24000000 -> 9925.1333
A114: HEM 120 | B114: =7.85*H114*0.1 -> 52.128794 | C114: 140 | D114: 126 | E114: 12.5 | F114: 21 | G114: 12 | H114: =((C114-2*F114)*E114+2*D114*F114+(2*G114)^2-PI()*G114^2)*0.01 -> 66.406107 | I114: =0.0001*(C114^3*E114/12+(D114-F114)*F114*(C114-F114)^2/2+F114^3*(D114-E114)/6+G114^2*(4-PI())*(0.5*C114-F114-G114*(1-2/(12-3*PI())))^2+4*G114^4*(1/3-PI()/16-1/(9*(4-PI())))) -> 1891.1856 | J114: =I114/(C114*0.5*0.1) -> 270.16937 | K114: =((E114*C114^2)/4+(D114-E114)*(C114-F114)*F114+((C114-2*F114)*(4-PI())*G114^2/2)+((3*PI()-10)*3)/3)*0.001 -> 350.94285 | L114: =SQRT(I114/H114) -> 5.3365805 | M114: =H114-(2*D114*F114-(E114+2*G114)*F114)*0.01 -> 21.151107 | N114: =0.0001*(C114*E114^3/12+(D114-F114)*F114*(D114+F114)^2/8+F114*(D114-E114)^3/24+G114^2*(4-PI())*(0.5*E114-G114*(1-2/(12-3*PI())))^2+4*G114^4*(1/3-PI()/16-1/(9*(4-PI())))) -> 726.03364 | O114: =N114/(D114*0.5*0.1) -> 115.24343 | P114: =0.001*(D114^2*F114/2+((C114-2*F114)*E114^2)/4+G114^3*(10/3-PI())+(2-PI()/2)*E114*G114^2) -> 171.63002 | Q114: =SQRT(N114/H114) -> 3.3065444 | R114: =0.01*2*D114*E114 -> 31.5 | S114: =(0.67*(D114-0.63*F114)*F114^3+0.33*(C114-2*F114)*E114^3+2*(E114/F114)*(0.145+0.1*G114/F114)*(((G114+0.5*E114)^2+(G114+F114)^2-G114^2)/(2*G114+F114))^4)/10000 -> 91.946766 | T114: =(F114*D114^3*(C114-F114)^2)/24000000 -> 24786.409
A115: HEM 140 | B115: =7.85*H115*0.1 -> 63.236544 | C115: 160 | D115: 146 | E115: 13 | F115: 22 | G115: 12 | H115: =((C115-2*F115)*E115+2*D115*F115+(2*G115)^2-PI()*G115^2)*0.01 -> 80.556107 | I115: =0.0001*(C115^3*E115/12+(D115-F115)*F115*(C115-F115)^2/2+F115^3*(D115-E115)/6+G115^2*(4-PI())*(0.5*C115-F115-G115*(1-2/(12-3*PI())))^2+4*G115^4*(1/3-PI()/16-1/(9*(4-PI())))) -> 3102.8286 | J115: =I115/(C115*0.5*0.1) -> 387.85358 | K115: =((E115*C115^2)/4+(D115-E115)*(C115-F115)*F115+((C115-2*F115)*(4-PI())*G115^2/2)+((3*PI()-10)*3)/3)*0.001 -> 494.15684 | L115: =SQRT(I115/H115) -> 6.2062556 | M115: =H115-(2*D115*F115-(E115+2*G115)*F115)*0.01 -> 24.456107 | N115: =0.0001*(C115*E115^3/12+(D115-F115)*F115*(D115+F115)^2/8+F115*(D115-E115)^3/24+G115^2*(4-PI())*(0.5*E115-G115*(1-2/(12-3*PI())))^2+4*G115^4*(1/3-PI()/16-1/(9*(4-PI())))) -> 1181.269 | O115: =N115/(D115*0.5*0.1) -> 161.81768 | P115: =0.001*(D115^2*F115/2+((C115-2*F115)*E115^2)/4+G115^3*(10/3-PI())+(2-PI()/2)*E115*G115^2) -> 240.5118 | Q115: =SQRT(N115/H115) -> 3.829351 | R115: =0.01*2*D115*E115 -> 37.96 | S115: =(0.67*(D115-0.63*F115)*F115^3+0.33*(C115-2*F115)*E115^3+2*(E115/F115)*(0.145+0.1*G115/F115)*(((G115+0.5*E115)^2+(G115+F115)^2-G115^2)/(2*G115+F115))^4)/10000 -> 120.39653 | T115: =(F115*D115^3*(C115-F115)^2)/24000000 -> 54328.558
A116: HEM 160 | B116: =7.85*H116*0.1 -> 76.185362 | C116: 180 | D116: 166 | E116: 14 | F116: 23 | G116: 15 | H116: =((C116-2*F116)*E116+2*D116*F116+(2*G116)^2-PI()*G116^2)*0.01 -> 97.051417 | I116: =0.0001*(C116^3*E116/12+(D116-F116)*F116*(C116-F116)^2/2+F116^3*(D116-E116)/6+G116^2*(4-PI())*(0.5*C116-F116-G116*(1-2/(12-3*PI())))^2+4*G116^4*(1/3-PI()/16-1/(9*(4-PI())))) -> 4843.1505 | J116: =I116/(C116*0.5*0.1) -> 538.12784 | K116: =((E116*C116^2)/4+(D116-E116)*(C116-F116)*F116+((C116-2*F116)*(4-PI())*G116^2/2)+((3*PI()-10)*3)/3)*0.001 -> 675.21192 | L116: =SQRT(I116/H116) -> 7.064201 | M116: =H116-(2*D116*F116-(E116+2*G116)*F116)*0.01 -> 30.811417 | N116: =0.0001*(C116*E116^3/12+(D116-F116)*F116*(D116+F116)^2/8+F116*(D116-E116)^3/24+G116^2*(4-PI())*(0.5*E116-G116*(1-2/(12-3*PI())))^2+4*G116^4*(1/3-PI()/16-1/(9*(4-PI())))) -> 1809.6539 | O116: =N116/(D116*0.5*0.1) -> 218.03059 | P116: =0.001*(D116^2*F116/2+((C116-2*F116)*E116^2)/4+G116^3*(10/3-PI())+(2-PI()/2)*E116*G116^2) -> 325.45912 | Q116: =SQRT(N116/H116) -> 4.318141 | R116: =0.01*2*D116*E116 -> 46.48 | S116: =(0.67*(D116-0.63*F116)*F116^3+0.33*(C116-2*F116)*E116^3+2*(E116/F116)*(0.145+0.1*G116/F116)*(((G116+0.5*E116)^2+(G116+F116)^2-G116^2)/(2*G116+F116))^4)/10000 -> 162.92386 | T116: =(F116*D116^3*(C116-F116)^2)/24000000 -> 108053.83
A117: HEM 180 | B117: =7.85*H117*0.1 -> 88.902362 | C117: 200 | D117: 186 | E117: 14.5 | F117: 24 | G117: 15 | H117: =((C117-2*F117)*E117+2*D117*F117+(2*G117)^2-PI()*G117^2)*0.01 -> 113.25142 | I117: =0.0001*(C117^3*E117/12+(D117-F117)*F117*(C117-F117)^2/2+F117^3*(D117-E117)/6+G117^2*(4-PI())*(0.5*C117-F117-G117*(1-2/(12-3*PI())))^2+4*G117^4*(1/3-PI()/16-1/(9*(4-PI())))) -> 7130.0066 | J117: =I117/(C117*0.5*0.1) -> 713.00066 | K117: =((E117*C117^2)/4+(D117-E117)*(C117-F117)*F117+((C117-2*F117)*(4-PI())*G117^2/2)+((3*PI()-10)*3)/3)*0.001 -> 884.09419 | L117: =SQRT(I117/H117) -> 7.9345654 | M117: =H117-(2*D117*F117-(E117+2*G117)*F117)*0.01 -> 34.651417 | N117: =0.0001*(C117*E117^3/12+(D117-F117)*F117*(D117+F117)^2/8+F117*(D117-E117)^3/24+G117^2*(4-PI())*(0.5*E117-G117*(1-2/(12-3*PI())))^2+4*G117^4*(1/3-PI()/16-1/(9*(4-PI())))) -> 2653.2076 | O117: =N117/(D117*0.5*0.1) -> 285.29114 | P117: =0.001*(D117^2*F117/2+((C117-2*F117)*E117^2)/4+G117^3*(10/3-PI())+(2-PI()/2)*E117*G117^2) -> 425.1889 | Q117: =SQRT(N117/H117) -> 4.8402054 | R117: =0.01*2*D117*E117 -> 53.94 | S117: =(0.67*(D117-0.63*F117)*F117^3+0.33*(C117-2*F117)*E117^3+2*(E117/F117)*(0.145+0.1*G117/F117)*(((G117+0.5*E117)^2+(G117+F117)^2-G117^2)/(2*G117+F117))^4)/10000 -> 203.90632 | T117: =(F117*D117^3*(C117-F117)^2)/24000000 -> 199326.1
A118: HEM 200 | B118: =7.85*H118*0.1 -> 103.05577 | C118: 220 | D118: 206 | E118: 15 | F118: 25 | G118: 18 | H118: =((C118-2*F118)*E118+2*D118*F118+(2*G118)^2-PI()*G118^2)*0.01 -> 131.28124 | I118: =0.0001*(C118^3*E118/12+(D118-F118)*F118*(C118-F118)^2/2+F118^3*(D118-E118)/6+G118^2*(4-PI())*(0.5*C118-F118-G118*(1-2/(12-3*PI())))^2+4*G118^4*(1/3-PI()/16-1/(9*(4-PI())))) -> 10166.597 | J118: =I118/(C118*0.5*0.1) -> 924.23608 | K118: =((E118*C118^2)/4+(D118-E118)*(C118-F118)*F118+((C118-2*F118)*(4-PI())*G118^2/2)+((3*PI()-10)*3)/3)*0.001 -> 1136.265 | L118: =SQRT(I118/H118) -> 8.8000769 | M118: =H118-(2*D118*F118-(E118+2*G118)*F118)*0.01 -> 41.03124 | N118: =0.0001*(C118*E118^3/12+(D118-F118)*F118*(D118+F118)^2/8+F118*(D118-E118)^3/24+G118^2*(4-PI())*(0.5*E118-G118*(1-2/(12-3*PI())))^2+4*G118^4*(1/3-PI()/16-1/(9*(4-PI())))) -> 3750.8925 | O118: =N118/(D118*0.5*0.1) -> 364.16432 | P118: =0.001*(D118^2*F118/2+((C118-2*F118)*E118^2)/4+G118^3*(10/3-PI())+(2-PI()/2)*E118*G118^2) -> 543.21666 | Q118: =SQRT(N118/H118) -> 5.3452248 | R118: =0.01*2*D118*E118 -> 61.8 | S118: =(0.67*(D118-0.63*F118)*F118^3+0.33*(C118-2*F118)*E118^3+2*(E118/F118)*(0.145+0.1*G118/F118)*(((G118+0.5*E118)^2+(G118+F118)^2-G118^2)/(2*G118+F118))^4)/10000 -> 260.20911 | T118: =(F118*D118^3*(C118-F118)^2)/24000000 -> 346257.87
A119: HEM 220 | B119: =7.85*H119*0.1 -> 117.31137 | C119: 240 | D119: 226 | E119: 15.5 | F119: 26 | G119: 18 | H119: =((C119-2*F119)*E119+2*D119*F119+(2*G119)^2-PI()*G119^2)*0.01 -> 149.44124 | I119: =0.0001*(C119^3*E119/12+(D119-F119)*F119*(C119-F119)^2/2+F119^3*(D119-E119)/6+G119^2*(4-PI())*(0.5*C119-F119-G119*(1-2/(12-3*PI())))^2+4*G119^4*(1/3-PI()/16-1/(9*(4-PI())))) -> 13979.716 | J119: =I119/(C119*0.5*0.1) -> 1164.9764 | K119: =((E119*C119^2)/4+(D119-E119)*(C119-F119)*F119+((C119-2*F119)*(4-PI())*G119^2/2)+((3*PI()-10)*3)/3)*0.001 -> 1420.5651 | L119: =SQRT(I119/H119) -> 9.671948 | M119: =H119-(2*D119*F119-(E119+2*G119)*F119)*0.01 -> 45.31124 | N119: =0.0001*(C119*E119^3/12+(D119-F119)*F119*(D119+F119)^2/8+F119*(D119-E119)^3/24+G119^2*(4-PI())*(0.5*E119-G119*(1-2/(12-3*PI())))^2+4*G119^4*(1/3-PI()/16-1/(9*(4-PI())))) -> 5146.3697 | O119: =N119/(D119*0.5*0.1) -> 455.43095 | P119: =0.001*(D119^2*F119/2+((C119-2*F119)*E119^2)/4+G119^3*(10/3-PI())+(2-PI()/2)*E119*G119^2) -> 678.55344 | Q119: =SQRT(N119/H119) -> 5.8683399 | R119: =0.01*2*D119*E119 -> 70.06 | S119: =(0.67*(D119-0.63*F119)*F119^3+0.33*(C119-2*F119)*E119^3+2*(E119/F119)*(0.145+0.1*G119/F119)*(((G119+0.5*E119)^2+(G119+F119)^2-G119^2)/(2*G119+F119))^4)/10000 -> 316.25997 | T119: =(F119*D119^3*(C119-F119)^2)/24000000 -> 572683.9
A120: HEM 240 | B120: =7.85*H120*0.1 -> 156.67468 | C120: 270 | D120: 248 | E120: 18 | F120: 32 | G120: 21 | H120: =((C120-2*F120)*E120+2*D120*F120+(2*G120)^2-PI()*G120^2)*0.01 -> 199.58558 | I120: =0.0001*(C120^3*E120/12+(D120-F120)*F120*(C120-F120)^2/2+F120^3*(D120-E120)/6+G120^2*(4-PI())*(0.5*C120-F120-G120*(1-2/(12-3*PI())))^2+4*G120^4*(1/3-PI()/16-1/(9*(4-PI())))) -> 23020.679 | J120: =I120/(C120*0.5*0.1) -> 1705.2355 | K120: =((E120*C120^2)/4+(D120-E120)*(C120-F120)*F120+((C120-2*F120)*(4-PI())*G120^2/2)+((3*PI()-10)*3)/3)*0.001 -> 2118.7209 | L120: =SQRT(I120/H120) -> 10.739758 | M120: =H120-(2*D120*F120-(E120+2*G120)*F120)*0.01 -> 60.065576 | N120: =0.0001*(C120*E120^3/12+(D120-F120)*F120*(D120+F120)^2/8+F120*(D120-E120)^3/24+G120^2*(4-PI())*(0.5*E120-G120*(1-2/(12-3*PI())))^2+4*G120^4*(1/3-PI()/16-1/(9*(4-PI())))) -> 8410.4386 | O120: =N120/(D120*0.5*0.1) -> 678.26118 | P120: =0.001*(D120^2*F120/2+((C120-2*F120)*E120^2)/4+G120^3*(10/3-PI())+(2-PI()/2)*E120*G120^2) -> 1005.9327 | Q120: =SQRT(N120/H120) -> 6.4914953 | R120: =0.01*2*D120*E120 -> 89.28 | S120: =(0.67*(D120-0.63*F120)*F120^3+0.33*(C120-2*F120)*E120^3+2*(E120/F120)*(0.145+0.1*G120/F120)*(((G120+0.5*E120)^2+(G120+F120)^2-G120^2)/(2*G120+F120))^4)/10000 -> 629.98747 | T120: =(F120*D120^3*(C120-F120)^2)/24000000 -> 1151987.3
A121: HEM 260 | B121: =7.85*H121*0.1 -> 172.42087 | C121: 290 | D121: 268 | E121: 18 | F121: 32.5 | G121: 24 | H121: =((C121-2*F121)*E121+2*D121*F121+(2*G121)^2-PI()*G121^2)*0.01 -> 219.64443 | I121: =0.0001*(C121^3*E121/12+(D121-F121)*F121*(C121-F121)^2/2+F121^3*(D121-E121)/6+G121^2*(4-PI())*(0.5*C121-F121-G121*(1-2/(12-3*PI())))^2+4*G121^4*(1/3-PI()/16-1/(9*(4-PI())))) -> 29744.519 | J121: =I121/(C121*0.5*0.1) -> 2051.3461 | K121: =((E121*C121^2)/4+(D121-E121)*(C121-F121)*F121+((C121-2*F121)*(4-PI())*G121^2/2)+((3*PI()-10)*3)/3)*0.001 -> 2526.2617 | L121: =SQRT(I121/H121) -> 11.637063 | M121: =H121-(2*D121*F121-(E121+2*G121)*F121)*0.01 -> 66.894426 | N121: =0.0001*(C121*E121^3/12+(D121-F121)*F121*(D121+F121)^2/8+F121*(D121-E121)^3/24+G121^2*(4-PI())*(0.5*E121-G121*(1-2/(12-3*PI())))^2+4*G121^4*(1/3-PI()/16-1/(9*(4-PI())))) -> 10770.83 | O121: =N121/(D121*0.5*0.1) -> 803.79327 | P121: =0.001*(D121^2*F121/2+((C121-2*F121)*E121^2)/4+G121^3*(10/3-PI())+(2-PI()/2)*E121*G121^2) -> 1192.4656 | Q121: =SQRT(N121/H121) -> 7.0026833 | R121: =0.01*2*D121*E121 -> 96.48 | S121: =(0.67*(D121-0.63*F121)*F121^3+0.33*(C121-2*F121)*E121^3+2*(E121/F121)*(0.145+0.1*G121/F121)*(((G121+0.5*E121)^2+(G121+F121)^2-G121^2)/(2*G121+F121))^4)/10000 -> 721.41017 | T121: =(F121*D121^3*(C121-F121)^2)/24000000 -> 1728347.1
A122: HEM 280 | B122: =7.85*H122*0.1 -> 188.52907 | C122: 310 | D122: 288 | E122: 18.5 | F122: 33 | G122: 24 | H122: =((C122-2*F122)*E122+2*D122*F122+(2*G122)^2-PI()*G122^2)*0.01 -> 240.16443 | I122: =0.0001*(C122^3*E122/12+(D122-F122)*F122*(C122-F122)^2/2+F122^3*(D122-E122)/6+G122^2*(4-PI())*(0.5*C122-F122-G122*(1-2/(12-3*PI())))^2+4*G122^4*(1/3-PI()/16-1/(9*(4-PI())))) -> 37711.598 | J122: =I122/(C122*0.5*0.1) -> 2433.0063 | K122: =((E122*C122^2)/4+(D122-E122)*(C122-F122)*F122+((C122-2*F122)*(4-PI())*G122^2/2)+((3*PI()-10)*3)/3)*0.001 -> 2968.2834 | L122: =SQRT(I122/H122) -> 12.530925 | M122: =H122-(2*D122*F122-(E122+2*G122)*F122)*0.01 -> 72.029426 | N122: =0.0001*(C122*E122^3/12+(D122-F122)*F122*(D122+F122)^2/8+F122*(D122-E122)^3/24+G122^2*(4-PI())*(0.5*E122-G122*(1-2/(12-3*PI())))^2+4*G122^4*(1/3-PI()/16-1/(9*(4-PI())))) -> 13548.136 | O122: =N122/(D122*0.5*0.1) -> 940.84276 | P122: =0.001*(D122^2*F122/2+((C122-2*F122)*E122^2)/4+G122^3*(10/3-PI())+(2-PI()/2)*E122*G122^2) -> 1396.6775 | Q122: =SQRT(N122/H122) -> 7.5107867 | R122: =0.01*2*D122*E122 -> 106.56 | S122: =(0.67*(D122-0.63*F122)*F122^3+0.33*(C122-2*F122)*E122^3+2*(E122/F122)*(0.145+0.1*G122/F122)*(((G122+0.5*E122)^2+(G122+F122)^2-G122^2)/(2*G122+F122))^4)/10000 -> 809.96731 | T122: =(F122*D122^3*(C122-F122)^2)/24000000 -> 2520227.2
A123: HEM 300 | B123: =7.85*H123*0.1 -> 237.91606 | C123: 340 | D123: 310 | E123: 21 | F123: 39 | G123: 27 | H123: =((C123-2*F123)*E123+2*D123*F123+(2*G123)^2-PI()*G123^2)*0.01 -> 303.07779 | I123: =0.0001*(C123^3*E123/12+(D123-F123)*F123*(C123-F123)^2/2+F123^3*(D123-E123)/6+G123^2*(4-PI())*(0.5*C123-F123-G123*(1-2/(12-3*PI())))^2+4*G123^4*(1/3-PI()/16-1/(9*(4-PI())))) -> 56020.918 | J123: =I123/(C123*0.5*0.1) -> 3295.3481 | K123: =((E123*C123^2)/4+(D123-E123)*(C123-F123)*F123+((C123-2*F123)*(4-PI())*G123^2/2)+((3*PI()-10)*3)/3)*0.001 -> 4081.4475 | L123: =SQRT(I123/H123) -> 13.59559 | M123: =H123-(2*D123*F123-(E123+2*G123)*F123)*0.01 -> 90.52779 | N123: =0.0001*(C123*E123^3/12+(D123-F123)*F123*(D123+F123)^2/8+F123*(D123-E123)^3/24+G123^2*(4-PI())*(0.5*E123-G123*(1-2/(12-3*PI())))^2+4*G123^4*(1/3-PI()/16-1/(9*(4-PI())))) -> 20042.883 | O123: =N123/(D123*0.5*0.1) -> 1293.0892 | P123: =0.001*(D123^2*F123/2+((C123-2*F123)*E123^2)/4+G123^3*(10/3-PI())+(2-PI()/2)*E123*G123^2) -> 1913.1802 | Q123: =SQRT(N123/H123) -> 8.1321061 | R123: =0.01*2*D123*E123 -> 130.2 | S123: =(0.67*(D123-0.63*F123)*F123^3+0.33*(C123-2*F123)*E123^3+2*(E123/F123)*(0.145+0.1*G123/F123)*(((G123+0.5*E123)^2+(G123+F123)^2-G123^2)/(2*G123+F123))^4)/10000 -> 1412.4137 | T123: =(F123*D123^3*(C123-F123)^2)/24000000 -> 4386028.4
A124: HEM 320 | B124: =7.85*H124*0.1 -> 244.95751 | C124: 359 | D124: 309 | E124: 21 | F124: 40 | G124: 27 | H124: =((C124-2*F124)*E124+2*D124*F124+(2*G124)^2-PI()*G124^2)*0.01 -> 312.04779 | I124: =0.0001*(C124^3*E124/12+(D124-F124)*F124*(C124-F124)^2/2+F124^3*(D124-E124)/6+G124^2*(4-PI())*(0.5*C124-F124-G124*(1-2/(12-3*PI())))^2+4*G124^4*(1/3-PI()/16-1/(9*(4-PI())))) -> 64267.933 | J124: =I124/(C124*0.5*0.1) -> 3580.3862 | K124: =((E124*C124^2)/4+(D124-E124)*(C124-F124)*F124+((C124-2*F124)*(4-PI())*G124^2/2)+((3*PI()-10)*3)/3)*0.001 -> 4438.8008 | L124: =SQRT(I124/H124) -> 14.351147 | M124: =H124-(2*D124*F124-(E124+2*G124)*F124)*0.01 -> 94.84779 | N124: =0.0001*(C124*E124^3/12+(D124-F124)*F124*(D124+F124)^2/8+F124*(D124-E124)^3/24+G124^2*(4-PI())*(0.5*E124-G124*(1-2/(12-3*PI())))^2+4*G124^4*(1/3-PI()/16-1/(9*(4-PI())))) -> 20394.106 | O124: =N124/(D124*0.5*0.1) -> 1320.0069 | P124: =0.001*(D124^2*F124/2+((C124-2*F124)*E124^2)/4+G124^3*(10/3-PI())+(2-PI()/2)*E124*G124^2) -> 1950.7245 | Q124: =SQRT(N124/H124) -> 8.0842881 | R124: =0.01*2*D124*E124 -> 129.78 | S124: =(0.67*(D124-0.63*F124)*F124^3+0.33*(C124-2*F124)*E124^3+2*(E124/F124)*(0.145+0.1*G124/F124)*(((G124+0.5*E124)^2+(G124+F124)^2-G124^2)/(2*G124+F124))^4)/10000 -> 1505.782 | T124: =(F124*D124^3*(C124-F124)^2)/24000000 -> 5003864.7
... A136: HEM 1000 | B136: =7.85*H136*0.1 -> 348.70145 | C136: 1008 | D136: 302 | E136: 21 | F136: 40 | G136: 30 | H136: =((C136-2*F136)*E136+2*D136*F136+(2*G136)^2-PI()*G136^2)*0.01 -> 444.20567 | I136: =0.0001*(C136^3*E136/12+(D136-F136)*F136*(C136-F136)^2/2+F136^3*(D136-E136)/6+G136^2*(4-PI())*(0.5*C136-F136-G136*(1-2/(12-3*PI())))^2+4*G136^4*(1/3-PI()/16-1/(9*(4-PI())))) -> 686692.54 | J136: =I136/(C136*0.5*0.1) -> 13624.852 | K136: =((E136*C136^2)/4+(D136-E136)*(C136-F136)*F136+((C136-2*F136)*(4-PI())*G136^2/2)+((3*PI()-10)*3)/3)*0.001 -> 16573.126 | L136: =SQRT(I136/H136) -> 39.317792 | M136: =H136-(2*D136*F136-(E136+2*G136)*F136)*0.01 -> 235.00567 | N136: =0.0001*(C136*E136^3/12+(D136-F136)*F136*(D136+F136)^2/8+F136*(D136-E136)^3/24+G136^2*(4-PI())*(0.5*E136-G136*(1-2/(12-3*PI())))^2+4*G136^4*(1/3-PI()/16-1/(9*(4-PI())))) -> 19101.643 | O136: =N136/(D136*0.5*0.1) -> 1265.0095 | P136: =0.001*(D136^2*F136/2+((C136-2*F136)*E136^2)/4+G136^3*(10/3-PI())+(2-PI()/2)*E136*G136^2) -> 1939.6809 | Q136: =SQRT(N136/H136) -> 6.5575757 | R136: =0.01*2*D136*E136 -> 126.84 | S136: =(0.67*(D136-0.63*F136)*F136^3+0.33*(C136-2*F136)*E136^3+2*(E136/F136)*(0.145+0.1*G136/F136)*(((G136+0.5*E136)^2+(G136+F136)^2-G136^2)/(2*G136+F136))^4)/10000 -> 1704.3062 | T136: =(F136*D136^3*(C136-F136)^2)/24000000 -> 43015036
B137: UPN
A138: UPN 80 | B138: 8.65 | C138: 80 | D138: 45 | E138: 6 | F138: 8 | G138: 8 | H138: 11 | I138: 106 | J138: 26.5 | K138: 31.8 | L138: 3.1 | M138: 5.1 | N138: 19.4 | O138: 6.36 | P138: 12.1 | Q138: 1.33 | R138: 7.2 | S138: 2.16 | T138: 170
A139: UPN 100 | B139: 10.6 | C139: 100 | D139: 45 | E139: 6 | F139: 8 | G139: 8 | H139: 13.5 | I139: 206 | J139: 41.2 | K139: 49 | L139: 3.91 | M139: 6.46 | N139: 29.3 | O139: 8.46 | P139: 16.2 | Q139: 1.47 | R139: 7.2 | S139: 2.81 | T139: 410
A140: UPN 120 | B140: 13.4 | C140: 120 | D140: 55 | E140: 7 | F140: 9 | G140: 9 | H140: 17 | I140: 364 | J140: 60.7 | K140: 72.6 | L140: 4.62 | M140: 8.8 | N140: 43.2 | O140: 11.1 | P140: 21.2 | Q140: 1.59 | R140: 9.9 | S140: 4.15 | T140: 900
A141: UPN 140 | B141: 16 | C141: 140 | D141: 60 | E141: 7 | F141: 10 | G141: 10 | H141: 20.4 | I141: 605 | J141: 86.4 | K141: 103 | L141: 5.45 | M141: 10.41 | N141: 62.7 | O141: 14.8 | P141: 28.3 | Q141: 1.75 | R141: 12 | S141: 5.68 | T141: 1800
A142: UPN 160 | B142: 18.8 | C142: 160 | D142: 65 | E142: 7.5 | F142: 10.5 | G142: 10.5 | H142: 24 | I142: 925 | J142: 116 | K142: 138 | L142: 6.21 | M142: 12.6 | N142: 85.3 | O142: 18.3 | P142: 35.2 | Q142: 1.89 | R142: 13.65 | S142: 7.39 | T142: 3260
A143: UPN 180 | B143: 22 | C143: 180 | D143: 70 | E143: 8 | F143: 11 | G143: 11 | H143: 28 | I143: 1350 | J143: 150 | K143: 179 | L143: 6.95 | M143: 15.09 | N143: 114 | O143: 22.4 | P143: 42.9 | Q143: 2.02 | R143: 15.4 | S143: 9.55 | T143: 5570
A144: UPN 200 | B144: 25.3 | C144: 200 | D144: 75 | E144: 8.5 | F144: 11.5 | G144: 11.5 | H144: 32.2 | I144: 1910 | J144: 191 | K144: 228 | L144: 7.7 | M144: 17.71 | N144: 148 | O144: 27 | P144: 51.8 | Q144: 2.14 | R144: 17.25 | S144: 11.9 | T144: 9070
A145: UPN 220 | B145: 29.4 | C145: 220 | D145: 80 | E145: 9 | F145: 12.5 | G145: 12.5 | H145: 37.4 | I145: 2690 | J145: 245 | K145: 292 | L145: 8.48 | M145: 20.62 | N145: 197 | O145: 33.6 | P145: 64.1 | Q145: 2.3 | R145: 20 | S145: 16 | T145: 14600
A146: UPN 240 | B146: 33.2 | C146: 240 | D146: 85 | E146: 9.5 | F146: 13 | G146: 13 | H146: 42.3 | I146: 3600 | J146: 300 | K146: 358 | L146: 9.22 | M146: 23.71 | N146: 248 | O146: 39.6 | P146: 75.7 | Q146: 2.42 | R146: 22.1 | S146: 19.7 | T146: 22100
A147: UPN 260 | B147: 37.9 | C147: 260 | D147: 90 | E147: 10 | F147: 14 | G147: 14 | H147: 48.3 | I147: 4820 | J147: 371 | K147: 442 | L147: 9.99 | M147: 27.12 | N147: 317 | O147: 47.7 | P147: 91.6 | Q147: 2.56 | R147: 25.2 | S147: 25.5 | T147: 33300
A148: UPN 280 | B148: 41.8 | C148: 280 | D148: 95 | E148: 10 | F148: 15 | G148: 15 | H148: 53.3 | I148: 6280 | J148: 448 | K148: 532 | L148: 10.9 | M148: 29.28 | N148: 399 | O148: 57.2 | P148: 109 | Q148: 2.74 | R148: 28.5 | S148: 31 | T148: 48500
A149: UPN 300 | B149: 46.2 | C149: 300 | D149: 100 | E149: 10 | F149: 16 | G149: 16 | H149: 58.8 | I149: 8030 | J149: 535 | K149: 632 | L149: 11.7 | M149: 31.77 | N149: 495 | O149: 67.8 | P149: 130 | Q149: 2.9 | R149: 32 | S149: 37.4 | T149: 69100
... A153: UPN 400 | B153: 71.8 | C153: 400 | D153: 110 | E153: 14 | F153: 18 | G153: 18 | H153: 91.5 | I153: 20350 | J153: 1020 | K153: 1240 | L153: 14.9 | M153: 58.55 | N153: 846 | O153: 102 | P153: 190 | Q153: 3.04 | R153: 39.6 | S153: 81.6 | T153: 221000
...

Sheet Cornières
A1: Type de profilé | B1: Masse | C1: Dimensions | H1: Aire | I1: Inertie | J1: Module de flexion | L1: Rayon de giration | N1: Inertie | O1: Module de flexion | Q1: Rayon de giration | S1: Axes principaux | AE1: Trusquinage et diamètres boulons | AI1: Dist cdg / Dos ailes | AK1: Inclinaison des axes
B2: G | C2: h | D2: b | E2: t | F2: r1 | G2: r2 | H2: A | I2: Iy | J2: Wel,y | L2: iy | N2: Iz | O2: Wel,z | Q2: iz | S2: Iz' | T2: dz/fibre | U2: Wel,z' | V2: iz' | W2: Iy' | X2: dy'/fibre | Y2: Wel,y' | Z2: iy' | AA2: h1/y | AB2: Wpl,y | AC2: h1/z | AD2: Wpl,z | AE2: e | AF2: d | AG2: e | AH2: d | AI2: dy | AJ2: dz | AK2: tg (alpha)
B3: kg | C3: mm | D3: mm | E3: mm | F3: mm | G3: mm | H3: cm² | I3: cm4 | J3: cm3 | L3: cm | N3: cm4 | O3: cm3 | Q3: cm | S3: cm4 | T3: mm | U3: cm3 | V3: cm | W3: cm4 | X3: mm | Y3: cm3 | Z3: cm | AE3: Grande aile | AG3: Petite aile | AI3: mm | AJ3: mm | AK3: cm
C4: CAE
A5: CAE 20x20x3 | B5: =0.1*7.85*H5 -> 0.88705 | C5: 20 | D5: 20 | E5: 3 | F5: 4 | G5: =F5/2 -> 2 | H5: 1.13 | I5: 0.39 | J5: =I5*10/($C5-$AI5) -> 0.27857143 | L5: =SQRT(I5/H5) -> 0.58747999 | N5: =I5 -> 0.39 | O5: =N5*10/($D5-$AJ5) -> 0.27857143 | Q5: =SQRT(N5/$H5) -> 0.58747999 | S5: 0.61 | T5: 14.1 | U5: =S5*10/T5 -> 0.43262411 | V5: =SQRT(S5/$H5) -> 0.73472649 | W5: 0.16 | X5: 8.4 | Y5: =W5*10/X5 -> 0.19047619 | Z5: =SQRT(W5/$H5) -> 0.37628835 | AA5: =C5-(C5-E5)*E5/(2*D5)-(D5-2*E5)*E5/(2*D5)-PI()*E5*E5/(4*D5)-(1-PI()/4)*F5*F5/(2*D5) -> 17.23573 | AB5: =((C5-2*E5)*(AA5-C5/2)*E5+((AA5-C5+E5)^2+(C5-AA5)^2)*(D5-E5)/2+PI()*E5*E5/4*AA5+(1-PI()/4)*F5*F5*((10-3*PI())/(12-3*PI())*F5+AA5-C5+E5))/1000 -> 0.49503255 | AC5: =D5-(D5-E5)*E5/(2*C5)-(C5-2*E5)*E5/(2*C5)-PI()*E5*E5/(4*C5)-(1-PI()/4)*F5*F5/(2*C5) -> 17.23573 | AE5: 12 | AF5: 6 | AG5: 12 | AH5: 6 | AI5: 6 | AJ5: =AI5 -> 6 | AK5: 0.5
A6: CAE 25x25x3 | B6: =0.1*7.85*H6 -> 1.12255 | C6: 25 | D6: 25 | E6: 3 | F6: 4 | G6: =F6/2 -> 2 | H6: 1.43 | I6: 0.8 | J6: =I6*10/($C6-$AI6) -> 0.4494382 | L6: =SQRT(I6/H6) -> 0.74795759 | N6: =I6 -> 0.8 | O6: =N6*10/($D6-$AJ6) -> 0.4494382 | Q6: =SQRT(N6/$H6) -> 0.74795759 | S6: 1.26 | T6: 17.7 | U6: =S6*10/T6 -> 0.71186441 | V6: =SQRT(S6/$H6) -> 0.93867933 | W6: 0.33 | X6: 10.2 | Y6: =W6*10/X6 -> 0.32352941 | Z6: =SQRT(W6/$H6) -> 0.48038446 | AA6: =C6-(C6-E6)*E6/(2*D6)-(D6-2*E6)*E6/(2*D6)-PI()*E6*E6/(4*D6)-(1-PI()/4)*F6*F6/(2*D6) -> 22.188584 | AB6: =((C6-2*E6)*(AA6-C6/2)*E6+((AA6-C6+E6)^2+(C6-AA6)^2)*(D6-E6)/2+PI()*E6*E6/4*AA6+(1-PI()/4)*F6*F6*((10-3*PI())/(12-3*PI())*F6+AA6-C6+E6))/1000 -> 0.80014239 | AE6: 14 | AF6: 8 | AG6: 14 | AH6: 8 | AI6: 7.2 | AJ6: =AI6 -> 7.2
A7: CAE 25x25x4 | B7: =0.1*7.85*H7 -> 1.4601 | C7: 25 | D7: 25 | E7: 4 | F7: 4 | G7: =F7/2 -> 2 | H7: 1.86 | I7: 1.1 | J7: =I7*10/($C7-$AI7) -> 0.63218391 | L7: =SQRT(I7/H7) -> 0.76902396 | N7: =I7 -> 1.1 | O7: =N7*10/($D7-$AJ7) -> 0.63218391 | Q7: =SQRT(N7/$H7) -> 0.76902396 | S7: 1.6 | T7: 17.7 | U7: =S7*10/T7 -> 0.9039548 | V7: =SQRT(S7/$H7) -> 0.92747779 | W7: 0.43 | X7: 10.7 | Y7: =W7*10/X7 -> 0.40186916 | Z7: =SQRT(W7/$H7) -> 0.48081472 | AA7: =C7-(C7-E7)*E7/(2*D7)-(D7-2*E7)*E7/(2*D7)-PI()*E7*E7/(4*D7)-(1-PI()/4)*F7*F7/(2*D7) -> 21.388673 | AB7: =((C7-2*E7)*(AA7-C7/2)*E7+((AA7-C7+E7)^2+(C7-AA7)^2)*(D7-E7)/2+PI()*E7*E7/4*AA7+(1-PI()/4)*F7*F7*((10-3*PI())/(12-3*PI())*F7+AA7-C7+E7))/1000 -> 1.016134 | AE7: 14 | AF7: 8 | AG7: 14 | AH7: 8 | AI7: 7.6 | AJ7: =AI7 -> 7.6
A8: CAE 25x25x5 | B8: =0.1*7.85*H8 -> 1.7898 | C8: 25 | D8: 25 | E8: 5 | F8: 5 | G8: =F8/2 -> 2.5 | H8: 2.28 | I8: 1.19 | J8: =I8*10/($C8-$AI8) -> 0.69590643 | L8: =SQRT(I8/H8) -> 0.72244711 | N8: =I8 -> 1.19 | O8: =N8*10/($D8-$AJ8) -> 0.69590643 | Q8: =SQRT(N8/$H8) -> 0.72244711 | S8: 1.87 | T8: 17.7 | U8: =S8*10/T8 -> 1.0564972 | V8: =SQRT(S8/$H8) -> 0.90563538 | W8: 0.51 | X8: 11.2 | Y8: =W8*10/X8 -> 0.45535714 | Z8: =SQRT(W8/$H8) -> 0.47295265 | AA8: =C8-(C8-E8)*E8/(2*D8)-(D8-2*E8)*E8/(2*D8)-PI()*E8*E8/(4*D8)-(1-PI()/4)*F8*F8/(2*D8) -> 20.607301 | AB8: =((C8-2*E8)*(AA8-C8/2)*E8+((AA8-C8+E8)^2+(C8-AA8)^2)*(D8-E8)/2+PI()*E8*E8/4*AA8+(1-PI()/4)*F8*F8*((10-3*PI())/(12-3*PI())*F8+AA8-C8+E8))/1000 -> 1.2185673 | AE8: 14 | AF8: 8 | AG8: 14 | AH8: 8 | AI8: 7.9 | AJ8: =AI8 -> 7.9
A9: CAE 30x30x3 | B9: =0.1*7.85*H9 -> 1.3659 | C9: 30 | D9: 30 | E9: 3 | F9: 5 | G9: =F9/2 -> 2.5 | H9: 1.74 | I9: 1.4 | J9: =I9*10/($C9-$AI9) -> 0.64814815 | L9: =SQRT(I9/H9) -> 0.8969937 | N9: =I9 -> 1.4 | O9: =N9*10/($D9-$AJ9) -> 0.64814815 | Q9: =SQRT(N9/$H9) -> 0.8969937 | S9: 2.22 | T9: 21.2 | U9: =S9*10/T9 -> 1.0471698 | V9: =SQRT(S9/$H9) -> 1.1295406 | W9: 0.59 | X9: 11.8 | Y9: =W9*10/X9 -> 0.5 | Z9: =SQRT(W9/$H9) -> 0.58230616 | AA9: =C9-(C9-E9)*E9/(2*D9)-(D9-2*E9)*E9/(2*D9)-PI()*E9*E9/(4*D9)-(1-PI()/4)*F9*F9/(2*D9) -> 27.124963 | AB9: =((C9-2*E9)*(AA9-C9/2)*E9+((AA9-C9+E9)^2+(C9-AA9)^2)*(D9-E9)/2+PI()*E9*E9/4*AA9+(1-PI()/4)*F9*F9*((10-3*PI())/(12-3*PI())*F9+AA9-C9+E9))/1000 -> 1.1831944 | AE9: 18 | AF9: 8 | AG9: 18 | AH9: 8 | AI9: 8.4 | AJ9: =AI9 -> 8.4
A10: CAE 30x30x3,5 | B10: =0.1*7.85*H10 -> 1.57 | C10: 30 | D10: 30 | E10: 3.5 | F10: 5 | G10: =F10/2 -> 2.5 | H10: 2 | I10: 1.61 | J10: =I10*10/($C10-$AI10) -> 0.75233645 | L10: =SQRT(I10/H10) -> 0.89721792 | N10: =I10 -> 1.61 | O10: =N10*10/($D10-$AJ10) -> 0.75233645 | Q10: =SQRT(N10/$H10) -> 0.89721792 | S10: 2.55 | T10: 21.2 | U10: =S10*10/T10 -> 1.2028302 | V10: =SQRT(S10/$H10) -> 1.129159 | W10: 0.67 | X10: 12.1 | Y10: =W10*10/X10 -> 0.55371901 | Z10: =SQRT(W10/$H10) -> 0.57879185 | AA10: =C10-(C10-E10)*E10/(2*D10)-(D10-2*E10)*E10/(2*D10)-PI()*E10*E10/(4*D10)-(1-PI()/4)*F10*F10/(2*D10) -> 26.702378 | AB10: =((C10-2*E10)*(AA10-C10/2)*E10+((AA10-C10+E10)^2+(C10-AA10)^2)*(D10-E10)/2+PI()*E10*E10/4*AA10+(1-PI()/4)*F10*F10*((10-3*PI())/(12-3*PI())*F10+AA10-C10+E10))/1000 -> 1.3506534 | AE10: 18 | AF10: 8 | AG10: 18 | AH10: 8 | AI10: 8.6 | AJ10: =AI10 -> 8.6
A11: CAE 30x30x4 | B11: =0.1*7.85*H11 -> 1.78195 | C11: 30 | D11: 30 | E11: 4 | F11: 5 | G11: =F11/2 -> 2.5 | H11: 2.27 | I11: 1.8 | J11: =I11*10/($C11-$AI11) -> 0.8490566 | L11: =SQRT(I11/H11) -> 0.89047827 | N11: =I11 -> 1.8 | O11: =N11*10/($D11-$AJ11) -> 0.8490566 | Q11: =SQRT(N11/$H11) -> 0.89047827 | S11: 2.85 | T11: 21.2 | U11: =S11*10/T11 -> 1.3443396 | V11: =SQRT(S11/$H11) -> 1.1204939 | W11: 0.75 | X11: 12.4 | Y11: =W11*10/X11 -> 0.60483871 | Z11: =SQRT(W11/$H11) -> 0.57480125 | AA11: =C11-(C11-E11)*E11/(2*D11)-(D11-2*E11)*E11/(2*D11)-PI()*E11*E11/(4*D11)-(1-PI()/4)*F11*F11/(2*D11) -> 26.291704 | AB11: =((C11-2*E11)*(AA11-C11/2)*E11+((AA11-C11+E11)^2+(C11-AA11)^2)*(D11-E11)/2+PI()*E11*E11/4*AA11+(1-PI()/4)*F11*F11*((10-3*PI())/(12-3*PI())*F11+AA11-C11+E11))/1000 -> 1.5114933 | AE11: 18 | AF11: 8 | AG11: 18 | AH11: 8 | AI11: 8.8 | AJ11: =AI11 -> 8.8
A12: CAE 30x30x5 | B12: =0.1*7.85*H12 -> 2.1823 | C12: 30 | D12: 30 | E12: 5 | F12: 5 | G12: =F12/2 -> 2.5 | H12: 2.78 | I12: 2.16 | J12: =I12*10/($C12-$AI12) -> 1.0384615 | L12: =SQRT(I12/H12) -> 0.88146379 | N12: =I12 -> 2.16 | O12: =N12*10/($D12-$AJ12) -> 1.0384615 | Q12: =SQRT(N12/$H12) -> 0.88146379 | S12: 3.41 | T12: 21.2 | U12: =S12*10/T12 -> 1.6084906 | V12: =SQRT(S12/$H12) -> 1.1075282 | W12: 0.92 | X12: 13 | Y12: =W12*10/X12 -> 0.70769231 | Z12: =SQRT(W12/$H12) -> 0.57526972 | AA12: =C12-(C12-E12)*E12/(2*D12)-(D12-2*E12)*E12/(2*D12)-PI()*E12*E12/(4*D12)-(1-PI()/4)*F12*F12/(2*D12) -> 25.506084 | AB12: =((C12-2*E12)*(AA12-C12/2)*E12+((AA12-C12+E12)^2+(C12-AA12)^2)*(D12-E12)/2+PI()*E12*E12/4*AA12+(1-PI()/4)*F12*F12*((10-3*PI())/(12-3*PI())*F12+AA12-C12+E12))/1000 -> 1.8157688 | AE12: 18 | AF12: 8 | AG12: =AE12 -> 18 | AH12: =AF12 -> 8 | AI12: 9.2 | AJ12: =AI12 -> 9.2
A13: CAE 35x35x3,5 | B13: =0.1*7.85*H13 -> 1.8369 | C13: 35 | D13: 35 | E13: 3.5 | F13: 4 | G13: =F13/2 -> 2 | H13: 2.34 | I13: 2.66 | J13: =I13*10/($C13-$AI13) -> 1.059761 | L13: =SQRT(I13/H13) -> 1.0661858 | N13: =I13 -> 2.66 | O13: =N13*10/($D13-$AJ13) -> 1.059761 | Q13: =SQRT(N13/$H13) -> 1.0661858 | S13: 4.22 | T13: 24.7 | U13: =S13*10/T13 -> 1.708502 | V13: =SQRT(S13/$H13) -> 1.3429143 | W13: 1.11 | X13: 14 | Y13: =W13*10/X13 -> 0.79285714 | Z13: =SQRT(W13/$H13) -> 0.68873723 | AA13: =C13-(C13-E13)*E13/(2*D13)-(D13-2*E13)*E13/(2*D13)-PI()*E13*E13/(4*D13)-(1-PI()/4)*F13*F13/(2*D13) -> 31.701059 | AB13: =((C13-2*E13)*(AA13-C13/2)*E13+((AA13-C13+E13)^2+(C13-AA13)^2)*(D13-E13)/2+PI()*E13*E13/4*AA13+(1-PI()/4)*F13*F13*((10-3*PI())/(12-3*PI())*F13+AA13-C13+E13))/1000 -> 1.872506 | AE13: 20 | AF13: 10 | AG13: =AE13 -> 20 | AH13: =AF13 -> 10 | AI13: 9.9 | AJ13: =AI13 -> 9.9
A14: CAE 35x35x4 | B14: =0.1*7.85*H14 -> 2.09595 | C14: 35 | D14: 35 | E14: 4 | F14: 5 | G14: =F14/2 -> 2.5 | H14: 2.67 | I14: 2.95 | J14: =I14*10/($C14-$AI14) -> 1.18 | L14: =SQRT(I14/H14) -> 1.0511274 | N14: =I14 -> 2.95 | O14: =N14*10/($D14-$AJ14) -> 1.18 | Q14: =SQRT(N14/$H14) -> 1.0511274 | S14: 4.68 | T14: 24.7 | U14: =S14*10/T14 -> 1.8947368 | V14: =SQRT(S14/$H14) -> 1.3239369 | W14: 1.23 | X14: 14.2 | Y14: =W14*10/X14 -> 0.86619718 | Z14: =SQRT(W14/$H14) -> 0.67872981 | AA14: =C14-(C14-E14)*E14/(2*D14)-(D14-2*E14)*E14/(2*D14)-PI()*E14*E14/(4*D14)-(1-PI()/4)*F14*F14/(2*D14) -> 31.250032 | AB14: =((C14-2*E14)*(AA14-C14/2)*E14+((AA14-C14+E14)^2+(C14-AA14)^2)*(D14-E14)/2+PI()*E14*E14/4*AA14+(1-PI()/4)*F14*F14*((10-3*PI())/(12-3*PI())*F14+AA14-C14+E14))/1000 -> 2.1039703 | AE14: 20 | AF14: 10 | AG14: =AE14 -> 20 | AH14: =AF14 -> 10 | AI14: 10 | AJ14: =AI14 -> 10
A15: CAE 35x35x5 | B15: =0.1*7.85*H15 -> 2.5748 | C15: 35 | D15: 35 | E15: 5 | F15: 5 | G15: =F15/2 -> 2.5 | H15: 3.28 | I15: 3.56 | J15: =I15*10/($C15-$AI15) -> 1.4471545 | L15: =SQRT(I15/H15) -> 1.0418089 | N15: =I15 -> 3.56 | O15: =N15*10/($D15-$AJ15) -> 1.4471545 | Q15: =SQRT(N15/$H15) -> 1.0418089 | S15: 5.64 | T15: 24.7 | U15: =S15*10/T15 -> 2.2834008 | V15: =SQRT(S15/$H15) -> 1.3113017 | W15: 1.49 | X15: 14.8 | Y15: =W15*10/X15 -> 1.0067568 | Z15: =SQRT(W15/$H15) -> 0.67399428 | AA15: =C15-(C15-E15)*E15/(2*D15)-(D15-2*E15)*E15/(2*D15)-PI()*E15*E15/(4*D15)-(1-PI()/4)*F15*F15/(2*D15) -> 30.433786 | AB15: =((C15-2*E15)*(AA15-C15/2)*E15+((AA15-C15+E15)^2+(C15-AA15)^2)*(D15-E15)/2+PI()*E15*E15/4*AA15+(1-PI()/4)*F15*F15*((10-3*PI())/(12-3*PI())*F15+AA15-C15+E15))/1000 -> 2.5381856 | AE15: 20 | AF15: 10 | AG15: =AE15 -> 20 | AH15: =AF15 -> 10 | AI15: 10.4 | AJ15: =AI15 -> 10.4
A16: CAE 40x40x3 | B16: =0.1*7.85*H16 -> 1.8369 | C16: 40 | D16: 40 | E16: 3 | F16: 5 | G16: =F16/2 -> 2.5 | H16: 2.34 | I16: 3.49 | J16: =I16*10/($C16-$AI16) -> 1.1952055 | L16: =SQRT(I16/H16) -> 1.2212506 | N16: =I16 -> 3.49 | O16: =N16*10/($D16-$AJ16) -> 1.1952055 | Q16: =SQRT(N16/$H16) -> 1.2212506 | S16: 5.53 | T16: 28.3 | U16: =S16*10/T16 -> 1.9540636 | V16: =SQRT(S16/$H16) -> 1.5372859 | W16: 1.45 | X16: 15.3 | Y16: =W16*10/X16 -> 0.94771242 | Z16: =SQRT(W16/$H16) -> 0.78718366 | AA16: =C16-(C16-E16)*E16/(2*D16)-(D16-2*E16)*E16/(2*D16)-PI()*E16*E16/(4*D16)-(1-PI()/4)*F16*F16/(2*D16) -> 37.093722 | AB16: =((C16-2*E16)*(AA16-C16/2)*E16+((AA16-C16+E16)^2+(C16-AA16)^2)*(D16-E16)/2+PI()*E16*E16/4*AA16+(1-PI()/4)*F16*F16*((10-3*PI())/(12-3*PI())*F16+AA16-C16+E16))/1000 -> 2.1686763 | AE16: 22 | AF16: 12 | AG16: =AE16 -> 22 | AH16: =AF16 -> 12 | AI16: 10.8 | AJ16: =AI16 -> 10.8
A17: CAE 40x40x4 | B17: =0.1*7.85*H17 -> 2.4178 | C17: 40 | D17: 40 | E17: 4 | F17: 6 | G17: =F17/2 -> 3 | H17: 3.08 | I17: 4.47 | J17: =I17*10/($C17-$AI17) -> 1.5520833 | L17: =SQRT(I17/H17) -> 1.2046986 | N17: =I17 -> 4.47 | O17: =N17*10/($D17-$AJ17) -> 1.5520833 | Q17: =SQRT(N17/$H17) -> 1.2046986 | S17: 7.09 | T17: 28.3 | U17: =S17*10/T17 -> 2.5053004 | V17: =SQRT(S17/$H17) -> 1.5172172 | W17: 1.86 | X17: 15.8 | Y17: =W17*10/X17 -> 1.1772152 | Z17: =SQRT(W17/$H17) -> 0.77710752 | AA17: =C17-(C17-E17)*E17/(2*D17)-(D17-2*E17)*E17/(2*D17)-PI()*E17*E17/(4*D17)-(1-PI()/4)*F17*F17/(2*D17) -> 36.18927 | AB17: =((C17-2*E17)*(AA17-C17/2)*E17+((AA17-C17+E17)^2+(C17-AA17)^2)*(D17-E17)/2+PI()*E17*E17/4*AA17+(1-PI()/4)*F17*F17*((10-3*PI())/(12-3*PI())*F17+AA17-C17+E17))/1000 -> 2.8008453 | AE17: 22 | AF17: 12 | AG17: =AE17 -> 22 | AH17: =AF17 -> 12 | AI17: 11.2 | AJ17: =AI17 -> 11.2
A18: CAE 40x40x5 | B18: =0.1*7.85*H18 -> 2.97515 | C18: 40 | D18: 40 | E18: 5 | F18: 6 | G18: =F18/2 -> 3 | H18: 3.79 | I18: 5.43 | J18: =I18*10/($C18-$AI18) -> 1.9119718 | L18: =SQRT(I18/H18) -> 1.1969619 | N18: =I18 -> 5.43 | O18: =N18*10/($D18-$AJ18) -> 1.9119718 | Q18: =SQRT(N18/$H18) -> 1.1969619 | S18: 8.59 | T18: 28.3 | U18: =S18*10/T18 -> 3.0353357 | V18: =SQRT(S18/$H18) -> 1.5054869 | W18: 2.26 | X18: 16.4 | Y18: =W18*10/X18 -> 1.3780488 | Z18: =SQRT(W18/$H18) -> 0.77220857 | AA18: =C18-(C18-E18)*E18/(2*D18)-(D18-2*E18)*E18/(2*D18)-PI()*E18*E18/(4*D18)-(1-PI()/4)*F18*F18/(2*D18) -> 35.350055 | AB18: =((C18-2*E18)*(AA18-C18/2)*E18+((AA18-C18+E18)^2+(C18-AA18)^2)*(D18-E18)/2+PI()*E18*E18/4*AA18+(1-PI()/4)*F18*F18*((10-3*PI())/(12-3*PI())*F18+AA18-C18+E18))/1000 -> 3.3901926 | AE18: 22 | AF18: 12 | AG18: =AE18 -> 22 | AH18: =AF18 -> 12 | AI18: 11.6 | AJ18: =AI18 -> 11.6
A19: CAE 40x40x6 | B19: =0.1*7.85*H19 -> 3.5168 | C19: 40 | D19: 40 | E19: 6 | F19: 6 | G19: =F19/2 -> 3 | H19: 4.48 | I19: 6.31 | J19: =I19*10/($C19-$AI19) -> 2.2535714 | L19: =SQRT(I19/H19) -> 1.1867949 | N19: =I19 -> 6.31 | O19: =N19*10/($D19-$AJ19) -> 2.2535714 | Q19: =SQRT(N19/$H19) -> 1.1867949 | S19: 9.98 | T19: 28.3 | U19: =S19*10/T19 -> 3.5265018 | V19: =SQRT(S19/$H19) -> 1.492541 | W19: 2.65 | X19: 17 | Y19: =W19*10/X19 -> 1.5588235 | Z19: =SQRT(W19/$H19) -> 0.76910198 | AA19: =C19-(C19-E19)*E19/(2*D19)-(D19-2*E19)*E19/(2*D19)-PI()*E19*E19/(4*D19)-(1-PI()/4)*F19*F19/(2*D19) -> 34.546571 | AB19: =((C19-2*E19)*(AA19-C19/2)*E19+((AA19-C19+E19)^2+(C19-AA19)^2)*(D19-E19)/2+PI()*E19*E19/4*AA19+(1-PI()/4)*F19*F19*((10-3*PI())/(12-3*PI())*F19+AA19-C19+E19))/1000 -> 3.9458385 | AE19: 22 | AF19: 12 | AG19: =AE19 -> 22 | AH19: =AF19 -> 12 | AI19: 12 | AJ19: =AI19 -> 12
A20: CAE 45x45x3 | B20: =0.1*7.85*H20 -> 2.0724 | C20: 45 | D20: 45 | E20: 3 | F20: 5 | G20: =F20/2 -> 2.5 | H20: 2.64 | I20: 5.05 | J20: =I20*10/($C20-$AI20) -> 1.5349544 | L20: =SQRT(I20/H20) -> 1.3830686 | N20: =I20 -> 5.05 | O20: =N20*10/($D20-$AJ20) -> 1.5349544 | Q20: =SQRT(N20/$H20) -> 1.3830686 | S20: 8.01 | T20: 31.8 | U20: =S20*10/T20 -> 2.5188679 | V20: =SQRT(S20/$H20) -> 1.7418642 | W20: 2.09 | X20: 17.1 | Y20: =W20*10/X20 -> 1.2222222 | Z20: =SQRT(W20/$H20) -> 0.88975652 | AA20: =C20-(C20-E20)*E20/(2*D20)-(D20-2*E20)*E20/(2*D20)-PI()*E20*E20/(4*D20)-(1-PI()/4)*F20*F20/(2*D20) -> 42.083309 | AB20: =((C20-2*E20)*(AA20-C20/2)*E20+((AA20-C20+E20)^2+(C20-AA20)^2)*(D20-E20)/2+PI()*E20*E20/4*AA20+(1-PI()/4)*F20*F20*((10-3*PI())/(12-3*PI())*F20+AA20-C20+E20))/1000 -> 2.7739499 | AE20: 25 | AF20: 12 | AG20: =AE20 -> 25 | AH20: =AF20 -> 12 | AI20: 12.1 | AJ20: =AI20 -> 12.1
A21: CAE 45x45x4 | B21: =0.1*7.85*H21 -> 2.72395 | C21: 45 | D21: 45 | E21: 4 | F21: 5 | G21: =F21/2 -> 2.5 | H21: 3.47 | I21: 6.55 | J21: =I21*10/($C21-$AI21) -> 2.0153846 | L21: =SQRT(I21/H21) -> 1.3739025 | N21: =I21 -> 6.55 | O21: =N21*10/($D21-$AJ21) -> 2.0153846 | Q21: =SQRT(N21/$H21) -> 1.3739025 | S21: 10.4 | T21: 31.8 | U21: =S21*10/T21 -> 3.2704403 | V21: =SQRT(S21/$H21) -> 1.7312187 | W21: 2.7 | X21: 17.7 | Y21: =W21*10/X21 -> 1.5254237 | Z21: =SQRT(W21/$H21) -> 0.88209862 | AA21: =C21-(C21-E21)*E21/(2*D21)-(D21-2*E21)*E21/(2*D21)-PI()*E21*E21/(4*D21)-(1-PI()/4)*F21*F21/(2*D21) -> 41.194469 | AB21: =((C21-2*E21)*(AA21-C21/2)*E21+((AA21-C21+E21)^2+(C21-AA21)^2)*(D21-E21)/2+PI()*E21*E21/4*AA21+(1-PI()/4)*F21*F21*((10-3*PI())/(12-3*PI())*F21+AA21-C21+E21))/1000 -> 3.5891392 | AE21: 25 | AF21: 12 | AG21: =AE21 -> 25 | AH21: =AF21 -> 12 | AI21: 12.5 | AJ21: =AI21 -> 12.5
A22: CAE 45x45x4,5 | B22: =0.1*7.85*H22 -> 3.0615 | C22: 45 | D22: 45 | E22: 4.5 | F22: 7 | G22: =F22/2 -> 3.5 | H22: 3.9 | I22: 7.15 | J22: =I22*10/($C22-$AI22) -> 2.2067901 | L22: =SQRT(I22/H22) -> 1.3540064 | N22: =I22 -> 7.15 | O22: =N22*10/($D22-$AJ22) -> 2.2067901 | Q22: =SQRT(N22/$H22) -> 1.3540064 | S22: 11.32 | T22: 31.8 | U22: =S22*10/T22 -> 3.5597484 | V22: =SQRT(S22/$H22) -> 1.7036913 | W22: 2.97 | X22: 17.8 | Y22: =W22*10/X22 -> 1.6685393 | Z22: =SQRT(W22/$H22) -> 0.87266171 | AA22: =C22-(C22-E22)*E22/(2*D22)-(D22-2*E22)*E22/(2*D22)-PI()*E22*E22/(4*D22)-(1-PI()/4)*F22*F22/(2*D22) -> 40.704732 | AB22: =((C22-2*E22)*(AA22-C22/2)*E22+((AA22-C22+E22)^2+(C22-AA22)^2)*(D22-E22)/2+PI()*E22*E22/4*AA22+(1-PI()/4)*F22*F22*((10-3*PI())/(12-3*PI())*F22+AA22-C22+E22))/1000 -> 3.9895897 | AE22: 25 | AF22: 12 | AG22: =AE22 -> 25 | AH22: =AF22 -> 12 | AI22: 12.6 | AJ22: =AI22 -> 12.6
A23: CAE 45x45x5 | B23: =0.1*7.85*H23 -> 3.3755 | C23: 45 | D23: 45 | E23: 5 | F23: 7 | G23: =F23/2 -> 3.5 | H23: 4.3 | I23: 7.84 | J23: =I23*10/($C23-$AI23) -> 2.4347826 | L23: =SQRT(I23/H23) -> 1.3502799 | N23: =I23 -> 7.84 | O23: =N23*10/($D23-$AJ23) -> 2.4347826 | Q23: =SQRT(N23/$H23) -> 1.3502799 | S23: 12.42 | T23: 31.8 | U23: =S23*10/T23 -> 3.9056604 | V23: =SQRT(S23/$H23) -> 1.6995211 | W23: 3.26 | X23: 18.1 | Y23: =W23*10/X23 -> 1.801105 | Z23: =SQRT(W23/$H23) -> 0.87071208 | AA23: =C23-(C23-E23)*E23/(2*D23)-(D23-2*E23)*E23/(2*D23)-PI()*E23*E23/(4*D23)-(1-PI()/4)*F23*F23/(2*D23) -> 40.280162 | AB23: =((C23-2*E23)*(AA23-C23/2)*E23+((AA23-C23+E23)^2+(C23-AA23)^2)*(D23-E23)/2+PI()*E23*E23/4*AA23+(1-PI()/4)*F23*F23*((10-3*PI())/(12-3*PI())*F23+AA23-C23+E23))/1000 -> 4.3689225 | AE23: 25 | AF23: 12 | AG23: =AE23 -> 25 | AH23: =AF23 -> 12 | AI23: 12.8 | AJ23: =AI23 -> 12.8
... A97: CAE 200x200x24 | B97: =0.1*7.85*H97 -> 71.11315 | C97: 200 | D97: 200 | E97: 24 | F97: 18 | G97: =F97/2 -> 9 | H97: 90.59 | I97: 3330.66 | J97: =I97*10/($C97-$AI97) -> 235.2161 | L97: =SQRT(I97/H97) -> 6.0635229 | N97: =I97 -> 3330.66 | O97: =N97*10/($D97-$AJ97) -> 235.2161 | Q97: =SQRT(N97/$H97) -> 6.0635229 | S97: 5283.66 | T97: 141.4 | U97: =S97*10/T97 -> 373.66761 | V97: =SQRT(S97/$H97) -> 7.6370793 | W97: 1377.67 | X97: 82.6 | Y97: =W97*10/X97 -> 166.78814 | Z97: =SQRT(W97/$H97) -> 3.8997114 | AA97: =C97-(C97-E97)*E97/(2*D97)-(D97-2*E97)*E97/(2*D97)-PI()*E97*E97/(4*D97)-(1-PI()/4)*F97*F97/(2*D97) -> 177.88423 | AB97: =((C97-2*E97)*(AA97-C97/2)*E97+((AA97-C97+E97)^2+(C97-AA97)^2)*(D97-E97)/2+PI()*E97*E97/4*AA97+(1-PI()/4)*F97*F97*((10-3*PI())/(12-3*PI())*F97+AA97-C97+E97))/1000 -> 408.35904 | AE97: 100 | AF97: 27 | AG97: =AE97 -> 100 | AH97: =AF97 -> 27 | AI97: 58.4 | AJ97: =AI97 -> 58.4
C98: CAI
A99: CAI 30x20x3 | B99: =0.1*7.85*H99 -> 1.12255 | C99: 30 | D99: 20 | E99: 3 | F99: 4 | G99: =F99/2 -> 2 | H99: 1.43 | I99: 1.25 | J99: =I99*10/($C99-$AI99) -> 0.62189055 | L99: =SQRT(I99/H99) -> 0.93494699 | N99: 0.44 | O99: =$N99*10/($D99-$AJ99) -> 0.29333333 | Q99: =SQRT(N99/H99) -> 0.5547002 | S99: 1.43 | T99: 20.4 | U99: =S99*10/T99 -> 0.70098039 | V99: =SQRT(S99/H99) -> 1 | W99: 0.25 | X99: 10.4 | Y99: =W99*10/X99 -> 0.24038462 | Z99: =SQRT(W99/H99) -> 0.41812101 | AA99: =C99-(C99-E99)*E99/(2*D99)-(D99-2*E99)*E99/(2*D99)-PI()*E99*E99/(4*D99)-(1-PI()/4)*F99*F99/(2*D99) -> 26.48573 | AB99: =((C99-2*E99)*(AA99-C99/2)*E99+((AA99-C99+E99)^2+(C99-AA99)^2)*(D99-E99)/2+PI()*E99*E99/4*AA99+(1-PI()/4)*F99*F99*((10-3*PI())/(12-3*PI())*F99+AA99-C99+E99))/1000 -> 1.122715 | AE99: 17 | AF99: 8 | AG99: 12 | AH99: 6 | AI99: 9.9 | AJ99: 5 | AK99: 0.43
A100: CAI 30x20x4 | B100: =0.1*7.85*H100 -> 1.4601 | C100: 30 | D100: 20 | E100: 4 | F100: 4 | G100: =F100/2 -> 2 | H100: 1.86 | I100: 1.59 | J100: =I100*10/($C100-$AI100) -> 0.8071066 | L100: =SQRT(I100/H100) -> 0.92457488 | N100: 0.55 | O100: =$N100*10/($D100-$AJ100) -> 0.37671233 | Q100: =SQRT(N100/H100) -> 0.54378206 | S100: 1.81 | T100: 20.2 | U100: =S100*10/T100 -> 0.8960396 | V100: =SQRT(S100/H100) -> 0.98646758 | W100: 0.33 | X100: 10.4 | Y100: =W100*10/X100 -> 0.31730769 | Z100: =SQRT(W100/H100) -> 0.42121177 | AA100: =C100-(C100-E100)*E100/(2*D100)-(D100-2*E100)*E100/(2*D100)-PI()*E100*E100/(4*D100)-(1-PI()/4)*F100*F100/(2*D100) -> 25.485841 | AB100: =((C100-2*E100)*(AA100-C100/2)*E100+((AA100-C100+E100)^2+(C100-AA100)^2)*(D100-E100)/2+PI()*E100*E100/4*AA100+(1-PI()/4)*F100*F100*((10-3*PI())/(12-3*PI())*F100+AA100-C100+E100))/1000 -> 1.4094569 | AE100: 17 | AF100: 8 | AG100: 12 | AH100: 6 | AI100: 10.3 | AJ100: 5.4 | AK100: 0.422
A101: CAI 35x20x3,5 | B101: =0.1*7.85*H101 -> 1.4287 | C101: 35 | D101: 20 | E101: 3.5 | F101: 4 | G101: =F101/2 -> 2 | H101: 1.82 | I101: 2.2 | J101: =I101*10/($C101-$AI101) -> 0.96491228 | L101: =SQRT(I101/H101) -> 1.0994504 | N101: 0.52 | O101: =$N101*10/($D101-$AJ101) -> 0.34437086 | Q101: =SQRT(N101/H101) -> 0.53452248 | S101: 2.4 | T101: 23.2 | U101: =S101*10/T101 -> 1.0344828 | V101: =SQRT(S101/H101) -> 1.1483385 | W101: 0.32 | X101: 11.2 | Y101: =W101*10/X101 -> 0.28571429 | Z101: =SQRT(W101/H101) -> 0.41931393 | AA101: =C101-(C101-E101)*E101/(2*D101)-(D101-2*E101)*E101/(2*D101)-PI()*E101*E101/(4*D101)-(1-PI()/4)*F101*F101/(2*D101) -> 30.539353 | AB101: =((C101-2*E101)*(AA101-C101/2)*E101+((AA101-C101+E101)^2+(C101-AA101)^2)*(D101-E101)/2+PI()*E101*E101/4*AA101+(1-PI()/4)*F101*F101*((10-3*PI())/(12-3*PI())*F101+AA101-C101+E101))/1000 -> 1.7432157 | AE101: 20 | AF101: 10 | AG101: 12 | AH101: 6 | AI101: 12.2 | AJ101: 4.9 | AK101: 0.322
A102: CAI 35x20x4 | B102: =0.1*7.85*H102 -> 1.6171 | C102: 35 | D102: 20 | E102: 4 | F102: 4 | G102: =F102/2 -> 2 | H102: 2.06 | I102: 2.46 | J102: =I102*10/($C102-$AI102) -> 1.0933333 | L102: =SQRT(I102/H102) -> 1.092783 | N102: 0.58 | O102: =$N102*10/($D102-$AJ102) -> 0.38926174 | Q102: =SQRT(N102/H102) -> 0.53061606 | S102: 2.68 | T102: 23 | U102: =S102*10/T102 -> 1.1652174 | V102: =SQRT(S102/H102) -> 1.1406011 | W102: 0.36 | X102: 11.1 | Y102: =W102*10/X102 -> 0.32432432 | Z102: =SQRT(W102/H102) -> 0.41803981 | AA102: =C102-(C102-E102)*E102/(2*D102)-(D102-2*E102)*E102/(2*D102)-PI()*E102*E102/(4*D102)-(1-PI()/4)*F102*F102/(2*D102) -> 29.985841 | AB102: =((C102-2*E102)*(AA102-C102/2)*E102+((AA102-C102+E102)^2+(C102-AA102)^2)*(D102-E102)/2+PI()*E102*E102/4*AA102+(1-PI()/4)*F102*F102*((10-3*PI())/(12-3*PI())*F102+AA102-C102+E102))/1000 -> 1.9342321 | AE102: 20 | AF102: 10 | AG102: 12 | AH102: 6 | AI102: 12.5 | AJ102: 5.1 | AK102: 0.318
A103: CAI 40x20x3 | B103: =0.1*7.85*H103 -> 1.35805 | C103: 40 | D103: 20 | E103: 3 | F103: 4 | G103: =F103/2 -> 2 | H103: 1.73 | I103: 2.8 | J103: =I103*10/($C103-$AI103) -> 1.0852713 | L103: =SQRT(I103/H103) -> 1.2722017 | N103: 0.47 | O103: =$N103*10/($D103-$AJ103) -> 0.30128205 | Q103: =SQRT(N103/H103) -> 0.52122577 | S103: 2.97 | T103: 26.1 | U103: =S103*10/T103 -> 1.137931 | V103: =SQRT(S103/H103) -> 1.310253 | W103: 0.3 | X103: 11.9 | Y103: =W103*10/X103 -> 0.25210084 | Z103: =SQRT(W103/H103) -> 0.41642575 | AA103: =C103-(C103-E103)*E103/(2*D103)-(D103-2*E103)*E103/(2*D103)-PI()*E103*E103/(4*D103)-(1-PI()/4)*F103*F103/(2*D103) -> 35.73573 | AB103: =((C103-2*E103)*(AA103-C103/2)*E103+((AA103-C103+E103)^2+(C103-AA103)^2)*(D103-E103)/2+PI()*E103*E103/4*AA103+(1-PI()/4)*F103*F103*((10-3*PI())/(12-3*PI())*F103+AA103-C103+E103))/1000 -> 2.0245225 | AE103: 22 | AF103: 12 | AG103: 12 | AH103: 6 | AI103: 14.2 | AJ103: 4.4 | AK103: 0.258
A104: CAI 40x20x4 | B104: =0.1*7.85*H104 -> 1.7741 | C104: 40 | D104: 20 | E104: 4 | F104: 4 | G104: =F104/2 -> 2 | H104: 2.26 | I104: 3.59 | J104: =I104*10/($C104-$AI104) -> 1.4189723 | L104: =SQRT(I104/H104) -> 1.2603553 | N104: 0.6 | O104: =$N104*10/($D104-$AJ104) -> 0.39473684 | Q104: =SQRT(N104/H104) -> 0.51525404 | S104: 3.8 | T104: 25.8 | U104: =S104*10/T104 -> 1.4728682 | V104: =SQRT(S104/H104) -> 1.2966942 | W104: 0.39 | X104: 11.7 | Y104: =W104*10/X104 -> 0.33333333 | Z104: =SQRT(W104/H104) -> 0.41541109 | AA104: =C104-(C104-E104)*E104/(2*D104)-(D104-2*E104)*E104/(2*D104)-PI()*E104*E104/(4*D104)-(1-PI()/4)*F104*F104/(2*D104) -> 34.485841 | AB104: =((C104-2*E104)*(AA104-C104/2)*E104+((AA104-C104+E104)^2+(C104-AA104)^2)*(D104-E104)/2+PI()*E104*E104/4*AA104+(1-PI()/4)*F104*F104*((10-3*PI())/(12-3*PI())*F104+AA104-C104+E104))/1000 -> 2.5470073 | AE104: 22 | AF104: 12 | AG104: 12 | AH104: 6 | AI104: 14.7 | AJ104: 4.8 | AK104: 0.252
A105: CAI 40x25x4 | B105: =0.1*7.85*H105 -> 1.9311 | C105: 40 | D105: 25 | E105: 4 | F105: 4 | G105: =F105/2 -> 2 | H105: 2.46 | I105: 3.89 | J105: =I105*10/($C105-$AI105) -> 1.4734848 | L105: =SQRT(I105/H105) -> 1.2574978 | N105: 1.16 | O105: =$N105*10/($D105-$AJ105) -> 0.61702128 | Q105: =SQRT(N105/H105) -> 0.68669114 | S105: 4.36 | T105: 26.9 | U105: =S105*10/T105 -> 1.6208178 | V105: =SQRT(S105/H105) -> 1.3312993 | W105: 0.7 | X105: 13.5 | Y105: =W105*10/X105 -> 0.51851852 | Z105: =SQRT(W105/H105) -> 0.53343495 | AA105: =C105-(C105-E105)*E105/(2*D105)-(D105-2*E105)*E105/(2*D105)-PI()*E105*E105/(4*D105)-(1-PI()/4)*F105*F105/(2*D105) -> 35.188673 | AB105: =((C105-2*E105)*(AA105-C105/2)*E105+((AA105-C105+E105)^2+(C105-AA105)^2)*(D105-E105)/2+PI()*E105*E105/4*AA105+(1-PI()/4)*F105*F105*((10-3*PI())/(12-3*PI())*F105+AA105-C105+E105))/1000 -> 2.6366008 | AE105: 22 | AF105: 12 | AG105: 14 | AH105: 8 | AI105: 13.6 | AJ105: 6.2 | AK105: 0.382
A106: CAI 40x25x5 | B106: =0.1*7.85*H106 -> 2.37855 | C106: 40 | D106: 25 | E106: 5 | F106: 5 | G106: =F106/2 -> 2.5 | H106: 3.03 | I106: 4.66 | J106: =I106*10/($C106-$AI106) -> 1.7923077 | L106: =SQRT(I106/H106) -> 1.2401427 | N106: 1.37 | O106: =$N106*10/($D106-$AJ106) -> 0.74456522 | Q106: =SQRT(N106/H106) -> 0.67241744 | S106: 5.2 | T106: 26.7 | U106: =S106*10/T106 -> 1.9475655 | V106: =SQRT(S106/H106) -> 1.3100273 | W106: 0.84 | X106: 13.4 | Y106: =W106*10/X106 -> 0.62686567 | Z106: =SQRT(W106/H106) -> 0.52652419 | AA106: =C106-(C106-E106)*E106/(2*D106)-(D106-2*E106)*E106/(2*D106)-PI()*E106*E106/(4*D106)-(1-PI()/4)*F106*F106/(2*D106) -> 34.107301 | AB106: =((C106-2*E106)*(AA106-C106/2)*E106+((AA106-C106+E106)^2+(C106-AA106)^2)*(D106-E106)/2+PI()*E106*E106/4*AA106+(1-PI()/4)*F106*F106*((10-3*PI())/(12-3*PI())*F106+AA106-C106+E106))/1000 -> 3.1422011 | AE106: 22 | AF106: 12 | AG106: 14 | AH106: 8 | AI106: 14 | AJ106: 6.6 | AK106: 0.374
A107: CAI 45x30x4 | B107: =0.1*7.85*H107 -> 2.2451 | C107: 45 | D107: 30 | E107: 4 | F107: 4 | G107: =F107/2 -> 2 | H107: 2.86 | I107: 5.77 | J107: =I107*10/($C107-$AI107) -> 1.910596 | L107: =SQRT(I107/H107) -> 1.4203811 | N107: 2.05 | O107: =$N107*10/($D107-$AJ107) -> 0.90707965 | Q107: =SQRT(N107/H107) -> 0.84663051 | S107: 6.64 | T107: 30.6 | U107: =S107*10/T107 -> 2.1699346 | V107: =SQRT(S107/H107) -> 1.5237055 | W107: 1.18 | X107: 15.7 | Y107: =W107*10/X107 -> 0.75159236 | Z107: =SQRT(W107/H107) -> 0.64232968 | AA107: =C107-(C107-E107)*E107/(2*D107)-(D107-2*E107)*E107/(2*D107)-PI()*E107*E107/(4*D107)-(1-PI()/4)*F107*F107/(2*D107) -> 40.323894 | AB107: =((C107-2*E107)*(AA107-C107/2)*E107+((AA107-C107+E107)^2+(C107-AA107)^2)*(D107-E107)/2+PI()*E107*E107/4*AA107+(1-PI()/4)*F107*F107*((10-3*PI())/(12-3*PI())*F107+AA107-C107+E107))/1000 -> 3.4356078 | AE107: 27 | AF107: 12 | AG107: 17 | AH107: 8 | AI107: 14.8 | AJ107: 7.4 | AK107: 0.436
A108: CAI 45x30x5 | B108: =0.1*7.85*H108 -> 2.77105 | C108: 45 | D108: 30 | E108: 5 | F108: 5 | G108: =F108/2 -> 2.5 | H108: 3.53 | I108: 6.95 | J108: =I108*10/($C108-$AI108) -> 2.3244147 | L108: =SQRT(I108/H108) -> 1.4031531 | N108: 2.44 | O108: =$N108*10/($D108-$AJ108) -> 1.0990991 | Q108: =SQRT(N108/H108) -> 0.83139529 | S108: 7.97 | T108: 30.5 | U108: =S108*10/T108 -> 2.6131148 | V108: =SQRT(S108/H108) -> 1.5025945 | W108: 1.42 | X108: 15.6 | Y108: =W108*10/X108 -> 0.91025641 | Z108: =SQRT(W108/H108) -> 0.63424466 | AA108: =C108-(C108-E108)*E108/(2*D108)-(D108-2*E108)*E108/(2*D108)-PI()*E108*E108/(4*D108)-(1-PI()/4)*F108*F108/(2*D108) -> 39.256084 | AB108: =((C108-2*E108)*(AA108-C108/2)*E108+((AA108-C108+E108)^2+(C108-AA108)^2)*(D108-E108)/2+PI()*E108*E108/4*AA108+(1-PI()/4)*F108*F108*((10-3*PI())/(12-3*PI())*F108+AA108-C108+E108))/1000 -> 4.1244316 | AE108: 27 | AF108: 12 | AG108: 17 | AH108: 8 | AI108: 15.1 | AJ108: 7.8 | AK108: 0.429
A109: CAI 50x30x4 | B109: =0.1*7.85*H109 -> 2.40995 | C109: 50 | D109: 30 | E109: 4 | F109: 5 | G109: =F109/2 -> 2.5 | H109: 3.07 | I109: 7.71 | J109: =I109*10/($C109-$AI109) -> 2.3222892 | L109: =SQRT(I109/H109) -> 1.5847399 | N109: 2.09 | O109: =$N109*10/($D109-$AJ109) -> 0.90869565 | Q109: =SQRT(N109/H109) -> 0.825095 | S109: 8.54 | T109: 33.6 | U109: =S109*10/T109 -> 2.5416667 | V109: =SQRT(S109/H109) -> 1.6678606 | W109: 1.26 | X109: 16.6 | Y109: =W109*10/X109 -> 0.75903614 | Z109: =SQRT(W109/H109) -> 0.640643 | AA109: =C109-(C109-E109)*E109/(2*D109)-(D109-2*E109)*E109/(2*D109)-PI()*E109*E109/(4*D109)-(1-PI()/4)*F109*F109/(2*D109) -> 44.95837 | AB109: =((C109-2*E109)*(AA109-C109/2)*E109+((AA109-C109+E109)^2+(C109-AA109)^2)*(D109-E109)/2+PI()*E109*E109/4*AA109+(1-PI()/4)*F109*F109*((10-3*PI())/(12-3*PI())*F109+AA109-C109+E109))/1000 -> 4.2629125 | AE109: 28 | AF109: 14 | AG109: 17 | AH109: 8 | AI109: 16.8 | AJ109: 7 | AK109: 0.359
A110: CAI 50x30x5 | B110: =0.1*7.85*H110 -> 2.9673 | C110: 50 | D110: 30 | E110: 5 | F110: 5 | G110: =F110/2 -> 2.5 | H110: 3.78 | I110: 9.36 | J110: =I110*10/($C110-$AI110) -> 2.8623853 | L110: =SQRT(I110/H110) -> 1.5735916 | N110: 2.51 | O110: =$N110*10/($D110-$AJ110) -> 1.1106195 | Q110: =SQRT(N110/H110) -> 0.81487494 | S110: 10.34 | T110: 33.3 | U110: =S110*10/T110 -> 3.1051051 | V110: =SQRT(S110/H110) -> 1.6539195 | W110: 1.53 | X110: 16.5 | Y110: =W110*10/X110 -> 0.92727273 | Z110: =SQRT(W110/H110) -> 0.63620901 | AA110: =C110-(C110-E110)*E110/(2*D110)-(D110-2*E110)*E110/(2*D110)-PI()*E110*E110/(4*D110)-(1-PI()/4)*F110*F110/(2*D110) -> 43.839417 | AB110: =((C110-2*E110)*(AA110-C110/2)*E110+((AA110-C110+E110)^2+(C110-AA110)^2)*(D110-E110)/2+PI()*E110*E110/4*AA110+(1-PI()/4)*F110*F110*((10-3*PI())/(12-3*PI())*F110+AA110-C110+E110))/1000 -> 5.1196804 | AE110: 28 | AF110: 14 | AG110: 17 | AH110: 8 | AI110: 17.3 | AJ110: 7.4 | AK110: 0.354
... A137: CAI 90x70x10 | B137: =0.1*7.85*H137 -> 11.84565 | C137: 90 | D137: 70 | E137: 10 | F137: 8 | G137: =F137/2 -> 4 | H137: 15.09 | I137: 117.6 | J137: =I137*10/($C137-$AI137) -> 19.184339 | L137: =SQRT(I137/H137) -> 2.7916376 | N137: 61.8 | O137: =$N137*10/($D137-$AJ137) -> 12.070312 | Q137: =SQRT(N137/H137) -> 2.0237162 | S137: 146.5 | T137: 62.6 | U137: =S137*10/T137 -> 23.402556 | V137: =SQRT(S137/H137) -> 3.1158331 | W137: 32.9 | X137: 34.5 | Y137: =W137*10/X137 -> 9.5362319 | Z137: =SQRT(W137/H137) -> 1.4765676 | AA137: =C137-(C137-E137)*E137/(2*D137)-(D137-2*E137)*E137/(2*D137)-PI()*E137*E137/(4*D137)-(1-PI()/4)*F137*F137/(2*D137) -> 79.494185 | AB137: =((C137-2*E137)*(AA137-C137/2)*E137+((AA137-C137+E137)^2+(C137-AA137)^2)*(D137-E137)/2+PI()*E137*E137/4*AA137+(1-PI()/4)*F137*F137*((10-3*PI())/(12-3*PI())*F137+AA137-C137+E137))/1000 -> 33.725824 | AE137: 50 | AF137: 20 | AG137: 40 | AH137: 16 | AI137: 28.7 | AJ137: 18.8 | AK137: 0.584
A138: CAI 100x80x9 | B138: =0.1*7.85*H138 -> 12.1675 | C138: 100 | D138: 80 | E138: 9 | F138: 8 | G138: =F138/2 -> 4 | H138: 15.5 | I138: 150 | J138: =I138*10/($C138-$AI138) -> 21.582734 | L138: =SQRT(I138/H138) -> 3.1108551 | N138: 86 | O138: =$N138*10/($D138-$AJ138) -> 14.576271 | Q138: =SQRT(N138/H138) -> 2.3555015 | S138: 193 | T138: 70.1 | U138: =S138*10/T138 -> 27.532097 | V138: =SQRT(S138/H138) -> 3.5286843 | W138: 43 | X138: 37.5 | Y138: =W138*10/X138 -> 11.466667 | Z138: =SQRT(W138/H138) -> 1.6655911 | AA138: =C138-(C138-E138)*E138/(2*D138)-(D138-2*E138)*E138/(2*D138)-PI()*E138*E138/(4*D138)-(1-PI()/4)*F138*F138/(2*D138) -> 90.512694 | AB138: =((C138-2*E138)*(AA138-C138/2)*E138+((AA138-C138+E138)^2+(C138-AA138)^2)*(D138-E138)/2+PI()*E138*E138/4*AA138+(1-PI()/4)*F138*F138*((10-3*PI())/(12-3*PI())*F138+AA138-C138+E138))/1000 -> 38.878136 | AE138: 55 | AF138: 24 | AG138: 45 | AH138: 20 | AI138: =C138-69.5 -> 30.5 | AJ138: =D138-59 -> 21 | AK138: 0.62
A139: CAI 100x80x10 | B139: =0.1*7.85*H139 -> 13.4235 | C139: 100 | D139: 80 | E139: 10 | F139: 9 | G139: =F139/2 -> 4.5 | H139: 17.1 | I139: 166 | J139: =I139*10/($C139-$AI139) -> 24.127907 | L139: =SQRT(I139/H139) -> 3.1157025 | N139: 93.9 | O139: =$N139*10/($D139-$AJ139) -> 15.996593 | Q139: =SQRT(N139/H139) -> 2.343337 | S139: 211 | T139: 69.4 | U139: =S139*10/T139 -> 30.403458 | V139: =SQRT(S139/H139) -> 3.5127171 | W139: 48.6 | X139: 36.8 | Y139: =W139*10/X139 -> 13.206522 | Z139: =SQRT(W139/H139) -> 1.6858545 | AA139: =C139-(C139-E139)*E139/(2*D139)-(D139-2*E139)*E139/(2*D139)-PI()*E139*E139/(4*D139)-(1-PI()/4)*F139*F139/(2*D139) -> 89.53461 | AB139: =((C139-2*E139)*(AA139-C139/2)*E139+((AA139-C139+E139)^2+(C139-AA139)^2)*(D139-E139)/2+PI()*E139*E139/4*AA139+(1-PI()/4)*F139*F139*((10-3*PI())/(12-3*PI())*F139+AA139-C139+E139))/1000 -> 42.527509 | AE139: 55 | AF139: 24 | AG139: 45 | AH139: 20 | AI139: 31.2 | AJ139: 21.3 | AK139: 0.62
A140: CAI 100x80x11 | B140: =0.1*7.85*H140 -> 14.6795 | C140: 100 | D140: 80 | E140: 11 | F140: 9 | G140: =F140/2 -> 4.5 | H140: 18.7 | I140: 180 | J140: =I140*10/($C140-$AI140) -> 26.277372 | L140: =SQRT(I140/H140) -> 3.1025261 | N140: 102 | O140: =$N140*10/($D140-$AJ140) -> 17.465753 | Q140: =SQRT(N140/H140) -> 2.3354968 | S140: 228 | T140: 69.5 | U140: =S140*10/T140 -> 32.805755 | V140: =SQRT(S140/H140) -> 3.491778 | W140: 52 | X140: 36.8 | Y140: =W140*10/X140 -> 14.130435 | Z140: =SQRT(W140/H140) -> 1.6675577 | AA140: =C140-(C140-E140)*E140/(2*D140)-(D140-2*E140)*E140/(2*D140)-PI()*E140*E140/(4*D140)-(1-PI()/4)*F140*F140/(2*D140) -> 88.597193 | AB140: =((C140-2*E140)*(AA140-C140/2)*E140+((AA140-C140+E140)^2+(C140-AA140)^2)*(D140-E140)/2+PI()*E140*E140/4*AA140+(1-PI()/4)*F140*F140*((10-3*PI())/(12-3*PI())*F140+AA140-C140+E140))/1000 -> 46.055433 | AE140: 55 | AF140: 24 | AG140: 45 | AH140: 20 | AI140: 31.5 | AJ140: 21.6 | AK140: 0.62
A141: CAI 100x80x12 | B141: =0.1*7.85*H141 -> 15.857 | C141: 100 | D141: 80 | E141: 12 | F141: 9 | G141: =F141/2 -> 4.5 | H141: 20.2 | I141: 193 | J141: =I141*10/($C141-$AI141) -> 28.382353 | L141: =SQRT(I141/H141) -> 3.0910282 | N141: 109 | O141: =$N141*10/($D141-$AJ141) -> 18.825561 | Q141: =SQRT(N141/H141) -> 2.3229377 | S141: 246 | T141: 69.4 | U141: =S141*10/T141 -> 35.446686 | V141: =SQRT(S141/H141) -> 3.4897303 | W141: 57.1 | X141: 37.1 | Y141: =W141*10/X141 -> 15.390836 | Z141: =SQRT(W141/H141) -> 1.681289 | AA141: =C141-(C141-E141)*E141/(2*D141)-(D141-2*E141)*E141/(2*D141)-PI()*E141*E141/(4*D141)-(1-PI()/4)*F141*F141/(2*D141) -> 87.677641 | AB141: =((C141-2*E141)*(AA141-C141/2)*E141+((AA141-C141+E141)^2+(C141-AA141)^2)*(D141-E141)/2+PI()*E141*E141/4*AA141+(1-PI()/4)*F141*F141*((10-3*PI())/(12-3*PI())*F141+AA141-C141+E141))/1000 -> 49.473569 | AE141: 55 | AF141: 24 | AG141: 45 | AH141: 20 | AI141: 32 | AJ141: 22.1 | AK141: 0.62
A142: CAI 120x80x8 | B142: =0.1*7.85*H142 -> 12.1675 | C142: 120 | D142: 80 | E142: 8 | F142: 11 | G142: =F142/2 -> 5.5 | H142: 15.5 | I142: 226 | J142: =I142*10/($C142-$AI142) -> 27.662179 | L142: =SQRT(I142/H142) -> 3.8184611 | N142: 80.8 | O142: =$N142*10/($D142-$AJ142) -> 13.181077 | Q142: =SQRT(N142/H142) -> 2.2831783 | S142: 260 | T142: 82.3 | U142: =S142*10/T142 -> 31.591738 | V142: =SQRT(S142/H142) -> 4.095631 | W142: 46.6 | X142: 42.3 | Y142: =W142*10/X142 -> 11.016548 | Z142: =SQRT(W142/H142) -> 1.7339122 | AA142: =C142-(C142-E142)*E142/(2*D142)-(D142-2*E142)*E142/(2*D142)-PI()*E142*E142/(4*D142)-(1-PI()/4)*F142*F142/(2*D142) -> 110.40939 | AB142: =((C142-2*E142)*(AA142-C142/2)*E142+((AA142-C142+E142)^2+(C142-AA142)^2)*(D142-E142)/2+PI()*E142*E142/4*AA142+(1-PI()/4)*F142*F142*((10-3*PI())/(12-3*PI())*F142+AA142-C142+E142))/1000 -> 50.915246 | AE142: 50 | AF142: 24 | AG142: 45 | AH142: 20 | AI142: 38.3 | AJ142: 18.7 | AK142: 0.435
A143: CAI 120x80x10 | B143: =0.1*7.85*H143 -> 14.9935 | C143: 120 | D143: 80 | E143: 10 | F143: 11 | G143: =F143/2 -> 5.5 | H143: 19.1 | I143: 276 | J143: =I143*10/($C143-$AI143) -> 34.158416 | L143: =SQRT(I143/H143) -> 3.80135 | N143: 98.1 | O143: =$N143*10/($D143-$AJ143) -> 16.214876 | Q143: =SQRT(N143/H143) -> 2.2663022 | S143: 317 | T143: 81.9 | U143: =S143*10/T143 -> 38.705739 | V143: =SQRT(S143/H143) -> 4.0739242 | W143: 56.8 | X143: 42.1 | Y143: =W143*10/X143 -> 13.491686 | Z143: =SQRT(W143/H143) -> 1.7244773 | AA143: =C143-(C143-E143)*E143/(2*D143)-(D143-2*E143)*E143/(2*D143)-PI()*E143*E143/(4*D143)-(1-PI()/4)*F143*F143/(2*D143) -> 108.23096 | AB143: =((C143-2*E143)*(AA143-C143/2)*E143+((AA143-C143+E143)^2+(C143-AA143)^2)*(D143-E143)/2+PI()*E143*E143/4*AA143+(1-PI()/4)*F143*F143*((10-3*PI())/(12-3*PI())*F143+AA143-C143+E143))/1000 -> 61.706658 | AE143: 50 | AF143: 24 | AG143: 45 | AH143: 20 | AI143: 39.2 | AJ143: 19.5 | AK143: 0.435
A144: CAI 120x80x12 | B144: =0.1*7.85*H144 -> 17.8195 | C144: 120 | D144: 80 | E144: 12 | F144: 11 | G144: =F144/2 -> 5.5 | H144: 22.7 | I144: 323 | J144: =I144*10/($C144-$AI144) -> 40.375 | L144: =SQRT(I144/H144) -> 3.7721446 | N144: 114 | O144: =$N144*10/($D144-$AJ144) -> 19.095477 | Q144: =SQRT(N144/H144) -> 2.2409878 | S144: 371 | T144: 81.5 | U144: =S144*10/T144 -> 45.521472 | V144: =SQRT(S144/H144) -> 4.0427234 | W144: 66.6 | X144: 42 | Y144: =W144*10/X144 -> 15.857143 | Z144: =SQRT(W144/H144) -> 1.7128691 | AA144: =C144-(C144-E144)*E144/(2*D144)-(D144-2*E144)*E144/(2*D144)-PI()*E144*E144/(4*D144)-(1-PI()/4)*F144*F144/(2*D144) -> 106.12399 | AB144: =((C144-2*E144)*(AA144-C144/2)*E144+((AA144-C144+E144)^2+(C144-AA144)^2)*(D144-E144)/2+PI()*E144*E144/4*AA144+(1-PI()/4)*F144*F144*((10-3*PI())/(12-3*PI())*F144+AA144-C144+E144))/1000 -> 71.818409 | AE144: 50 | AF144: 24 | AG144: 45 | AH144: 20 | AI144: 40 | AJ144: 20.3 | AK144: 0.435
A145: CAI 150x90x10 | B145: =0.1*7.85*H145 -> 18.212 | C145: 150 | D145: 90 | E145: 10 | F145: 12 | G145: =F145/2 -> 6 | H145: 23.2 | I145: 533 | J145: =I145*10/($C145-$AI145) -> 53.3 | L145: =SQRT(I145/H145) -> 4.7931345 | N145: 146 | O145: =$N145*10/($D145-$AJ145) -> 20.977011 | Q145: =SQRT(N145/H145) -> 2.5086059 | S145: 591 | T145: 101 | U145: =S145*10/T145 -> 58.514851 | V145: =SQRT(S145/H145) -> 5.0471911 | W145: 88.2 | X145: 50.3 | Y145: =W145*10/X145 -> 17.534791 | Z145: =SQRT(W145/H145) -> 1.9498011 | AA145: =C145-(C145-E145)*E145/(2*D145)-(D145-2*E145)*E145/(2*D145)-PI()*E145*E145/(4*D145)-(1-PI()/4)*F145*F145/(2*D145) -> 137.28899 | AB145: =((C145-2*E145)*(AA145-C145/2)*E145+((AA145-C145+E145)^2+(C145-AA145)^2)*(D145-E145)/2+PI()*E145*E145/4*AA145+(1-PI()/4)*F145*F145*((10-3*PI())/(12-3*PI())*F145+AA145-C145+E145))/1000 -> 98.514167 | AE145: 85 | AF145: 27 | AG145: 50 | AH145: 22 | AI145: =C145-100 -> 50 | AJ145: 20.4 | AK145: 0.361
A146: CAI 150x90x11 | B146: =0.1*7.85*H146 -> 19.8605 | C146: 150 | D146: 90 | E146: 11 | F146: 12 | G146: =F146/2 -> 6 | H146: 25.3 | I146: 580 | J146: =I146*10/($C146-$AI146) -> 58.174524 | L146: =SQRT(I146/H146) -> 4.7879955 | N146: 158 | O146: =$N146*10/($D146-$AJ146) -> 22.799423 | Q146: =SQRT(N146/H146) -> 2.4990117 | S146: 642 | T146: 101 | U146: =S146*10/T146 -> 63.564356 | V146: =SQRT(S146/H146) -> 5.0374095 | W146: 95.7 | X146: 50.2 | Y146: =W146*10/X146 -> 19.063745 | Z146: =SQRT(W146/H146) -> 1.944893 | AA146: =C146-(C146-E146)*E146/(2*D146)-(D146-2*E146)*E146/(2*D146)-PI()*E146*E146/(4*D146)-(1-PI()/4)*F146*F146/(2*D146) -> 136.12239 | AB146: =((C146-2*E146)*(AA146-C146/2)*E146+((AA146-C146+E146)^2+(C146-AA146)^2)*(D146-E146)/2+PI()*E146*E146/4*AA146+(1-PI()/4)*F146*F146*((10-3*PI())/(12-3*PI())*F146+AA146-C146+E146))/1000 -> 106.92469 | AE146: 85 | AF146: 27 | AG146: 50 | AH146: 22 | AI146: 50.3 | AJ146: 20.7 | AK146: 0.359
A147: CAI 150x90x12 | B147: =0.1*7.85*H147 -> 21.5875 | C147: 150 | D147: 90 | E147: 12 | F147: 12 | G147: =F147/2 -> 6 | H147: 27.5 | I147: 627 | J147: =I147*10/($C147-$AI147) -> 63.205645 | L147: =SQRT(I147/H147) -> 4.7749346 | N147: 171 | O147: =$N147*10/($D147-$AJ147) -> 24.854651 | Q147: =SQRT(N147/H147) -> 2.4936282 | S147: 695 | T147: 101 | U147: =S147*10/T147 -> 68.811881 | V147: =SQRT(S147/H147) -> 5.0271988 | W147: 104 | X147: 50 | Y147: =W147*10/X147 -> 20.8 | Z147: =SQRT(W147/H147) -> 1.9446897 | AA147: =C147-(C147-E147)*E147/(2*D147)-(D147-2*E147)*E147/(2*D147)-PI()*E147*E147/(4*D147)-(1-PI()/4)*F147*F147/(2*D147) -> 134.97168 | AB147: =((C147-2*E147)*(AA147-C147/2)*E147+((AA147-C147+E147)^2+(C147-AA147)^2)*(D147-E147)/2+PI()*E147*E147/4*AA147+(1-PI()/4)*F147*F147*((10-3*PI())/(12-3*PI())*F147+AA147-C147+E147))/1000 -> 115.09719 | AE147: 85 | AF147: 27 | AG147: 50 | AH147: 22 | AI147: 50.8 | AJ147: 21.2 | AK147: 0.358
A148: CAI 150x90x13 | B148: =0.1*7.85*H148 -> 23.3145 | C148: 150 | D148: 90 | E148: 13 | F148: 12 | G148: =F148/2 -> 6 | H148: 29.7 | I148: 672 | J148: =I148*10/($C148-$AI148) -> 67.947422 | L148: =SQRT(I148/H148) -> 4.7567071 | N148: 182 | O148: =$N148*10/($D148-$AJ148) -> 26.569343 | Q148: =SQRT(N148/H148) -> 2.4754689 | S148: 743 | T148: 100 | U148: =S148*10/T148 -> 74.3 | V148: =SQRT(S148/H148) -> 5.0016832 | W148: 110 | X148: 19.8 | Y148: =W148*10/X148 -> 55.555556 | Z148: =SQRT(W148/H148) -> 1.9245009 | AA148: =C148-(C148-E148)*E148/(2*D148)-(D148-2*E148)*E148/(2*D148)-PI()*E148*E148/(4*D148)-(1-PI()/4)*F148*F148/(2*D148) -> 133.83685 | AB148: =((C148-2*E148)*(AA148-C148/2)*E148+((AA148-C148+E148)^2+(C148-AA148)^2)*(D148-E148)/2+PI()*E148*E148/4*AA148+(1-PI()/4)*F148*F148*((10-3*PI())/(12-3*PI())*F148+AA148-C148+E148))/1000 -> 123.03779 | AE148: 85 | AF148: 27 | AG148: 50 | AH148: 22 | AI148: 51.1 | AJ148: 21.5 | AK148: 0.358
A149: CAI 150x90x15 | B149: =0.1*7.85*H149 -> 26.6115 | C149: 150 | D149: 90 | E149: 15 | F149: 12 | G149: =F149/2 -> 6 | H149: 33.9 | I149: 761 | J149: =I149*10/($C149-$AI149) -> 77.73238 | L149: =SQRT(I149/H149) -> 4.7379719 | N149: 205 | O149: =$N149*10/($D149-$AJ149) -> 30.28065 | Q149: =SQRT(N149/H149) -> 2.459105 | S149: 841 | T149: 99.8 | U149: =S149*10/T149 -> 84.268537 | V149: =SQRT(S149/H149) -> 4.9807891 | W149: 126 | X149: 49.8 | Y149: =W149*10/X149 -> 25.301205 | Z149: =SQRT(W149/H149) -> 1.9279041 | AA149: =C149-(C149-E149)*E149/(2*D149)-(D149-2*E149)*E149/(2*D149)-PI()*E149*E149/(4*D149)-(1-PI()/4)*F149*F149/(2*D149) -> 131.61482 | AB149: =((C149-2*E149)*(AA149-C149/2)*E149+((AA149-C149+E149)^2+(C149-AA149)^2)*(D149-E149)/2+PI()*E149*E149/4*AA149+(1-PI()/4)*F149*F149*((10-3*PI())/(12-3*PI())*F149+AA149-C149+E149))/1000 -> 138.24844 | AE149: 85 | AF149: 27 | AG149: 50 | AH149: 22 | AI149: 52.1 | AJ149: 22.3 | AK149: 0.354
A150: CAI 200x100x10 | B150: =0.1*7.85*H150 -> 22.922 | C150: 200 | D150: 100 | E150: 10 | F150: 15 | G150: =F150/2 -> 7.5 | H150: 29.2 | I150: 1220 | J150: =I150*10/($C150-$AI150) -> 93.343535 | L150: =SQRT(I150/H150) -> 6.4638086 | N150: 210 | O150: =$N150*10/($D150-$AJ150) -> 26.282854 | Q150: =SQRT(N150/H150) -> 2.6817496 | S150: 1290 | T150: 132 | U150: =S150*10/T150 -> 97.727273 | V150: =SQRT(S150/H150) -> 6.6466595 | W150: 135 | X150: 60.5 | Y150: =W150*10/X150 -> 22.31405 | Z150: =SQRT(W150/H150) -> 2.1501832 | AA150: =C150-(C150-E150)*E150/(2*D150)-(D150-2*E150)*E150/(2*D150)-PI()*E150*E150/(4*D150)-(1-PI()/4)*F150*F150/(2*D150) -> 185.47317 | AB150: =((C150-2*E150)*(AA150-C150/2)*E150+((AA150-C150+E150)^2+(C150-AA150)^2)*(D150-E150)/2+PI()*E150*E150/4*AA150+(1-PI()/4)*F150*F150*((10-3*PI())/(12-3*PI())*F150+AA150-C150+E150))/1000 -> 178.78038 | AE150: 85 | AF150: 27 | AG150: 50 | AH150: 22 | AI150: 69.3 | AJ150: 20.1 | AK150: 0.263
A151: CAI 200x100x12 | B151: =0.1*7.85*H151 -> 27.318 | C151: 200 | D151: 100 | E151: 12 | F151: 15 | G151: =F151/2 -> 7.5 | H151: 34.8 | I151: 1440 | J151: =I151*10/($C151-$AI151) -> 111.02544 | L151: =SQRT(I151/H151) -> 6.4326752 | N151: 247 | O151: =$N151*10/($D151-$AJ151) -> 31.265823 | Q151: =SQRT(N151/H151) -> 2.6641511 | S151: 1530 | T151: 131 | U151: =S151*10/T151 -> 116.79389 | V151: =SQRT(S151/H151) -> 6.6306498 | W151: 159 | X151: 60 | Y151: =W151*10/X151 -> 26.5 | Z151: =SQRT(W151/H151) -> 2.1375139 | AA151: =C151-(C151-E151)*E151/(2*D151)-(D151-2*E151)*E151/(2*D151)-PI()*E151*E151/(4*D151)-(1-PI()/4)*F151*F151/(2*D151) -> 182.7876 | AB151: =((C151-2*E151)*(AA151-C151/2)*E151+((AA151-C151+E151)^2+(C151-AA151)^2)*(D151-E151)/2+PI()*E151*E151/4*AA151+(1-PI()/4)*F151*F151*((10-3*PI())/(12-3*PI())*F151+AA151-C151+E151))/1000 -> 209.66148 | AE151: 85 | AF151: 27 | AG151: 50 | AH151: 22 | AI151: 70.3 | AJ151: 21 | AK151: 0.262
A152: CAI 200x100x14 | B152: =0.1*7.85*H152 -> 31.6355 | C152: 200 | D152: 100 | E152: 14 | F152: 15 | G152: =F152/2 -> 7.5 | H152: 40.3 | I152: 1650 | J152: =I152*10/($C152-$AI152) -> 128.10559 | L152: =SQRT(I152/H152) -> 6.3986661 | N152: 282 | O152: =$N152*10/($D152-$AJ152) -> 36.061381 | Q152: =SQRT(N152/H152) -> 2.6452823 | S152: 1760 | T152: 130 | U152: =S152*10/T152 -> 135.38462 | V152: =SQRT(S152/H152) -> 6.6085139 | W152: 181 | X152: 59.2 | Y152: =W152*10/X152 -> 30.574324 | Z152: =SQRT(W152/H152) -> 2.1192723 | AA152: =C152-(C152-E152)*E152/(2*D152)-(D152-2*E152)*E152/(2*D152)-PI()*E152*E152/(4*D152)-(1-PI()/4)*F152*F152/(2*D152) -> 180.15919 | AB152: =((C152-2*E152)*(AA152-C152/2)*E152+((AA152-C152+E152)^2+(C152-AA152)^2)*(D152-E152)/2+PI()*E152*E152/4*AA152+(1-PI()/4)*F152*F152*((10-3*PI())/(12-3*PI())*F152+AA152-C152+E152))/1000 -> 239.03067 | AE152: 85 | AF152: 27 | AG152: 50 | AH152: 22 | AI152: 71.2 | AJ152: 21.8 | AK152: 0.262
A153: CAI 200x100x15 | B153: =0.1*7.85*H153 -> 33.755 | C153: 200 | D153: 100 | E153: 15 | F153: 15 | G153: =F153/2 -> 7.5 | H153: 43 | I153: 1760 | J153: =I153*10/($C153-$AI153) -> 137.07165 | L153: =SQRT(I153/H153) -> 6.397674 | N153: 299 | O153: =$N153*10/($D153-$AJ153) -> 38.431877 | Q153: =SQRT(N153/H153) -> 2.6369468 | S153: 1860 | T153: 130 | U153: =S153*10/T153 -> 143.07692 | V153: =SQRT(S153/H153) -> 6.5769152 | W153: 194 | X153: 59.5 | Y153: =W153*10/X153 -> 32.605042 | Z153: =SQRT(W153/H153) -> 2.1240593 | AA153: =C153-(C153-E153)*E153/(2*D153)-(D153-2*E153)*E153/(2*D153)-PI()*E153*E153/(4*D153)-(1-PI()/4)*F153*F153/(2*D153) -> 178.86643 | AB153: =((C153-2*E153)*(AA153-C153/2)*E153+((AA153-C153+E153)^2+(C153-AA153)^2)*(D153-E153)/2+PI()*E153*E153/4*AA153+(1-PI()/4)*F153*F153*((10-3*PI())/(12-3*PI())*F153+AA153-C153+E153))/1000 -> 253.16388 | AE153: 85 | AF153: 27 | AG153: 50 | AH153: 22 | AI153: 71.6 | AJ153: 22.2 | AK153: 0.26

Sheet Tubes_SHS
A1: Type de profilé | B1: Masse | C1: Dimensions | H1: Aire | I1: Inertie | J1: Modules de flexion | L1: Rayon de giration | M1: Aire de cisaillement | S1: Inertie de Torsion | T1: Constante de Torsion
B2: G (kg/ml) | C2: h (mm) | E2: t (mm) | F2: ri (mm( | G2: ra (mm) | H2: A (cm2) | I2: I (cm4) | J2: Wel (cm3) | K2: Wpl (cm3) | L2: i (cm) | M2: Av (cm2) | S2: It (cm4) | T2: Ct (cm3)
B3: CARF
A4: =$B$3&" "&C4&"*"&E4 -> CARF 20*2 | B4: 1.05 | C4: 20 | E4: 2 | F4: =IF(E4<=6,1*E4,IF(E4<=10,1.5*E4,2*E4)) -> 2 | G4: =IF(E4<=6,2*E4,IF(E4<=10,2.5*E4,3*E4)) -> 4 | H4: =(4*(C4-2*G4)*E4+PI()*(G4^2-F4^2))*0.01 -> 1.3369911 | I4: 0.681 | J4: =I4/(0.5*C4*0.1) -> 0.681 | K4: 0.87 | L4: =SQRT(I4/H4) -> 0.71368948 | M4: =2*(C4-2*G4)*E4*0.01 -> 0.48 | S4: 1.21 | T4: 1.06
A5: =$B$3&" "&C5&"*"&E5 -> CARF 25*2 | B5: 1.36 | C5: 25 | E5: 2 | F5: =IF(E5<=6,1*E5,IF(E5<=10,1.5*E5,2*E5)) -> 2 | G5: =IF(E5<=6,2*E5,IF(E5<=10,2.5*E5,3*E5)) -> 4 | H5: =(4*(C5-2*G5)*E5+PI()*(G5^2-F5^2))*0.01 -> 1.7369911 | I5: 1.47 | J5: =I5/(0.5*C5*0.1) -> 1.176 | K5: 1.46 | L5: =SQRT(I5/H5) -> 0.91994077 | M5: =2*(C5-2*G5)*E5*0.01 -> 0.68 | S5: 2.53 | T5: 1.8
A6: =$B$3&" "&C6&"*"&E6 -> CARF 25*2.5 | B6: 1,64 | C6: 25 | E6: 2.5 | F6: =IF(E6<=6,1*E6,IF(E6<=10,1.5*E6,2*E6)) -> 2.5 | G6: =IF(E6<=6,2*E6,IF(E6<=10,2.5*E6,3*E6)) -> 5 | H6: =(4*(C6-2*G6)*E6+PI()*(G6^2-F6^2))*0.01 -> 2.0890486 | I6: 1.66 | J6: =I6/(0.5*C6*0.1) -> 1.328 | K6: 1.7 | L6: =SQRT(I6/H6) -> 0.89141466 | M6: =2*(C6-2*G6)*E6*0.01 -> 0.75 | S6: 2.97 | T6: 2.07
A7: =$B$3&" "&C7&"*"&E7 -> CARF 25*3 | B7: 1,89 | C7: 25 | E7: 3 | F7: =IF(E7<=6,1*E7,IF(E7<=10,1.5*E7,2*E7)) -> 3 | G7: =IF(E7<=6,2*E7,IF(E7<=10,2.5*E7,3*E7)) -> 6 | H7: =(4*(C7-2*G7)*E7+PI()*(G7^2-F7^2))*0.01 -> 2.40823 | I7: 1.79 | J7: =I7/(0.5*C7*0.1) -> 1.432 | K7: 1.89 | L7: =SQRT(I7/H7) -> 0.86213948 | M7: =2*(C7-2*G7)*E7*0.01 -> 0.78 | S7: 3.33 | T7: 2.27
A8: =$B$3&" "&C8&"*"&E8 -> CARF 30*2 | B8: 1,68 | C8: 30 | E8: 2 | F8: =IF(E8<=6,1*E8,IF(E8<=10,1.5*E8,2*E8)) -> 2 | G8: =IF(E8<=6,2*E8,IF(E8<=10,2.5*E8,3*E8)) -> 4 | H8: =(4*(C8-2*G8)*E8+PI()*(G8^2-F8^2))*0.01 -> 2.1369911 | I8: 2.7 | J8: =I8/(0.5*C8*0.1) -> 1.8 | K8: 2.2 | L8: =SQRT(I8/H8) -> 1.1240368 | M8: =2*(C8-2*G8)*E8*0.01 -> 0.88 | S8: 4.54 | T8: 2.75
A9: =$B$3&" "&C9&"*"&E9 -> CARF 30*2.5 | B9: 2,03 | C9: 30 | E9: 2.5 | F9: =IF(E9<=6,1*E9,IF(E9<=10,1.5*E9,2*E9)) -> 2.5 | G9: =IF(E9<=6,2*E9,IF(E9<=10,2.5*E9,3*E9)) -> 5 | H9: =(4*(C9-2*G9)*E9+PI()*(G9^2-F9^2))*0.01 -> 2.5890486 | I9: 3.12 | J9: =I9/(0.5*C9*0.1) -> 2.08 | K9: 2.6 | L9: =SQRT(I9/H9) -> 1.0977595 | M9: =2*(C9-2*G9)*E9*0.01 -> 1 | S9: 5.4 | T9: 3.2
A10: =$B$3&" "&C10&"*"&E10 -> CARF 30*3 | B10: 2,36 | C10: 30 | E10: 3 | F10: =IF(E10<=6,1*E10,IF(E10<=10,1.5*E10,2*E10)) -> 3 | G10: =IF(E10<=6,2*E10,IF(E10<=10,2.5*E10,3*E10)) -> 6 | H10: =(4*(C10-2*G10)*E10+PI()*(G10^2-F10^2))*0.01 -> 3.00823 | I10: 3.45 | J10: =I10/(0.5*C10*0.1) -> 2.3 | K10: 2.94 | L10: =SQRT(I10/H10) -> 1.0709126 | M10: =2*(C10-2*G10)*E10*0.01 -> 1.08 | S10: 6.15 | T10: 3.58
A11: =$B$3&" "&C11&"*"&E11 -> CARF 40*2 | B11: 2,31 | C11: 40 | E11: 2 | F11: =IF(E11<=6,1*E11,IF(E11<=10,1.5*E11,2*E11)) -> 2 | G11: =IF(E11<=6,2*E11,IF(E11<=10,2.5*E11,3*E11)) -> 4 | H11: =(4*(C11-2*G11)*E11+PI()*(G11^2-F11^2))*0.01 -> 2.9369911 | I11: 6.92 | J11: =I11/(0.5*C11*0.1) -> 3.46 | K11: 4.13 | L11: =SQRT(I11/H11) -> 1.5349765 | M11: =2*(C11-2*G11)*E11*0.01 -> 1.28 | S11: 11.3 | T11: 5.23
A12: =$B$3&" "&C12&"*"&E12 -> CARF 40*2.5 | B12: 2,82 | C12: 40 | E12: 2.5 | F12: =IF(E12<=6,1*E12,IF(E12<=10,1.5*E12,2*E12)) -> 2.5 | G12: =IF(E12<=6,2*E12,IF(E12<=10,2.5*E12,3*E12)) -> 5 | H12: =(4*(C12-2*G12)*E12+PI()*(G12^2-F12^2))*0.01 -> 3.5890486 | I12: 8.17 | J12: =I12/(0.5*C12*0.1) -> 4.085 | K12: 4.95 | L12: =SQRT(I12/H12) -> 1.5087642 | M12: =2*(C12-2*G12)*E12*0.01 -> 1.5 | S12: 13.6 | T12: 6.21
A13: =$B$3&" "&C13&"*"&E13 -> CARF 40*3 | B13: =(H13*7850)/10000 -> 3.3034606 | C13: 40 | E13: 3 | F13: =IF(E13<=6,1*E13,IF(E13<=10,1.5*E13,2*E13)) -> 3 | G13: =IF(E13<=6,2*E13,IF(E13<=10,2.5*E13,3*E13)) -> 6 | H13: =(4*(C13-2*G13)*E13+PI()*(G13^2-F13^2))*0.01 -> 4.20823 | I13: 9.24 | J13: =I13/(0.5*C13*0.1) -> 4.62 | K13: 5.7 | L13: =SQRT(I13/H13) -> 1.4817886 | M13: =2*(C13-2*G13)*E13*0.01 -> 1.68 | S13: 15.8 | T13: 7.07
A14: =$B$3&" "&C14&"*"&E14 -> CARF 40*4 | B14: =(H14*7850)/10000 -> 4.1981521 | C14: 40 | E14: 4 | F14: =IF(E14<=6,1*E14,IF(E14<=10,1.5*E14,2*E14)) -> 4 | G14: =IF(E14<=6,2*E14,IF(E14<=10,2.5*E14,3*E14)) -> 8 | H14: =(4*(C14-2*G14)*E14+PI()*(G14^2-F14^2))*0.01 -> 5.3479645 | I14: 10.9 | J14: =I14/(0.5*C14*0.1) -> 5.45 | K14: 6.97 | L14: =SQRT(I14/H14) -> 1.4276409 | M14: =2*(C14-2*G14)*E14*0.01 -> 1.92 | S14: 19.4 | T14: 8.48
A15: =$B$3&" "&C15&"*"&E15 -> CARF 50*2 | B15: =(H15*7850)/10000 -> 2.933538 | C15: 50 | E15: 2 | F15: =IF(E15<=6,1*E15,IF(E15<=10,1.5*E15,2*E15)) -> 2 | G15: =IF(E15<=6,2*E15,IF(E15<=10,2.5*E15,3*E15)) -> 4 | H15: =(4*(C15-2*G15)*E15+PI()*(G15^2-F15^2))*0.01 -> 3.7369911 | I15: 14.1 | J15: =I15/(0.5*C15*0.1) -> 5.64 | K15: 6.66 | L15: =SQRT(I15/H15) -> 1.9424441 | M15: =2*(C15-2*G15)*E15*0.01 -> 1.68 | S15: 22.6 | T15: 8.51
A16: =$B$3&" "&C16&"*"&E16 -> CARF 50*2.5 | B16: =(H16*7850)/10000 -> 3.6024032 | C16: 50 | E16: 2.5 | F16: =IF(E16<=6,1*E16,IF(E16<=10,1.5*E16,2*E16)) -> 2.5 | G16: =IF(E16<=6,2*E16,IF(E16<=10,2.5*E16,3*E16)) -> 5 | H16: =(4*(C16-2*G16)*E16+PI()*(G16^2-F16^2))*0.01 -> 4.5890486 | I16: 16.9 | J16: =I16/(0.5*C16*0.1) -> 6.76 | K16: 8.06 | L16: =SQRT(I16/H16) -> 1.9190311 | M16: =2*(C16-2*G16)*E16*0.01 -> 2 | S16: 27.5 | T16: 10.2
A17: =$B$3&" "&C17&"*"&E17 -> CARF 50*3 | B17: =(H17*7850)/10000 -> 4.2454606 | C17: 50 | E17: 3 | F17: =IF(E17<=6,1*E17,IF(E17<=10,1.5*E17,2*E17)) -> 3 | G17: =IF(E17<=6,2*E17,IF(E17<=10,2.5*E17,3*E17)) -> 6 | H17: =(4*(C17-2*G17)*E17+PI()*(G17^2-F17^2))*0.01 -> 5.40823 | I17: 19.4 | J17: =I17/(0.5*C17*0.1) -> 7.76 | K17: 9.37 | L17: =SQRT(I17/H17) -> 1.8939708 | M17: =2*(C17-2*G17)*E17*0.01 -> 2.28 | S17: 32.1 | T17: 11.8
A18: =$B$3&" "&C18&"*"&E18 -> CARF 50*4 | B18: =(H18*7850)/10000 -> 5.4541521 | C18: 50 | E18: 4 | F18: =IF(E18<=6,1*E18,IF(E18<=10,1.5*E18,2*E18)) -> 4 | G18: =IF(E18<=6,2*E18,IF(E18<=10,2.5*E18,3*E18)) -> 8 | H18: =(4*(C18-2*G18)*E18+PI()*(G18^2-F18^2))*0.01 -> 6.9479645 | I18: 23.5 | J18: =I18/(0.5*C18*0.1) -> 9.4 | K18: 11.7 | L18: =SQRT(I18/H18) -> 1.8390991 | M18: =2*(C18-2*G18)*E18*0.01 -> 2.72 | S18: 40.4 | T18: 14.4
A19: =$B$3&" "&C19&"*"&E19 -> CARF 50*5 | B19: =(H19*7850)/10000 -> 6.5596127 | C19: 50 | E19: 5 | F19: =IF(E19<=6,1*E19,IF(E19<=10,1.5*E19,2*E19)) -> 5 | G19: =IF(E19<=6,2*E19,IF(E19<=10,2.5*E19,3*E19)) -> 10 | H19: =(4*(C19-2*G19)*E19+PI()*(G19^2-F19^2))*0.01 -> 8.3561945 | I19: 26.6 | J19: =I19/(0.5*C19*0.1) -> 10.64 | K19: 13.6 | L19: =SQRT(I19/H19) -> 1.7841713 | M19: =2*(C19-2*G19)*E19*0.01 -> 3 | S19: 47.5 | T19: 16.6
A20: =$B$3&" "&C20&"*"&E20 -> CARF 60*2 | B20: =(H20*7850)/10000 -> 3.561538 | C20: 60 | E20: 2 | F20: =IF(E20<=6,1*E20,IF(E20<=10,1.5*E20,2*E20)) -> 2 | G20: =IF(E20<=6,2*E20,IF(E20<=10,2.5*E20,3*E20)) -> 4 | H20: =(4*(C20-2*G20)*E20+PI()*(G20^2-F20^2))*0.01 -> 4.5369911 | I20: 25.1 | J20: =I20/(0.5*C20*0.1) -> 8.3666667 | K20: 9.78 | L20: =SQRT(I20/H20) -> 2.3520844 | M20: =2*(C20-2*G20)*E20*0.01 -> 2.08 | S20: 39.8 | T20: 12.6
A21: =$B$3&" "&C21&"*"&E21 -> CARF 60*2.5 | B21: =(H21*7850)/10000 -> 4.3874032 | C21: 60 | E21: 2.5 | F21: =IF(E21<=6,1*E21,IF(E21<=10,1.5*E21,2*E21)) -> 2.5 | G21: =IF(E21<=6,2*E21,IF(E21<=10,2.5*E21,3*E21)) -> 5 | H21: =(4*(C21-2*G21)*E21+PI()*(G21^2-F21^2))*0.01 -> 5.5890486 | I21: 30.3 | J21: =I21/(0.5*C21*0.1) -> 10.1 | K21: 11.9 | L21: =SQRT(I21/H21) -> 2.328372 | M21: =2*(C21-2*G21)*E21*0.01 -> 2.5 | S21: 48.7 | T21: 15.2
A22: =$B$3&" "&C22&"*"&E22 -> CARF 60*3 | B22: =(H22*7850)/10000 -> 5.1874606 | C22: 60 | E22: 3 | F22: =IF(E22<=6,1*E22,IF(E22<=10,1.5*E22,2*E22)) -> 3 | G22: =IF(E22<=6,2*E22,IF(E22<=10,2.5*E22,3*E22)) -> 6 | H22: =(4*(C22-2*G22)*E22+PI()*(G22^2-F22^2))*0.01 -> 6.60823 | I22: 35 | J22: =I22/(0.5*C22*0.1) -> 11.666667 | K22: 13.9 | L22: =SQRT(I22/H22) -> 2.3013965 | M22: =2*(C22-2*G22)*E22*0.01 -> 2.88 | S22: 57.1 | T22: 17.7
A23: =$B$3&" "&C23&"*"&E23 -> CARF 60*4 | B23: =(H23*7850)/10000 -> 6.7101521 | C23: 60 | E23: 4 | F23: =IF(E23<=6,1*E23,IF(E23<=10,1.5*E23,2*E23)) -> 4 | G23: =IF(E23<=6,2*E23,IF(E23<=10,2.5*E23,3*E23)) -> 8 | H23: =(4*(C23-2*G23)*E23+PI()*(G23^2-F23^2))*0.01 -> 8.5479645 | I23: 43.3 | J23: =I23/(0.5*C23*0.1) -> 14.433333 | K23: 17.6 | L23: =SQRT(I23/H23) -> 2.250674 | M23: =2*(C23-2*G23)*E23*0.01 -> 3.52 | S23: 72.6 | T23: 22
A24: =$B$3&" "&C24&"*"&E24 -> CARF 60*5 | B24: =(H24*7850)/10000 -> 8.1296127 | C24: 60 | E24: 5 | F24: =IF(E24<=6,1*E24,IF(E24<=10,1.5*E24,2*E24)) -> 5 | G24: =IF(E24<=6,2*E24,IF(E24<=10,2.5*E24,3*E24)) -> 10 | H24: =(4*(C24-2*G24)*E24+PI()*(G24^2-F24^2))*0.01 -> 10.356194 | I24: 50 | J24: =I24/(0.5*C24*0.1) -> 16.666667 | K24: 20.8 | L24: =SQRT(I24/H24) -> 2.1972775 | M24: =2*(C24-2*G24)*E24*0.01 -> 4 | S24: 86.4 | T24: 25.6
... A145: =$B$3&" "&C145&"*"&E145 -> CARF 400*16 | B145: =(H145*7850)/10000 -> 184.29632 | C145: 400 | E145: 16 | F145: =IF(E145<=6,1*E145,IF(E145<=10,1.5*E145,2*E145)) -> 32 | G145: =IF(E145<=6,2*E145,IF(E145<=10,2.5*E145,3*E145)) -> 48 | H145: =(4*(C145-2*G145)*E145+PI()*(G145^2-F145^2))*0.01 -> 234.77239 | I145: 55884 | J145: =I145/(0.5*C145*0.1) -> 2794.2 | K145: 3315 | L145: =SQRT(I145/H145) -> 15.428377 | M145: =2*(C145-2*G145)*E145*0.01 -> 97.28 | S145: 93279 | T145: 4336
B146: CARC
A147: =$B$146&" "&C147&"*"&E147 -> CARC 40*2.6 | B147: =(H147*7850)/10000 -> 2.8371977 | C147: 40 | E147: 2.6 | F147: =1*E147 -> 2.6 | G147: =1.5*E147 -> 3.9 | H147: =(4*(C147-2*G147)*E147+PI()*(G147^2-F147^2))*0.01 -> 3.6142646 | I147: 8.8 | J147: =I147/(0.5*C147*0.1) -> 4.4 | K147: 5.31 | L147: =SQRT(I147/H147) -> 1.5603836 | M147: =2*(C147-2*G147)*E147*0.01 -> 1.6744 | S147: 14 | T147: 6.41
A148: =$B$146&" "&C148&"*"&E148 -> CARC 40*3.2 | B148: =(H148*7850)/10000 -> 3.3702592 | C148: 40 | E148: 3.2 | F148: =1*E148 -> 3.2 | G148: =1.5*E148 -> 4.8 | H148: =(4*(C148-2*G148)*E148+PI()*(G148^2-F148^2))*0.01 -> 4.2933239 | I148: 10.2 | J148: =I148/(0.5*C148*0.1) -> 5.1 | K148: 6.28 | L148: =SQRT(I148/H148) -> 1.5413571 | M148: =2*(C148-2*G148)*E148*0.01 -> 1.9456 | S148: 16.5 | T148: 7.42
A149: =$B$146&" "&C149&"*"&E149 -> CARC 40*4 | B149: =(H149*7850)/10000 -> 4.01003 | C149: 40 | E149: 4 | F149: =1*E149 -> 4 | G149: =1.5*E149 -> 6 | H149: =(4*(C149-2*G149)*E149+PI()*(G149^2-F149^2))*0.01 -> 5.1083185 | I149: 11.8 | J149: =I149/(0.5*C149*0.1) -> 5.9 | K149: 7.44 | L149: =SQRT(I149/H149) -> 1.5198545 | M149: =2*(C149-2*G149)*E149*0.01 -> 2.24 | S149: 19.5 | T149: 8.54
A150: =$B$146&" "&C150&"*"&E150 -> CARC 40*5 | B150: =(H150*7850)/10000 -> 4.6956719 | C150: 40 | E150: 5 | F150: =1*E150 -> 5 | G150: =1.5*E150 -> 7.5 | H150: =(4*(C150-2*G150)*E150+PI()*(G150^2-F150^2))*0.01 -> 5.9817477 | I150: 13.4 | J150: =I150/(0.5*C150*0.1) -> 6.7 | K150: 8.66 | L150: =SQRT(I150/H150) -> 1.4967124 | M150: =2*(C150-2*G150)*E150*0.01 -> 2.5 | S150: 22.5 | T150: 9.6
A151: =$B$146&" "&C151&"*"&E151 -> CARC 50*2.6 | B151: =(H151*7850)/10000 -> 3.6535977 | C151: 50 | E151: 2.6 | F151: =1*E151 -> 2.6 | G151: =1.5*E151 -> 3.9 | H151: =(4*(C151-2*G151)*E151+PI()*(G151^2-F151^2))*0.01 -> 4.6542646 | I151: 18 | J151: =I151/(0.5*C151*0.1) -> 7.2 | K151: 5.58 | L151: =SQRT(I151/H151) -> 1.9665759 | M151: =2*(C151-2*G151)*E151*0.01 -> 2.1944 | S151: 28.4 | T151: 10.6
A152: =$B$146&" "&C152&"*"&E152 -> CARC 50*3.2 | B152: =(H152*7850)/10000 -> 4.3750592 | C152: 50 | E152: 3.2 | F152: =1*E152 -> 3.2 | G152: =1.5*E152 -> 4.8 | H152: =(4*(C152-2*G152)*E152+PI()*(G152^2-F152^2))*0.01 -> 5.5733239 | I152: 21.2 | J152: =I152/(0.5*C152*0.1) -> 8.48 | K152: 10.2 | L152: =SQRT(I152/H152) -> 1.9503421 | M152: =2*(C152-2*G152)*E152*0.01 -> 2.5856 | S152: 33.8 | T152: 12.4
A153: =$B$146&" "&C153&"*"&E153 -> CARC 50*4 | B153: =(H153*7850)/10000 -> 5.26603 | C153: 50 | E153: 4 | F153: =1*E153 -> 4 | G153: =1.5*E153 -> 6 | H153: =(4*(C153-2*G153)*E153+PI()*(G153^2-F153^2))*0.01 -> 6.7083185 | I153: 25 | J153: =I153/(0.5*C153*0.1) -> 10 | K153: 12.3 | L153: =SQRT(I153/H153) -> 1.9304705 | M153: =2*(C153-2*G153)*E153*0.01 -> 3.04 | S153: 40.4 | T153: 14.5
A154: =$B$146&" "&C154&"*"&E154 -> CARC 50*5 | B154: =(H154*7850)/10000 -> 6.2656719 | C154: 50 | E154: 5 | F154: =1*E154 -> 5 | G154: =1.5*E154 -> 7.5 | H154: =(4*(C154-2*G154)*E154+PI()*(G154^2-F154^2))*0.01 -> 7.9817477 | I154: 28.9 | J154: =I154/(0.5*C154*0.1) -> 11.56 | K154: 14.5 | L154: =SQRT(I154/H154) -> 1.9028297 | M154: =2*(C154-2*G154)*E154*0.01 -> 3.5 | S154: 47.6 | T154: 16.7
A155: =$B$146&" "&C155&"*"&E155 -> CARC 50*6.3 | B155: =(H155*7850)/10000 -> 7.3757208 | C155: 50 | E155: 6.3 | F155: =1*E155 -> 6.3 | G155: =1.5*E155 -> 9.45 | H155: =(4*(C155-2*G155)*E155+PI()*(G155^2-F155^2))*0.01 -> 9.3958227 | I155: 32.8 | J155: =I155/(0.5*C155*0.1) -> 13.12 | K155: 17 | L155: =SQRT(I155/H155) -> 1.8683985 | M155: =2*(C155-2*G155)*E155*0.01 -> 3.9186 | S155: 55.2 | T155: 18.8
A156: =$B$146&" "&C156&"*"&E156 -> CARC 60*2.6 | B156: =(H156*7850)/10000 -> 4.4699977 | C156: 60 | E156: 2.6 | F156: =1*E156 -> 2.6 | G156: =1.5*E156 -> 3.9 | H156: =(4*(C156-2*G156)*E156+PI()*(G156^2-F156^2))*0.01 -> 5.6942646 | I156: 32.2 | J156: =I156/(0.5*C156*0.1) -> 10.733333 | K156: 12.6 | L156: =SQRT(I156/H156) -> 2.377985 | M156: =2*(C156-2*G156)*E156*0.01 -> 2.7144 | S156: 50.2 | T156: 15.7
A157: =$B$146&" "&C157&"*"&E157 -> CARC 60*3.2 | B157: =(H157*7850)/10000 -> 5.3798592 | C157: 60 | E157: 3.2 | F157: =1*E157 -> 3.2 | G157: =1.5*E157 -> 4.8 | H157: =(4*(C157-2*G157)*E157+PI()*(G157^2-F157^2))*0.01 -> 6.8533239 | I157: 38.2 | J157: =I157/(0.5*C157*0.1) -> 12.733333 | K157: 15.2 | L157: =SQRT(I157/H157) -> 2.3609188 | M157: =2*(C157-2*G157)*E157*0.01 -> 3.2256 | S157: 60.2 | T157: 18.6
A158: =$B$146&" "&C158&"*"&E158 -> CARC 60*4 | B158: =(H158*7850)/10000 -> 6.52203 | C158: 60 | E158: 4 | F158: =1*E158 -> 4 | G158: =1.5*E158 -> 6 | H158: =(4*(C158-2*G158)*E158+PI()*(G158^2-F158^2))*0.01 -> 8.3083185 | I158: 45.4 | J158: =I158/(0.5*C158*0.1) -> 15.133333 | K158: 18.3 | L158: =SQRT(I158/H158) -> 2.3376062 | M158: =2*(C158-2*G158)*E158*0.01 -> 3.84 | S158: 72.5 | T158: 22
... A252: =$B$146&" "&C252&"*"&E252 -> CARC 400*16 | B252: =(H252*7850)/10000 -> 184.73648 | C252: 400 | E252: 16 | F252: =1*E252 -> 16 | G252: =1.5*E252 -> 24 | H252: =(4*(C252-2*G252)*E252+PI()*(G252^2-F252^2))*0.01 -> 235.3331 | I252: 71535 | J252: =I252/(0.5*C252*0.1) -> 3576.75 | K252: 7247 | L252: =SQRT(I252/H252) -> 17.434833 | M252: =2*(C252-2*G252)*E252*0.01 -> 112.64 | S252: 112489 | T252: 5237

Sheet Tubes_RHS
A1: Type de profilé | B1: Masse | C1: Dimensions | H1: Aire | I1: Inertie | J1: Modules de flexion | L1: Rayon de giration | M1: Aire de cisaillement | N1: Inertie | O1: Modules de flexion | Q1: Rayon de giration | R1: Aire de cisaillement | S1: Inertie de Torsion | T1: Constante de Torsion
B2: G (kg/ml) | C2: h (mm) | D2: b (mm) | E2: t (mm) | F2: ri (mm) | G2: ra (mm) | H2: A (cm2) | I2: Iy (cm4) | J2: Wely (cm3) | K2: Wply (cm3) | L2: iy (cm) | M2: Ayz (cm2) | N2: Iz (cm4) | O2: Welz (cm3) | P2: Wplz (cm3) | Q2: iz (cm) | R2: Azy (cm2) | S2: It (cm4) | T2: Ct (cm3)
B3: RECF
A4: =$B$3&" "&C4&"*"&D4&"*"&E4 -> RECF 40*20*2 | B4: =H4*0.785 -> 1.677538 | C4: 40 | D4: 20 | E4: 2 | F4: =IF(E4<=6,1*E4,IF(E4<=10,1.5*E4,2*E4)) -> 2 | G4: =IF(E4<=6,2*E4,IF(E4<=10,2.5*E4,3*E4)) -> 4 | H4: =(2*(C4-2*G4)*E4+2*(D4-2*G4)*E4+PI()*(G4^2-F4^2))*0.01 -> 2.1369911 | I4: 4.03 | J4: =I4/(0.5*C4*0.1) -> 2.015 | K4: 2.61 | L4: =SQRT(I4/H4) -> 1.3732549 | M4: =2*(C4-2*G4)*E4*0.01 -> 1.28 | N4: 1.33 | O4: =N4/(0.5*D4*0.1) -> 1.33 | P4: 1.59 | Q4: =SQRT(N4/H4) -> 0.78890455 | R4: =2*(D4-2*G4)*E4*0.01 -> 0.48
A5: =$B$3&" "&C5&"*"&D5&"*"&E5 -> RECF 40*20*2.5 | B5: =H5*0.785 -> 2.0324032 | C5: 40 | D5: 20 | E5: 2.5 | F5: =IF(E5<=6,1*E5,IF(E5<=10,1.5*E5,2*E5)) -> 2.5 | G5: =IF(E5<=6,2*E5,IF(E5<=10,2.5*E5,3*E5)) -> 5 | H5: =(2*(C5-2*G5)*E5+2*(D5-2*G5)*E5+PI()*(G5^2-F5^2))*0.01 -> 2.5890486 | I5: 4.65 | J5: =I5/(0.5*C5*0.1) -> 2.325 | K5: 3.08 | L5: =SQRT(I5/H5) -> 1.3401591 | M5: =2*(C5-2*G5)*E5*0.01 -> 1.5 | N5: 1.52 | O5: =N5/(0.5*D5*0.1) -> 1.52 | P5: 1.87 | Q5: =SQRT(N5/H5) -> 0.76621684 | R5: =2*(D5-2*G5)*E5*0.01 -> 0.5
A6: =$B$3&" "&C6&"*"&D6&"*"&E6 -> RECF 40*20*3 | B6: =H6*0.785 -> 2.3614606 | C6: 40 | D6: 20 | E6: 3 | F6: =IF(E6<=6,1*E6,IF(E6<=10,1.5*E6,2*E6)) -> 3 | G6: =IF(E6<=6,2*E6,IF(E6<=10,2.5*E6,3*E6)) -> 6 | H6: =(2*(C6-2*G6)*E6+2*(D6-2*G6)*E6+PI()*(G6^2-F6^2))*0.01 -> 3.00823 | I6: 5.13 | J6: =I6/(0.5*C6*0.1) -> 2.565 | K6: 3.48 | L6: =SQRT(I6/H6) -> 1.3058797 | M6: =2*(C6-2*G6)*E6*0.01 -> 1.68 | N6: 1.65 | O6: =N6/(0.5*D6*0.1) -> 1.65 | P6: 2.09 | Q6: =SQRT(N6/H6) -> 0.74060468 | R6: =2*(D6-2*G6)*E6*0.01 -> 0.48
A7: =$B$3&" "&C7&"*"&D7&"*"&E7 -> RECF 50*30*2 | B7: =H7*0.785 -> 2.305538 | C7: 50 | D7: 30 | E7: 2 | F7: =IF(E7<=6,1*E7,IF(E7<=10,1.5*E7,2*E7)) -> 2 | G7: =IF(E7<=6,2*E7,IF(E7<=10,2.5*E7,3*E7)) -> 4 | H7: =(2*(C7-2*G7)*E7+2*(D7-2*G7)*E7+PI()*(G7^2-F7^2))*0.01 -> 2.9369911 | I7: 9.51 | J7: =I7/(0.5*C7*0.1) -> 3.804 | K7: 4.74 | L7: =SQRT(I7/H7) -> 1.7994465 | M7: =2*(C7-2*G7)*E7*0.01 -> 1.68 | N7: 4.28 | O7: =N7/(0.5*D7*0.1) -> 2.8533333 | P7: 3.32 | Q7: =SQRT(N7/H7) -> 1.2071759 | R7: =2*(D7-2*G7)*E7*0.01 -> 0.88
A8: =$B$3&" "&C8&"*"&D8&"*"&E8 -> RECF 50*30*2.5 | B8: =H8*0.785 -> 2.8174032 | C8: 50 | D8: 30 | E8: 2.5 | F8: =IF(E8<=6,1*E8,IF(E8<=10,1.5*E8,2*E8)) -> 2.5 | G8: =IF(E8<=6,2*E8,IF(E8<=10,2.5*E8,3*E8)) -> 5 | H8: =(2*(C8-2*G8)*E8+2*(D8-2*G8)*E8+PI()*(G8^2-F8^2))*0.01 -> 3.5890486 | I8: 11.2 | J8: =I8/(0.5*C8*0.1) -> 4.48 | K8: 5.69 | L8: =SQRT(I8/H8) -> 1.7665232 | M8: =2*(C8-2*G8)*E8*0.01 -> 2 | N8: 5.02 | O8: =N8/(0.5*D8*0.1) -> 3.3466667 | P8: 3.97 | Q8: =SQRT(N8/H8) -> 1.1826662 | R8: =2*(D8-2*G8)*E8*0.01 -> 1
A9: =$B$3&" "&C9&"*"&D9&"*"&E9 -> RECF 50*30*3 | B9: =H9*0.785 -> 3.3034606 | C9: 50 | D9: 30 | E9: 3 | F9: =IF(E9<=6,1*E9,IF(E9<=10,1.5*E9,2*E9)) -> 3 | G9: =IF(E9<=6,2*E9,IF(E9<=10,2.5*E9,3*E9)) -> 6 | H9: =(2*(C9-2*G9)*E9+2*(D9-2*G9)*E9+PI()*(G9^2-F9^2))*0.01 -> 4.20823 | I9: 12.7 | J9: =I9/(0.5*C9*0.1) -> 5.08 | K9: 6.55 | L9: =SQRT(I9/H9) -> 1.7372092 | M9: =2*(C9-2*G9)*E9*0.01 -> 2.28 | N9: 5.64 | O9: =N9/(0.5*D9*0.1) -> 3.76 | P9: 4.56 | Q9: =SQRT(N9/H9) -> 1.1576834 | R9: =2*(D9-2*G9)*E9*0.01 -> 1.08
A10: =$B$3&" "&C10&"*"&D10&"*"&E10 -> RECF 50*30*4 | B10: =H10*0.785 -> 4.1981521 | C10: 50 | D10: 30 | E10: 4 | F10: =IF(E10<=6,1*E10,IF(E10<=10,1.5*E10,2*E10)) -> 4 | G10: =IF(E10<=6,2*E10,IF(E10<=10,2.5*E10,3*E10)) -> 8 | H10: =(2*(C10-2*G10)*E10+2*(D10-2*G10)*E10+PI()*(G10^2-F10^2))*0.01 -> 5.3479645 | I10: 15 | J10: =I10/(0.5*C10*0.1) -> 6 | K10: 8 | L10: =SQRT(I10/H10) -> 1.6747553 | M10: =2*(C10-2*G10)*E10*0.01 -> 2.72 | N10: 6.56 | O10: =N10/(0.5*D10*0.1) -> 4.3733333 | P10: 5.53 | Q10: =SQRT(N10/H10) -> 1.1075355 | R10: =2*(D10-2*G10)*E10*0.01 -> 1.12
A11: =$B$3&" "&C11&"*"&D11&"*"&E11 -> RECF 60*40*2 | B11: =H11*0.785 -> 2.933538 | C11: 60 | D11: 40 | E11: 2 | F11: =IF(E11<=6,1*E11,IF(E11<=10,1.5*E11,2*E11)) -> 2 | G11: =IF(E11<=6,2*E11,IF(E11<=10,2.5*E11,3*E11)) -> 4 | H11: =(2*(C11-2*G11)*E11+2*(D11-2*G11)*E11+PI()*(G11^2-F11^2))*0.01 -> 3.7369911 | I11: 18.4 | J11: =I11/(0.5*C11*0.1) -> 6.1333333 | K11: 7.46 | L11: =SQRT(I11/H11) -> 2.2189519 | M11: =2*(C11-2*G11)*E11*0.01 -> 2.08 | N11: 9.81 | O11: =N11/(0.5*D11*0.1) -> 4.905 | P11: 5.65 | Q11: =SQRT(N11/H11) -> 1.6202181 | R11: =2*(D11-2*G11)*E11*0.01 -> 1.28
A12: =$B$3&" "&C12&"*"&D12&"*"&E12 -> RECF 60*40*2.5 | B12: =H12*0.785 -> 3.6024032 | C12: 60 | D12: 40 | E12: 2.5 | F12: =IF(E12<=6,1*E12,IF(E12<=10,1.5*E12,2*E12)) -> 2.5 | G12: =IF(E12<=6,2*E12,IF(E12<=10,2.5*E12,3*E12)) -> 5 | H12: =(2*(C12-2*G12)*E12+2*(D12-2*G12)*E12+PI()*(G12^2-F12^2))*0.01 -> 4.5890486 | I12: 22 | J12: =I12/(0.5*C12*0.1) -> 7.3333333 | K12: 9.04 | L12: =SQRT(I12/H12) -> 2.1895255 | M12: =2*(C12-2*G12)*E12*0.01 -> 2.5 | N12: 11.7 | O12: =N12/(0.5*D12*0.1) -> 5.85 | P12: 6.83 | Q12: =SQRT(N12/H12) -> 1.5967304 | R12: =2*(D12-2*G12)*E12*0.01 -> 1.5
A13: =$B$3&" "&C13&"*"&D13&"*"&E13 -> RECF 60*40*3 | B13: =H13*0.785 -> 4.2454606 | C13: 60 | D13: 40 | E13: 3 | F13: =IF(E13<=6,1*E13,IF(E13<=10,1.5*E13,2*E13)) -> 3 | G13: =IF(E13<=6,2*E13,IF(E13<=10,2.5*E13,3*E13)) -> 6 | H13: =(2*(C13-2*G13)*E13+2*(D13-2*G13)*E13+PI()*(G13^2-F13^2))*0.01 -> 5.40823 | I13: 26.3 | J13: =I13/(0.5*C13*0.1) -> 8.7666667 | K13: 10.5 | L13: =SQRT(I13/H13) -> 2.2052117 | M13: =2*(C13-2*G13)*E13*0.01 -> 2.88 | N13: 13.4 | O13: =N13/(0.5*D13*0.1) -> 6.7 | P13: 7.92 | Q13: =SQRT(N13/H13) -> 1.5740728 | R13: =2*(D13-2*G13)*E13*0.01 -> 1.68
A14: =$B$3&" "&C14&"*"&D14&"*"&E14 -> RECF 60*40*4 | B14: =H14*0.785 -> 5.4541521 | C14: 60 | D14: 40 | E14: 4 | F14: =IF(E14<=6,1*E14,IF(E14<=10,1.5*E14,2*E14)) -> 4 | G14: =IF(E14<=6,2*E14,IF(E14<=10,2.5*E14,3*E14)) -> 8 | H14: =(2*(C14-2*G14)*E14+2*(D14-2*G14)*E14+PI()*(G14^2-F14^2))*0.01 -> 6.9479645 | I14: 30.7 | J14: =I14/(0.5*C14*0.1) -> 10.233333 | K14: 13.1 | L14: =SQRT(I14/H14) -> 2.1020372 | M14: =2*(C14-2*G14)*E14*0.01 -> 3.52 | N14: 16.1 | O14: =N14/(0.5*D14*0.1) -> 8.05 | P14: 9.85 | Q14: =SQRT(N14/H14) -> 1.5222436 | R14: =2*(D14-2*G14)*E14*0.01 -> 1.92
A15: =$B$3&" "&C15&"*"&D15&"*"&E15 -> RECF 60*40*5 | B15: =H15*0.785 -> 6.5596127 | C15: 60 | D15: 40 | E15: 5 | F15: =IF(E15<=6,1*E15,IF(E15<=10,1.5*E15,2*E15)) -> 5 | G15: =IF(E15<=6,2*E15,IF(E15<=10,2.5*E15,3*E15)) -> 10 | H15: =(2*(C15-2*G15)*E15+2*(D15-2*G15)*E15+PI()*(G15^2-F15^2))*0.01 -> 8.3561945 | I15: 34.8 | J15: =I15/(0.5*C15*0.1) -> 11.6 | K15: 16.3 | L15: =SQRT(I15/H15) -> 2.0407291 | M15: =2*(C15-2*G15)*E15*0.01 -> 4 | N15: 18.1 | O15: =N15/(0.5*D15*0.1) -> 9.05 | P15: 11.4 | Q15: =SQRT(N15/H15) -> 1.4717533 | R15: =2*(D15-2*G15)*E15*0.01 -> 2
... A168: =$B$3&" "&C168&"*"&D168&"*"&E168 -> RECF 400*300*16 | B168: =H168*0.785 -> 159.17632 | C168: 400 | D168: 300 | E168: 16 | F168: =IF(E168<=6,1*E168,IF(E168<=10,1.5*E168,2*E168)) -> 32 | G168: =IF(E168<=6,2*E168,IF(E168<=10,2.5*E168,3*E168)) -> 48 | H168: =(2*(C168-2*G168)*E168+2*(D168-2*G168)*E168+PI()*(G168^2-F168^2))*0.01 -> 202.77239 | I168: 44080 | J168: =I168/(0.5*C168*0.1) -> 2204 | K168: 2701 | L168: =SQRT(I168/H168) -> 14.744036 | M168: =2*(C168-2*G168)*E168*0.01 -> 97.28 | N168: 28336 | O168: =N168/(0.5*D168*0.1) -> 1889.0667 | P168: 2221 | Q168: =SQRT(N168/H168) -> 11.82129 | R168: =2*(D168-2*G168)*E168*0.01 -> 65.28
B169: RECC
A170: =$B$169&" "&C170&"*"&D170&"*"&E170 -> RECC 50*30*2.6 | B170: =H170*0.785 -> 2.9166793 | C170: 50 | D170: 30 | E170: 2.6 | F170: =IF(E170<=6,1*E170,IF(E170<=10,1.5*E170,2*E170)) -> 2.6 | G170: =IF(E170<=6,2*E170,IF(E170<=10,2.5*E170,3*E170)) -> 5.2 | H170: =(2*(C170-2*G170)*E170+2*(D170-2*G170)*E170+PI()*(G170^2-F170^2))*0.01 -> 3.715515 | I170: 12.2 | J170: =I170/(0.5*C170*0.1) -> 4.88 | K170: 6.12 | L170: =SQRT(I170/H170) -> 1.812051 | M170: =2*(C170-2*G170)*E170*0.01 -> 2.0592 | N170: 5.38 | O170: =N170/(0.5*D170*0.1) -> 3.5866667 | P170: 4.25 | Q170: =SQRT(N170/H170) -> 1.2033214 | R170: =2*(D170-2*G170)*E170*0.01 -> 1.0192 | S170: 12.1 | T170: 5.9
A171: =$B$169&" "&C171&"*"&D171&"*"&E171 -> RECC 50*30*3.2 | B171: =H171*0.785 -> 3.4906574 | C171: 50 | D171: 30 | E171: 3.2 | F171: =IF(E171<=6,1*E171,IF(E171<=10,1.5*E171,2*E171)) -> 3.2 | G171: =IF(E171<=6,2*E171,IF(E171<=10,2.5*E171,3*E171)) -> 6.4 | H171: =(2*(C171-2*G171)*E171+2*(D171-2*G171)*E171+PI()*(G171^2-F171^2))*0.01 -> 4.4466973 | I171: 14.2 | J171: =I171/(0.5*C171*0.1) -> 5.68 | K171: 7.25 | L171: =SQRT(I171/H171) -> 1.7870034 | M171: =2*(C171-2*G171)*E171*0.01 -> 2.3808 | N171: 6.2 | O171: =N171/(0.5*D171*0.1) -> 4.1333333 | P171: 5 | Q171: =SQRT(N171/H171) -> 1.180802 | R171: =2*(D171-2*G171)*E171*0.01 -> 1.1008 | S171: 14.2 | T171: 6.8
A172: =$B$169&" "&C172&"*"&D172&"*"&E172 -> RECC 50*30*4 | B172: =H172*0.785 -> 4.1981521 | C172: 50 | D172: 30 | E172: 4 | F172: =IF(E172<=6,1*E172,IF(E172<=10,1.5*E172,2*E172)) -> 4 | G172: =IF(E172<=6,2*E172,IF(E172<=10,2.5*E172,3*E172)) -> 8 | H172: =(2*(C172-2*G172)*E172+2*(D172-2*G172)*E172+PI()*(G172^2-F172^2))*0.01 -> 5.3479645 | I172: 16.5 | J172: =I172/(0.5*C172*0.1) -> 6.6 | K172: 8.59 | L172: =SQRT(I172/H172) -> 1.7564982 | M172: =2*(C172-2*G172)*E172*0.01 -> 2.72 | N172: 7.08 | O172: =N172/(0.5*D172*0.1) -> 4.72 | P172: 5.88 | Q172: =SQRT(N172/H172) -> 1.1505947 | R172: =2*(D172-2*G172)*E172*0.01 -> 1.12 | S172: 16.6 | T172: 7.77
A173: =$B$169&" "&C173&"*"&D173&"*"&E173 -> RECC 50*30*5 | B173: =H173*0.785 -> 4.9896127 | C173: 50 | D173: 30 | E173: 5 | F173: =IF(E173<=6,1*E173,IF(E173<=10,1.5*E173,2*E173)) -> 5 | G173: =IF(E173<=6,2*E173,IF(E173<=10,2.5*E173,3*E173)) -> 10 | H173: =(2*(C173-2*G173)*E173+2*(D173-2*G173)*E173+PI()*(G173^2-F173^2))*0.01 -> 6.3561945 | I173: 18.7 | J173: =I173/(0.5*C173*0.1) -> 7.48 | K173: 10 | L173: =SQRT(I173/H173) -> 1.7152294 | M173: =2*(C173-2*G173)*E173*0.01 -> 3 | N173: 7.89 | O173: =N173/(0.5*D173*0.1) -> 5.26 | P173: 6.8 | Q173: =SQRT(N173/H173) -> 1.1141404 | R173: =2*(D173-2*G173)*E173*0.01 -> 1 | S173: 19 | T173: 8.67
A174: =$B$169&" "&C174&"*"&D174&"*"&E174 -> RECC 60*40*2.6 | B174: =H174*0.785 -> 3.7330793 | C174: 60 | D174: 40 | E174: 2.6 | F174: =IF(E174<=6,1*E174,IF(E174<=10,1.5*E174,2*E174)) -> 2.6 | G174: =IF(E174<=6,2*E174,IF(E174<=10,2.5*E174,3*E174)) -> 5.2 | H174: =(2*(C174-2*G174)*E174+2*(D174-2*G174)*E174+PI()*(G174^2-F174^2))*0.01 -> 4.755515 | I174: 23.6 | J174: =I174/(0.5*C174*0.1) -> 7.8666667 | K174: 9.65 | L174: =SQRT(I174/H174) -> 2.2277027 | M174: =2*(C174-2*G174)*E174*0.01 -> 2.5792 | N174: 12.4 | O174: =N174/(0.5*D174*0.1) -> 6.2 | P174: 7.26 | Q174: =SQRT(N174/H174) -> 1.6147752 | R174: =2*(D174-2*G174)*E174*0.01 -> 1.5392 | S174: 25.9 | T174: 10
A175: =$B$169&" "&C175&"*"&D175&"*"&E175 -> RECC 60*40*3.2 | B175: =H175*0.785 -> 4.4954574 | C175: 60 | D175: 40 | E175: 3.2 | F175: =IF(E175<=6,1*E175,IF(E175<=10,1.5*E175,2*E175)) -> 3.2 | G175: =IF(E175<=6,2*E175,IF(E175<=10,2.5*E175,3*E175)) -> 6.4 | H175: =(2*(C175-2*G175)*E175+2*(D175-2*G175)*E175+PI()*(G175^2-F175^2))*0.01 -> 5.7266973 | I175: 27.8 | J175: =I175/(0.5*C175*0.1) -> 9.2666667 | K175: 11.5 | L175: =SQRT(I175/H175) -> 2.203283 | M175: =2*(C175-2*G175)*E175*0.01 -> 3.0208 | N175: 14.6 | O175: =N175/(0.5*D175*0.1) -> 7.3 | P175: 8.64 | Q175: =SQRT(N175/H175) -> 1.5967036 | R175: =2*(D175-2*G175)*E175*0.01 -> 1.7408 | S175: 30.8 | T175: 11.7
A176: =$B$169&" "&C176&"*"&D176&"*"&E176 -> RECC 60*40*4 | B176: =H176*0.785 -> 5.4541521 | C176: 60 | D176: 40 | E176: 4 | F176: =IF(E176<=6,1*E176,IF(E176<=10,1.5*E176,2*E176)) -> 4 | G176: =IF(E176<=6,2*E176,IF(E176<=10,2.5*E176,3*E176)) -> 8 | H176: =(2*(C176-2*G176)*E176+2*(D176-2*G176)*E176+PI()*(G176^2-F176^2))*0.01 -> 6.9479645 | I176: 32.8 | J176: =I176/(0.5*C176*0.1) -> 10.933333 | K176: 13.8 | L176: =SQRT(I176/H176) -> 2.1727418 | M176: =2*(C176-2*G176)*E176*0.01 -> 3.52 | N176: 17 | O176: =N176/(0.5*D176*0.1) -> 8.5 | P176: 10.3 | Q176: =SQRT(N176/H176) -> 1.5642122 | R176: =2*(D176-2*G176)*E176*0.01 -> 1.92 | S176: 36.7 | T176: 13.7
A177: =$B$169&" "&C177&"*"&D177&"*"&E177 -> RECC 60*40*5 | B177: =H177*0.785 -> 6.5596127 | C177: 60 | D177: 40 | E177: 5 | F177: =IF(E177<=6,1*E177,IF(E177<=10,1.5*E177,2*E177)) -> 5 | G177: =IF(E177<=6,2*E177,IF(E177<=10,2.5*E177,3*E177)) -> 10 | H177: =(2*(C177-2*G177)*E177+2*(D177-2*G177)*E177+PI()*(G177^2-F177^2))*0.01 -> 8.3561945 | I177: 38.1 | J177: =I177/(0.5*C177*0.1) -> 12.7 | K177: 16.4 | L177: =SQRT(I177/H177) -> 2.1352966 | M177: =2*(C177-2*G177)*E177*0.01 -> 4 | N177: 19.5 | O177: =N177/(0.5*D177*0.1) -> 9.75 | P177: 12.2 | Q177: =SQRT(N177/H177) -> 1.5276119 | R177: =2*(D177-2*G177)*E177*0.01 -> 2 | S177: 43 | T177: 15.7
A178: =$B$169&" "&C178&"*"&D178&"*"&E178 -> RECC 60*40*6.3 | B178: =H178*0.785 -> 7.5749301 | C178: 60 | D178: 40 | E178: 6.3 | F178: =IF(E178<=6,1*E178,IF(E178<=10,1.5*E178,2*E178)) -> 9.45 | G178: =IF(E178<=6,2*E178,IF(E178<=10,2.5*E178,3*E178)) -> 15.75 | H178: =(2*(C178-2*G178)*E178+2*(D178-2*G178)*E178+PI()*(G178^2-F178^2))*0.01 -> 9.6495925 | I178: 43.4 | J178: =I178/(0.5*C178*0.1) -> 14.466667 | K178: 19.2 | L178: =SQRT(I178/H178) -> 2.1207544 | M178: =2*(C178-2*G178)*E178*0.01 -> 3.591 | N178: 21.9 | O178: =N178/(0.5*D178*0.1) -> 10.95 | P178: 14.2 | Q178: =SQRT(N178/H178) -> 1.5064946 | R178: =2*(D178-2*G178)*E178*0.01 -> 1.071 | S178: 49.5 | T178: 17.6
A179: =$B$169&" "&C179&"*"&D179&"*"&E179 -> RECC 80*40*3.2 | B179: =H179*0.785 -> 5.5002574 | C179: 80 | D179: 40 | E179: 3.2 | F179: =IF(E179<=6,1*E179,IF(E179<=10,1.5*E179,2*E179)) -> 3.2 | G179: =IF(E179<=6,2*E179,IF(E179<=10,2.5*E179,3*E179)) -> 6.4 | H179: =(2*(C179-2*G179)*E179+2*(D179-2*G179)*E179+PI()*(G179^2-F179^2))*0.01 -> 7.0066973 | I179: 57.2 | J179: =I179/(0.5*C179*0.1) -> 14.3 | K179: 18 | L179: =SQRT(I179/H179) -> 2.8572046 | M179: =2*(C179-2*G179)*E179*0.01 -> 4.3008 | N179: 18.9 | O179: =N179/(0.5*D179*0.1) -> 9.45 | P179: 11 | Q179: =SQRT(N179/H179) -> 1.6423822 | R179: =2*(D179-2*G179)*E179*0.01 -> 1.7408 | S179: 46.2 | T179: 16.1
A180: =$B$169&" "&C180&"*"&D180&"*"&E180 -> RECC 80*40*4 | B180: =H180*0.785 -> 6.7101521 | C180: 80 | D180: 40 | E180: 4 | F180: =IF(E180<=6,1*E180,IF(E180<=10,1.5*E180,2*E180)) -> 4 | G180: =IF(E180<=6,2*E180,IF(E180<=10,2.5*E180,3*E180)) -> 8 | H180: =(2*(C180-2*G180)*E180+2*(D180-2*G180)*E180+PI()*(G180^2-F180^2))*0.01 -> 8.5479645 | I180: 68.2 | J180: =I180/(0.5*C180*0.1) -> 17.05 | K180: 21.8 | L180: =SQRT(I180/H180) -> 2.8246252 | M180: =2*(C180-2*G180)*E180*0.01 -> 5.12 | N180: 22.2 | O180: =N180/(0.5*D180*0.1) -> 11.1 | P180: 13.2 | Q180: =SQRT(N180/H180) -> 1.611555 | R180: =2*(D180-2*G180)*E180*0.01 -> 1.92 | S180: 55.2 | T180: 18.9
A181: =$B$169&" "&C181&"*"&D181&"*"&E181 -> RECC 80*40*5 | B181: =H181*0.785 -> 8.1296127 | C181: 80 | D181: 40 | E181: 5 | F181: =IF(E181<=6,1*E181,IF(E181<=10,1.5*E181,2*E181)) -> 5 | G181: =IF(E181<=6,2*E181,IF(E181<=10,2.5*E181,3*E181)) -> 10 | H181: =(2*(C181-2*G181)*E181+2*(D181-2*G181)*E181+PI()*(G181^2-F181^2))*0.01 -> 10.356194 | I181: 80.3 | J181: =I181/(0.5*C181*0.1) -> 20.075 | K181: 26.1 | L181: =SQRT(I181/H181) -> 2.784567 | M181: =2*(C181-2*G181)*E181*0.01 -> 6 | N181: 25.7 | O181: =N181/(0.5*D181*0.1) -> 12.85 | P181: 15.7 | Q181: =SQRT(N181/H181) -> 1.5753116 | R181: =2*(D181-2*G181)*E181*0.01 -> 2 | S181: 65.1 | T181: 21.9
... A198: =$B$169&" "&C198&"*"&D198&"*"&E198 -> RECC 100*60*8 | B198: =H198*0.785 -> 16.361345 | C198: 100 | D198: 60 | E198: 8 | F198: =IF(E198<=6,1*E198,IF(E198<=10,1.5*E198,2*E198)) -> 12 | G198: =IF(E198<=6,2*E198,IF(E198<=10,2.5*E198,3*E198)) -> 20 | H198: =(2*(C198-2*G198)*E198+2*(D198-2*G198)*E198+PI()*(G198^2-F198^2))*0.01 -> 20.842477 | I198: 264 | J198: =I198/(0.5*C198*0.1) -> 52.8 | K198: 68.7 | L198: =SQRT(I198/H198) -> 3.5589943 | M198: =2*(C198-2*G198)*E198*0.01 -> 9.6 | N198: 113 | O198: =N198/(0.5*D198*0.1) -> 37.666667 | P198: 47.1 | Q198: =SQRT(N198/H198) -> 2.3284373 | R198: =2*(D198-2*G198)*E198*0.01 -> 3.2 | S198: 265 | T198: 62.2
A199: =$B$169&" "&C199&"*"&D199&"*"&E199 -> RECC 120*60*4 | B199: =H199*0.785 -> 10.478152 | C199: 120 | D199: 60 | E199: 4 | F199: =IF(E199<=6,1*E199,IF(E199<=10,1.5*E199,2*E199)) -> 4 | G199: =IF(E199<=6,2*E199,IF(E199<=10,2.5*E199,3*E199)) -> 8 | H199: =(2*(C199-2*G199)*E199+2*(D199-2*G199)*E199+PI()*(G199^2-F199^2))*0.01 -> 13.347964 | J199: =I199/(0.5*C199*0.1) -> 0 | L199: =SQRT(I199/H199) -> 0 | M199: =2*(C199-2*G199)*E199*0.01 -> 8.32 | O199: =N199/(0.5*D199*0.1) -> 0 | Q199: =SQRT(N199/H199) -> 0 | R199: =2*(D199-2*G199)*E199*0.01 -> 3.52
A200: =$B$169&" "&C200&"*"&D200&"*"&E200 -> RECC 120*60*5 | B200: =H200*0.785 -> 12.839613 | C200: 120 | D200: 60 | E200: 5 | F200: =IF(E200<=6,1*E200,IF(E200<=10,1.5*E200,2*E200)) -> 5 | G200: =IF(E200<=6,2*E200,IF(E200<=10,2.5*E200,3*E200)) -> 10 | H200: =(2*(C200-2*G200)*E200+2*(D200-2*G200)*E200+PI()*(G200^2-F200^2))*0.01 -> 16.356194 | J200: =I200/(0.5*C200*0.1) -> 0 | L200: =SQRT(I200/H200) -> 0 | M200: =2*(C200-2*G200)*E200*0.01 -> 10 | O200: =N200/(0.5*D200*0.1) -> 0 | Q200: =SQRT(N200/H200) -> 0 | R200: =2*(D200-2*G200)*E200*0.01 -> 4
A201: =$B$169&" "&C201&"*"&D201&"*"&E201 -> RECC 120*60*6.3 | B201: =H201*0.785 -> 15.48773 | C201: 120 | D201: 60 | E201: 6.3 | F201: =IF(E201<=6,1*E201,IF(E201<=10,1.5*E201,2*E201)) -> 9.45 | G201: =IF(E201<=6,2*E201,IF(E201<=10,2.5*E201,3*E201)) -> 15.75 | H201: =(2*(C201-2*G201)*E201+2*(D201-2*G201)*E201+PI()*(G201^2-F201^2))*0.01 -> 19.729592 | J201: =I201/(0.5*C201*0.1) -> 0 | L201: =SQRT(I201/H201) -> 0 | M201: =2*(C201-2*G201)*E201*0.01 -> 11.151 | O201: =N201/(0.5*D201*0.1) -> 0 | Q201: =SQRT(N201/H201) -> 0 | R201: =2*(D201-2*G201)*E201*0.01 -> 3.591
A202: =$B$169&" "&C202&"*"&D202&"*"&E202 -> RECC 120*60*8 | B202: =H202*0.785 -> 18.873345 | C202: 120 | D202: 60 | E202: 8 | F202: =IF(E202<=6,1*E202,IF(E202<=10,1.5*E202,2*E202)) -> 12 | G202: =IF(E202<=6,2*E202,IF(E202<=10,2.5*E202,3*E202)) -> 20 | H202: =(2*(C202-2*G202)*E202+2*(D202-2*G202)*E202+PI()*(G202^2-F202^2))*0.01 -> 24.042477 | J202: =I202/(0.5*C202*0.1) -> 0 | L202: =SQRT(I202/H202) -> 0 | M202: =2*(C202-2*G202)*E202*0.01 -> 12.8 | O202: =N202/(0.5*D202*0.1) -> 0 | Q202: =SQRT(N202/H202) -> 0 | R202: =2*(D202-2*G202)*E202*0.01 -> 3.2
A203: =$B$169&" "&C203&"*"&D203&"*"&E203 -> RECC 120*60*10 | B203: =H203*0.785 -> 22.424601 | C203: 120 | D203: 60 | E203: 10 | F203: =IF(E203<=6,1*E203,IF(E203<=10,1.5*E203,2*E203)) -> 15 | G203: =IF(E203<=6,2*E203,IF(E203<=10,2.5*E203,3*E203)) -> 25 | H203: =(2*(C203-2*G203)*E203+2*(D203-2*G203)*E203+PI()*(G203^2-F203^2))*0.01 -> 28.566371 | J203: =I203/(0.5*C203*0.1) -> 0 | L203: =SQRT(I203/H203) -> 0 | M203: =2*(C203-2*G203)*E203*0.01 -> 14 | O203: =N203/(0.5*D203*0.1) -> 0 | Q203: =SQRT(N203/H203) -> 0 | R203: =2*(D203-2*G203)*E203*0.01 -> 2
A204: =$B$169&" "&C204&"*"&D204&"*"&E204 -> RECC 120*80*4 | B204: =H204*0.785 -> 11.734152 | C204: 120 | D204: 80 | E204: 4 | F204: =IF(E204<=6,1*E204,IF(E204<=10,1.5*E204,2*E204)) -> 4 | G204: =IF(E204<=6,2*E204,IF(E204<=10,2.5*E204,3*E204)) -> 8 | H204: =(2*(C204-2*G204)*E204+2*(D204-2*G204)*E204+PI()*(G204^2-F204^2))*0.01 -> 14.947964 | J204: =I204/(0.5*C204*0.1) -> 0 | L204: =SQRT(I204/H204) -> 0 | M204: =2*(C204-2*G204)*E204*0.01 -> 8.32 | O204: =N204/(0.5*D204*0.1) -> 0 | Q204: =SQRT(N204/H204) -> 0 | R204: =2*(D204-2*G204)*E204*0.01 -> 5.12
A205: =$B$169&" "&C205&"*"&D205&"*"&E205 -> RECC 120*80*5 | B205: =H205*0.785 -> 14.409613 | C205: 120 | D205: 80 | E205: 5 | F205: =IF(E205<=6,1*E205,IF(E205<=10,1.5*E205,2*E205)) -> 5 | G205: =IF(E205<=6,2*E205,IF(E205<=10,2.5*E205,3*E205)) -> 10 | H205: =(2*(C205-2*G205)*E205+2*(D205-2*G205)*E205+PI()*(G205^2-F205^2))*0.01 -> 18.356194 | J205: =I205/(0.5*C205*0.1) -> 0 | L205: =SQRT(I205/H205) -> 0 | M205: =2*(C205-2*G205)*E205*0.01 -> 10 | O205: =N205/(0.5*D205*0.1) -> 0 | Q205: =SQRT(N205/H205) -> 0 | R205: =2*(D205-2*G205)*E205*0.01 -> 6
A206: =$B$169&" "&C206&"*"&D206&"*"&E206 -> RECC 120*80*6.3 | B206: =H206*0.785 -> 17.46593 | C206: 120 | D206: 80 | E206: 6.3 | F206: =IF(E206<=6,1*E206,IF(E206<=10,1.5*E206,2*E206)) -> 9.45 | G206: =IF(E206<=6,2*E206,IF(E206<=10,2.5*E206,3*E206)) -> 15.75 | H206: =(2*(C206-2*G206)*E206+2*(D206-2*G206)*E206+PI()*(G206^2-F206^2))*0.01 -> 22.249592 | J206: =I206/(0.5*C206*0.1) -> 0 | L206: =SQRT(I206/H206) -> 0 | M206: =2*(C206-2*G206)*E206*0.01 -> 11.151 | O206: =N206/(0.5*D206*0.1) -> 0 | Q206: =SQRT(N206/H206) -> 0 | R206: =2*(D206-2*G206)*E206*0.01 -> 6.111
A207: =$B$169&" "&C207&"*"&D207&"*"&E207 -> RECC 120*80*8 | B207: =H207*0.785 -> 21.385345 | C207: 120 | D207: 80 | E207: 8 | F207: =IF(E207<=6,1*E207,IF(E207<=10,1.5*E207,2*E207)) -> 12 | G207: =IF(E207<=6,2*E207,IF(E207<=10,2.5*E207,3*E207)) -> 20 | H207: =(2*(C207-2*G207)*E207+2*(D207-2*G207)*E207+PI()*(G207^2-F207^2))*0.01 -> 27.242477 | J207: =I207/(0.5*C207*0.1) -> 0 | L207: =SQRT(I207/H207) -> 0 | M207: =2*(C207-2*G207)*E207*0.01 -> 12.8 | O207: =N207/(0.5*D207*0.1) -> 0 | Q207: =SQRT(N207/H207) -> 0 | R207: =2*(D207-2*G207)*E207*0.01 -> 6.4
A208: =$B$169&" "&C208&"*"&D208&"*"&E208 -> RECC 120*80*10 | B208: =H208*0.785 -> 25.564601 | C208: 120 | D208: 80 | E208: 10 | F208: =IF(E208<=6,1*E208,IF(E208<=10,1.5*E208,2*E208)) -> 15 | G208: =IF(E208<=6,2*E208,IF(E208<=10,2.5*E208,3*E208)) -> 25 | H208: =(2*(C208-2*G208)*E208+2*(D208-2*G208)*E208+PI()*(G208^2-F208^2))*0.01 -> 32.566371 | J208: =I208/(0.5*C208*0.1) -> 0 | L208: =SQRT(I208/H208) -> 0 | M208: =2*(C208-2*G208)*E208*0.01 -> 14 | O208: =N208/(0.5*D208*0.1) -> 0 | Q208: =SQRT(N208/H208) -> 0 | R208: =2*(D208-2*G208)*E208*0.01 -> 6
A209: =$B$169&" "&C209&"*"&D209&"*"&E209 -> RECC 140*80*4 | B209: =H209*0.785 -> 12.990152 | C209: 140 | D209: 80 | E209: 4 | F209: =IF(E209<=6,1*E209,IF(E209<=10,1.5*E209,2*E209)) -> 4 | G209: =IF(E209<=6,2*E209,IF(E209<=10,2.5*E209,3*E209)) -> 8 | H209: =(2*(C209-2*G209)*E209+2*(D209-2*G209)*E209+PI()*(G209^2-F209^2))*0.01 -> 16.547964 | J209: =I209/(0.5*C209*0.1) -> 0 | L209: =SQRT(I209/H209) -> 0 | M209: =2*(C209-2*G209)*E209*0.01 -> 9.92 | O209: =N209/(0.5*D209*0.1) -> 0 | Q209: =SQRT(N209/H209) -> 0 | R209: =2*(D209-2*G209)*E209*0.01 -> 5.12
A210: =$B$169&" "&C210&"*"&D210&"*"&E210 -> RECC 140*80*5 | B210: =H210*0.785 -> 15.979613 | C210: 140 | D210: 80 | E210: 5 | F210: =IF(E210<=6,1*E210,IF(E210<=10,1.5*E210,2*E210)) -> 5 | G210: =IF(E210<=6,2*E210,IF(E210<=10,2.5*E210,3*E210)) -> 10 | H210: =(2*(C210-2*G210)*E210+2*(D210-2*G210)*E210+PI()*(G210^2-F210^2))*0.01 -> 20.356194 | J210: =I210/(0.5*C210*0.1) -> 0 | L210: =SQRT(I210/H210) -> 0 | M210: =2*(C210-2*G210)*E210*0.01 -> 12 | O210: =N210/(0.5*D210*0.1) -> 0 | Q210: =SQRT(N210/H210) -> 0 | R210: =2*(D210-2*G210)*E210*0.01 -> 6
... A281: =$B$169&" "&C281&"*"&D281&"*"&E281 -> RECC 500*300*16 | B281: =H281*0.785 -> 184.29632 | C281: 500 | D281: 300 | E281: 16 | F281: =IF(E281<=6,1*E281,IF(E281<=10,1.5*E281,2*E281)) -> 32 | G281: =IF(E281<=6,2*E281,IF(E281<=10,2.5*E281,3*E281)) -> 48 | H281: =(2*(C281-2*G281)*E281+2*(D281-2*G281)*E281+PI()*(G281^2-F281^2))*0.01 -> 234.77239 | J281: =I281/(0.5*C281*0.1) -> 0 | L281: =SQRT(I281/H281) -> 0 | M281: =2*(C281-2*G281)*E281*0.01 -> 129.28 | O281: =N281/(0.5*D281*0.1) -> 0 | Q281: =SQRT(N281/H281) -> 0 | R281: =2*(D281-2*G281)*E281*0.01 -> 65.28

Sheet Tubes_CHS
A1: Type de profilé | B1: Masse | C1: Dimensions | H1: Aire | I1: Inertie | J1: Modules de flexion | L1: Rayon de giration | S1: Inertie de Torsion | T1: Constante de Torsion
B2: G (kg/ml) | C2: h (mm) | D2: t | H2: A (cm2) | I2: I (cm4) | J2: Wel (cm3) | K2: Wpl (cm3) | L2: i (cm) | S2: It (cm4) | T2: Ct (cm3)
B3: CIRF
A4: =$B$3&" "&C4&"*"&D4 -> CIRF 21.3*2 | B4: =H4*0.785 -> 0.95193399 | C4: 21.3 | D4: 2 | H4: =(C4^2-(C4-2*D4)^2)*PI()*0.01/4 -> 1.2126548 | I4: =(C4^4-(C4-2*D4)^4)*PI()*0.0001/64 -> 0.57069049 | J4: =I4/(C4*0.5*0.1) -> 0.53585962 | K4: 0.748 | L4: =SQRT(I4/H4) -> 0.68601203
A5: =$B$3&" "&C5&"*"&D5 -> CIRF 21.3*2.5 | B5: =H5*0.785 -> 1.1590906 | C5: 21.3 | D5: 2.5 | H5: =(C5^2-(C5-2*D5)^2)*PI()*0.01/4 -> 1.4765485 | I5: =(C5^4-(C5-2*D5)^4)*PI()*0.0001/64 -> 0.66387468 | J5: =I5/(C5*0.5*0.1) -> 0.62335651 | K5: 0.889 | L5: =SQRT(I5/H5) -> 0.67053151
A6: =$B$3&" "&C6&"*"&D6 -> CIRF 21.3*3 | B6: =H6*0.785 -> 1.3539165 | C6: 21.3 | D6: 3 | H6: =(C6^2-(C6-2*D6)^2)*PI()*0.01/4 -> 1.7247344 | I6: =(C6^4-(C6-2*D6)^4)*PI()*0.0001/64 -> 0.74139863 | J6: =I6/(C6*0.5*0.1) -> 0.69614895 | K6: 1.01 | L6: =SQRT(I6/H6) -> 0.655639
A7: =$B$3&" "&C7&"*"&D7 -> CIRF 26.9*2 | B7: =H7*0.785 -> 1.2281428 | C7: 26.9 | D7: 2 | H7: =(C7^2-(C7-2*D7)^2)*PI()*0.01/4 -> 1.5645131 | I7: =(C7^4-(C7-2*D7)^4)*PI()*0.0001/64 -> 1.2203398 | J7: =I7/(C7*0.5*0.1) -> 0.90731584 | K7: 1.24 | L7: =SQRT(I7/H7) -> 0.88318316
A8: =$B$3&" "&C8&"*"&D8 -> CIRF 26.9*2.5 | B8: =H8*0.785 -> 1.5043516 | C8: 26.9 | D8: 2.5 | H8: =(C8^2-(C8-2*D8)^2)*PI()*0.01/4 -> 1.9163715 | I8: =(C8^4-(C8-2*D8)^4)*PI()*0.0001/64 -> 1.4411353 | J8: =I8/(C8*0.5*0.1) -> 1.0714761 | K8: 1.49 | L8: =SQRT(I8/H8) -> 0.86718654
A9: =$B$3&" "&C9&"*"&D9 -> CIRF 26.9*3 | B9: =H9*0.785 -> 1.7682297 | C9: 26.9 | D9: 3 | H9: =(C9^2-(C9-2*D9)^2)*PI()*0.01/4 -> 2.2525219 | I9: =(C9^4-(C9-2*D9)^4)*PI()*0.0001/64 -> 1.6336697 | J9: =I9/(C9*0.5*0.1) -> 1.2146243 | K9: 1.72 | L9: =SQRT(I9/H9) -> 0.85162345
A10: =$B$3&" "&C10&"*"&D10 -> CIRF 33.7*2 | B10: =H10*0.785 -> 1.5635392 | C10: 33.7 | D10: 2 | H10: =(C10^2-(C10-2*D10)^2)*PI()*0.01/4 -> 1.9917697 | I10: =(C10^4-(C10-2*D10)^4)*PI()*0.0001/64 -> 2.5118457 | J10: =I10/(C10*0.5*0.1) -> 1.4907096 | K10: 2.01 | L10: =SQRT(I10/H10) -> 1.1229927
A11: =$B$3&" "&C11&"*"&D11 -> CIRF 33.7*2.5 | B11: =H11*0.785 -> 1.9235972 | C11: 33.7 | D11: 2.5 | H11: =(C11^2-(C11-2*D11)^2)*PI()*0.01/4 -> 2.4504423 | I11: =(C11^4-(C11-2*D11)^4)*PI()*0.0001/64 -> 3.0008422 | J11: =I11/(C11*0.5*0.1) -> 1.7809153 | K11: 2.44 | L11: =SQRT(I11/H11) -> 1.1066221
A12: =$B$3&" "&C12&"*"&D12 -> CIRF 33.7*3 | B12: =H12*0.785 -> 2.2713244 | C12: 33.7 | D12: 3 | H12: =(C12^2-(C12-2*D12)^2)*PI()*0.01/4 -> 2.8934068 | I12: =(C12^4-(C12-2*D12)^4)*PI()*0.0001/64 -> 3.4413096 | J12: =I12/(C12*0.5*0.1) -> 2.0423202 | K12: 2.84 | L12: =SQRT(I12/H12) -> 1.090579
A13: =$B$3&" "&C13&"*"&D13 -> CIRF 42.4*2 | B13: =H13*0.785 -> 1.9926494 | C13: 42.4 | D13: 2 | H13: =(C13^2-(C13-2*D13)^2)*PI()*0.01/4 -> 2.5384069 | I13: =(C13^4-(C13-2*D13)^4)*PI()*0.0001/64 -> 5.1915497 | J13: =I13/(C13*0.5*0.1) -> 2.4488442 | K13: 3.27 | L13: =SQRT(I13/H13) -> 1.4301049
A14: =$B$3&" "&C14&"*"&D14 -> CIRF 42.4*2.5 | B14: =H14*0.785 -> 2.4599849 | C14: 42.4 | D14: 2.5 | H14: =(C14^2-(C14-2*D14)^2)*PI()*0.01/4 -> 3.1337387 | I14: =(C14^4-(C14-2*D14)^4)*PI()*0.0001/64 -> 6.2606615 | J14: =I14/(C14*0.5*0.1) -> 2.9531422 | K14: 3.99 | L14: =SQRT(I14/H14) -> 1.4134444
A15: =$B$3&" "&C15&"*"&D15 -> CIRF 42.4*3 | B15: =H15*0.785 -> 2.9149896 | C15: 42.4 | D15: 3 | H15: =(C15^2-(C15-2*D15)^2)*PI()*0.01/4 -> 3.7133625 | I15: =(C15^4-(C15-2*D15)^4)*PI()*0.0001/64 -> 7.2473696 | J15: =I15/(C15*0.5*0.1) -> 3.4185706 | K15: 4.67 | L15: =SQRT(I15/H15) -> 1.3970326
... A224: =$B$3&" "&C224&"*"&D224 -> CIRF 1219*25 | B224: =H224*0.785 -> 736.14584 | C224: 1219 | D224: 25 | H224: =(C224^2-(C224-2*D224)^2)*PI()*0.01/4 -> 937.76541 | I224: =(C224^4-(C224-2*D224)^4)*PI()*0.0001/64 -> 1671872.8 | J224: =I224/(C224*0.5*0.1) -> 27430.234 | K224: 35646 | L224: =SQRT(I224/H224) -> 42.223527
B225: CIRC
A226: =$B$225&" "&C226&"*"&D226 -> CIRC 21.3*2.3 | B226: =H226*0.785 -> 1.0777077 | C226: 21.3 | D226: 2.3 | H226: =(C226^2-(C226-2*D226)^2)*PI()*0.01/4 -> 1.372876 | I226: =(C226^4-(C226-2*D226)^4)*PI()*0.0001/64 -> 0.62858843 | J226: =I226/(C226*0.5*0.1) -> 0.59022388 | K226: 0.834 | L226: =SQRT(I226/H226) -> 0.67665538
A227: =$B$225&" "&C227&"*"&D227 -> CIRC 21.3*2.6 | B227: =H227*0.785 -> 1.1990422 | C227: 21.3 | D227: 2.6 | H227: =(C227^2-(C227-2*D227)^2)*PI()*0.01/4 -> 1.5274423 | I227: =(C227^4-(C227-2*D227)^4)*PI()*0.0001/64 -> 0.68057103 | J227: =I227/(C227*0.5*0.1) -> 0.63903383 | K227: 0.915 | L227: =SQRT(I227/H227) -> 0.66750468
A228: =$B$225&" "&C228&"*"&D228 -> CIRC 21.3*3.2 | B228: =H228*0.785 -> 1.4283942 | C228: 21.3 | D228: 3.2 | H228: =(C228^2-(C228-2*D228)^2)*PI()*0.01/4 -> 1.8196105 | I228: =(C228^4-(C228-2*D228)^4)*PI()*0.0001/64 -> 0.76844424 | J228: =I228/(C228*0.5*0.1) -> 0.72154389 | K228: 1.06 | L228: =SQRT(I228/H228) -> 0.64985575
A229: =$B$225&" "&C229&"*"&D229 -> CIRC 26.9*2.3 | B229: =H229*0.785 -> 1.3953478 | C229: 26.9 | D229: 2.3 | H229: =(C229^2-(C229-2*D229)^2)*PI()*0.01/4 -> 1.7775131 | I229: =(C229^4-(C229-2*D229)^4)*PI()*0.0001/64 -> 1.3563536 | J229: =I229/(C229*0.5*0.1) -> 1.0084413 | K229: 1.4 | L229: =SQRT(I229/H229) -> 0.87353449
A230: =$B$225&" "&C230&"*"&D230 -> CIRC 26.9*2.6 | B230: =H230*0.785 -> 1.5581137 | C230: 26.9 | D230: 2.6 | H230: =(C230^2-(C230-2*D230)^2)*PI()*0.01/4 -> 1.9848582 | I230: =(C230^4-(C230-2*D230)^4)*PI()*0.0001/64 -> 1.4818207 | J230: =I230/(C230*0.5*0.1) -> 1.1017254 | K230: 1.54 | L230: =SQRT(I230/H230) -> 0.86403848
A231: =$B$225&" "&C231&"*"&D231 -> CIRC 26.9*3.2 | B231: =H231*0.785 -> 1.8703283 | C231: 26.9 | D231: 3.2 | H231: =(C231^2-(C231-2*D231)^2)*PI()*0.01/4 -> 2.3825839 | I231: =(C231^4-(C231-2*D231)^4)*PI()*0.0001/64 -> 1.703339 | J231: =I231/(C231*0.5*0.1) -> 1.266423 | K231: 1.81 | L231: =SQRT(I231/H231) -> 0.84552498
A232: =$B$225&" "&C232&"*"&D232 -> CIRC 33.7*2.6 | B232: =H232*0.785 -> 1.9941291 | C232: 33.7 | D232: 2.6 | H232: =(C232^2-(C232-2*D232)^2)*PI()*0.01/4 -> 2.5402918 | I232: =(C232^4-(C232-2*D232)^4)*PI()*0.0001/64 -> 3.09271 | J232: =I232/(C232*0.5*0.1) -> 1.8354362 | K232: 2.52 | L232: =SQRT(I232/H232) -> 1.1033868
A233: =$B$225&" "&C233&"*"&D233 -> CIRC 33.7*3.2 | B233: =H233*0.785 -> 2.4069626 | C233: 33.7 | D233: 3.2 | H233: =(C233^2-(C233-2*D233)^2)*PI()*0.01/4 -> 3.0661944 | I233: =(C233^4-(C233-2*D233)^4)*PI()*0.0001/64 -> 3.6046565 | J233: =I233/(C233*0.5*0.1) -> 2.139262 | K233: 2.99 | L233: =SQRT(I233/H233) -> 1.0842567
A234: =$B$225&" "&C234&"*"&D234 -> CIRC 33.7*4 | B234: =H234*0.785 -> 2.9297865 | C234: 33.7 | D234: 4 | H234: =(C234^2-(C234-2*D234)^2)*PI()*0.01/4 -> 3.7322121 | I234: =(C234^4-(C234-2*D234)^4)*PI()*0.0001/64 -> 4.1898279 | J234: =I234/(C234*0.5*0.1) -> 2.4865448 | K234: 3.55 | L234: =SQRT(I234/H234) -> 1.0595341
A235: =$B$225&" "&C235&"*"&D235 -> CIRC 42.4*2.6 | B235: =H235*0.785 -> 2.5519723 | C235: 42.4 | D235: 2.6 | H235: =(C235^2-(C235-2*D235)^2)*PI()*0.01/4 -> 3.2509201 | I235: =(C235^4-(C235-2*D235)^4)*PI()*0.0001/64 -> 6.4644546 | J235: =I235/(C235*0.5*0.1) -> 3.049271 | K235: 4.12 | L235: =SQRT(I235/H235) -> 1.4101418
A236: =$B$225&" "&C236&"*"&D236 -> CIRC 42.4*3.2 | B236: =H236*0.785 -> 3.0935389 | C236: 42.4 | D236: 3.2 | H236: =(C236^2-(C236-2*D236)^2)*PI()*0.01/4 -> 3.9408138 | I236: =(C236^4-(C236-2*D236)^4)*PI()*0.0001/64 -> 7.6199576 | J236: =I236/(C236*0.5*0.1) -> 3.5943196 | K236: 4.93 | L236: =SQRT(I236/H236) -> 1.3905395
A237: =$B$225&" "&C237&"*"&D237 -> CIRC 42.4*4 | B237: =H237*0.785 -> 3.7880068 | C237: 42.4 | D237: 4 | H237: =(C237^2-(C237-2*D237)^2)*PI()*0.01/4 -> 4.8254863 | I237: =(C237^4-(C237-2*D237)^4)*PI()*0.0001/64 -> 8.9908461 | J237: =I237/(C237*0.5*0.1) -> 4.2409651 | K237: 5.92 | L237: =SQRT(I237/H237) -> 1.3649908
... A439: =$B$225&" "&C439&"*"&D439 -> CIRC 1219*25 | B439: =H439*0.785 -> 736.14584 | C439: 1219 | D439: 25 | H439: =(C439^2-(C439-2*D439)^2)*PI()*0.01/4 -> 937.76541 | I439: =(C439^4-(C439-2*D439)^4)*PI()*0.0001/64 -> 1671872.8 | J439: =I439/(C439*0.5*0.1) -> 27430.234 | K439: 35646 | L439: =SQRT(I439/H439) -> 42.223527
