Workbook
Name Ac: [1]Corniere!$X$25
Name alpha: [1]Corniere!$N$39
Name Asb: [1]Corniere!$T$49
Name bc: #REF!
Name beta2: [1]Corniere!$U$101
Name beta3: [1]Corniere!$U$102
Name cdg: [1]Corniere!$AC$25
Name classe: [1]Corniere!$R$22
Name d0: [1]Corniere!$G$16
Name db: [1]Corniere!$Q$49
Name e0: #REF!
Name emini: #REF!
Name entraxe: [1]Corniere!$G$24
Name fub: [1]Corniere!$S$22
Name fuc: [1]Corniere!$U$26
Name fup: [1]Corniere!$U$27
Name fyb: #REF!
Name fyc: [1]Corniere!$S$26
Name fyp: [1]Corniere!$S$27
Name g0_: Data!$O$4
Name g1_: Data!$O$5
Name g2_: Data!$O$6
Name g3_: Data!$O$7
Name gamma0: [1]Corniere!$Q$7
Name gamma1: #REF!
Name gamma2: [1]Corniere!$Q$9
Name gamma3: [1]Corniere!$Q$10
Name gamma7: [1]Corniere!$Q$11
Name hc: #REF!
Name mu: [1]Corniere!#REF!
Name nb: [1]Corniere!$G$33
Name nc: [1]Corniere!$Q$28
Name Ned: [1]Corniere!$I$41
Name pas: #REF!
Name Prin_PRS: PRS!$B$2:$H$33
Name taux: [1]Corniere!$Q$18
Name tc: [1]Corniere!$T$25
Name tp: [1]Corniere!$J$15
Name trusq: [1]Corniere!$Y$25

Sheet Données d'Entrées
C3: Description de l'attache | I3: ?
C5: Type d'attache | I5: ?
C7: Schéma | AA7: Zoom
C30: Profils
C36: Connecteurs

Sheet NdC Détaillée

Sheet NdC Simplifiée

Sheet Informations
D3: Calcul des caractéristiques de PRS
D6: Avertissement :
D7: La présente feuille de calculs est fournie en l'état et ne peux engager la responsabilitée de son auteur. Son utilisation engage la seule responsabilité de son utilisateur. Il apartient à l'utilisateur de contrôler les résultats.
D10: La présente Feuille a été créée par | L10: http://coursconstructionacier.fr | S10: et est sous licence | W10: CreativeCommon
D11: Merci de me contacter à | J11: cours.constructionacier@gmail.com | R11: pour signaler toute erreur dans cette feuille.
D13: Objectifs :
D14: La présente feuille de calcul permet de calculer rapidement les caractéristiques mécaniques des PRS bi-symétriques et mono-symétriques de classes 1, 2 et 3 ainis que les PRS de classe équivalente 2 et les PRS de classe équivalente 3 par des méthodes simplifiées.
D18: Normes, Guides et Recommandations utilisées dans cette feuille :
D19: NF EN 1993-1-1 (Octobre 2005) : Calcul des structures en acier
E20: Partie 1-1 : règles générales et règles pour les bâtiments
D21: Europratic : Calcul suivant les Eurocodes d'un bâtiment simple en acier à l'usage des praticiens
E22: Anthony Rodier, éd.CTICM 2015
D24: Légende :
E26: Cases des données à renseigner (Saisie manuelle ou menu déroulant) :
E28: Cases comportant des Commentaires / Schémas descriptifs des paramètres à saisir : | X28: ?
E30: Cases contenant des Résultats :
D32: Onglets de la feuille de calcul :
E34: Feuilles Principales de l'Utilitaire
E35: Feuille 1 | I35: Feuille 2 | O35: Feuille 3 | T35: Feuille 4 | Y35: Feuille 5
E36: Informations | I36: Données d'Entrées | O36: NdC Détaillée | T36: NdC Simplifiée | Y36: PRS
E38: Feuilles de données à ne pas modifier !
E39: Feuille 6 | H39: Feuille 7 | K39: Feuille 8 | O39: Feuille 9 | S39: Feuille 10 | W39: Feuille 11
E40: Data | H40: Profilés | K40: Cornières | O40: Tubes_SHS | S40: Tubes_RHS | W40: Tubes_CHS
D42: Révisions :
D44: Version | G44: Date | J44: Modification / Correction
D45: V0.0 | G45: 01/11/2020 | J45: Première Version

Sheet PRS
B2: Outils de prédimensionnement
C3: Med-ELU | D3: 45000 | E3: daN*m | F3: On considère une charge uniformément répartie
C4: Med-ELS | D4: =D3/1.5 -> 30000 | E4: daN*m
C5: Nuance | D5: S355 | F5: Wmin-ELU | G5: =D3/P5 -> 1267.6056 | H5: cm3 | O5: Nuance Prédim | P5: =VLOOKUP(D5,Data!A3:C6,2) -> 35.5
C6: Poutre | D6: Art-Art
C7: Longueur | D7: 30 | E7: m | F7: Imin-ELU | G7: =IF(D6="Art-Art",(8*5*D3*D7^2)/(384*210*(D7/D8)),IF(D6="Enc-Enc",(12*D3*D7^2)/(384*210*(D7/D8)),(8*D3*D7^2)/(185*210*(D7/D8)))) -> 133928.57 | H7: cm4
C8: Flèche | D8: 200 | E8: ème | F8: Imin-ELS | G8: =IF(D6="Art-Art",(8*5*D4*D7^2)/(384*210*(D7/D8)),IF(D6="Enc-Enc",(12*D4*D7^2)/(384*210*(D7/D8)),(8*D4*D7^2)/(185*210*(D7/D8)))) -> 89285.714 | H8: cm4
B10: PRS 1 | C10: S355 | G10: ="PRS "&C16&" * "&C17&" - "&C13&" * "&C14&" - "&C10 -> PRS 580 * 6 - 300 * 15 - S355
F11: A | G11: =(C13*C14+C16*C17+C19*C20)*10^-2 -> 124.8 | H11: cm² | N11: Nuance PRS 1 | O11: =VLOOKUP(C10,Data!A3:C6,2) -> 35.5 | Q11: A1 | R11: =C13*C14 -> 4500 | S11: mm²
C12: Dimensions [mm] | N12: ε | O12: =SQRT(23.5/O11) -> 0.81361651 | Q12: Aw | R12: =C16*C17 -> 3480 | S12: mm²
B13: b1 | C13: 300 | F13: Masse linéaire | G13: =0.79*G11 -> 98.592 | H13: kg/m | Q13: Awz+ | R13: =C17*(C16+C20-D25) -> 1740 | S13: mm²
B14: Tf1 | C14: 15 | Q14: Awz- | R14: =C17*(D25-C20) -> 1740 | S14: mm²
F15: Iy | G15: =(((C13*C14^3+C17*C16^3+C19*C20^3)*10^-4)/12)+((C13*C14*(C16+C20-D25+(C14/2))^2)+(C19*C20*(D25-(C20/2))^2)+(C16*C17*(C20+(C16/2)-D25)^2))*10^-4 -> 89428.1 | H15: cm4 | O15: c/t | Q15: A2 | R15: =C19*C20 -> 4500 | S15: mm²
B16: Hw | C16: 580 | F16: Wely | G16: =MIN(G15/((C14+C16+C20-D25)*10^-1),G15/(D25*10^-1)) -> 2932.0689 | H16: cm3 | N16: b1 | O16: w | P16: b2
B17: Tw | C17: 6 | F17: Wply | G17: =((R11+R13)*R17+(R14+R15)*R18)*10^-3 -> 3182.1 | H17: cm3 | N17: =(C13-C17)/(2*C14) -> 9.8 | O17: =C16/C17 -> 96.666667 | P17: =(C19-C17)/(2*C20) -> 9.8 | Q17: CdGz+ | R17: =(R11*(C20+C16-D25+C14/2)+R13*(C20+C16-D25)/2)/(R11+R13) -> 254.97596 | S17: mm
F18: Avz | G18: =C16*C17*10^-2 -> 34.8 | H18: cm² | Q18: CdGz- | R18: =(R15*(D25-C20/2)+R14*(D25-C20)/2)/(R15+R14) -> 254.97596 | S18: mm
B19: b2 | C19: 300 | F19: iy | G19: =SQRT(G15/$G$11) -> 26.76885 | H19: cm | Q19: CdGy | R19: =((R11*C13/8)+(R12*C17/8)+(R15*C19/8))/((R11+R12+R15)/2) -> 54.504808 | S19: mm
B20: Tf2 | C20: 15 | F20: Am/V | G20: =((0.2*(C13+C16+C19+C14+C20-C17)/G11)*100) -> 192.94872 | H20: m-1
F21: [Am/V]b | G21: =((0.1*2*(C13+C16+C14+C20))/G11)*100 -> 145.83333 | H21: m-1 | Q21: Wely + | R21: =G15/((C14+C16+C20-D25)*10^-1) -> 2932.0689 | S21: cm3
Q22: Wely - | R22: =G15/(D25*10^-1) -> 2932.0689 | S22: cm3
D23: CdG | F23: Iz | G23: =((C14*C13^3+C16*C17^3+C20*C19^3)*10^-4)/12 -> 6751.044 | H23: cm4
C24: YG | D24: =MAX(C13,C19)/2 -> 150 | E24: mm | F24: Welz | G24: =G23/(D24*10^-1) -> 450.0696 | H24: cm3
C25: ZG | D25: =(C13*C14*(C20+C16+C14/2)+C16*C17*(C20+C16/2)+C19*C20*(C20/2))/(C13*C14+C16*C17+C19*C20) -> 305 | E25: mm | F25: Wplz | G25: =2*((R11/2+R12/2+R15/2)*R19)*10^-3 -> 680.22 | H25: cm3
F26: Avy | G26: =(C13*C14+C19*C20)*10^-2 -> 90 | H26: cm²
C27: Classe | D27: Compression | E27: Flexion | F27: iz | G27: =SQRT(G23/$G$11) -> 7.3549238 | H27: cm
C28: Ame | D28: =IF(O17<33*$O$12,1,IF(O17<38*$O$12,2,IF(O17<42*$O$12,3,4))) -> 4 | E28: =IF(O17<72*$O$12,1,IF(O17<83*$O$12,2,IF(O17<124*$O$12,3,4))) -> 3
C29: Semelle 1 | D29: =IF(N17<9*$O$12,1,IF(N17<10*$O$12,2,IF(N17<14*$O$12,3,4))) -> 3 | F29: It | G29: =(10^-4/3)*(((C13)*C14^3)+((C19)*C20^3)+(C16*C17^3)) -> 71.676 | H29: cm4
C30: Semelle 2 | D30: =IF(P17<9*$O$12,1,IF(P17<10*$O$12,2,IF(P17<14*$O$12,3,4))) -> 3 | F30: Iw | G30: =(10^-6/12)*((C14*C13^3*(C20+C16+(C14/2)-D25)^2)+(C20*C19^3*(D25-(C20/2))^2)) -> 5974171.9 | H30: cm6
B31: * Les soudures sont négligées pour les calculs d'inertie et de Classe
B32: * Les PRS utlisés pour les calculs d'attaches doivent être bi-symétriques
B35: PRS 2 | C35: S355 | G35: ="PRS "&C41&" * "&C42&" - "&C38&" * "&C39&" - "&C35 -> PRS 620 * 6 - 260 * 15 - S355 | J35: Section efficace de profil à âme de classe 3 et semelles de classe 1 ou 2 | K35: ="PRS éq,Cl2 "&C41&" * "&C42&" - "&C38&" * "&C39&" - "&C35 -> PRS éq,Cl2 620 * 6 - 260 * 15 - S355
F36: A | G36: =(C38*C39+C41*C42+C44*C45)*10^-2 -> 115.2 | H36: cm² | K36: A,eff | L36: =G36-O48*0.01 -> 108.31608 | M36: cm² | N36: Nuance PRS 2 | O36: =VLOOKUP(C35,Data!A3:C6,2) -> 35.5 | Q36: A1 | R36: =C38*C39 -> 3900 | S36: mm²
C37: Dimensions [mm] | K37: NF EN 1993-1-1 §5.5.2(11) et §6.2.2.4 | N37: ε | O37: =SQRT(23.5/O36) -> 0.81361651 | Q37: Aw | R37: =C41*C42 -> 3720 | S37: mm² | T37: Awz+,eff | U37: =R37-O48 -> 3031.6078 | V37: mm²
B38: b1 | C38: 260 | F38: Masse linéaire | G38: =0.79*G36 -> 91.008 | H38: kg/m | K38: =IF(AND(E53=3,D54<=2,D55<=2),"Applicable","Non Applicable") -> Non Applicable | Q38: Awz+ | R38: =C42*(C41+C45-D50) -> 1860 | S38: mm² | T38: Awz+,eff | U38: =C42*(C41+C45-D50)-O48 -> 1171.6078 | V38: mm²
B39: Tf1 | C39: 15 | Q39: Awz- | R39: =C42*(D50-C45) -> 1860 | S39: mm²
F40: Iy | G40: =(((C38*C39^3+C42*C41^3+C44*C45^3)*10^-4)/12)+((C38*C39*(C41+C45-D50+(C39/2))^2)+(C44*C45*(D50-(C45/2))^2)+(C41*C42*(C45+(C41/2)-D50)^2))*10^-4 -> 90559.9 | H40: cm4 | K40: Iy,eff | L40: =G40-O49 -> 88906.038 | M40: cm4 | O40: c/t | Q40: A2 | R40: =C44*C45 -> 3900 | S40: mm²
B41: Hw | C41: 620 | F41: Wely | G41: =MIN(G40/((C39+C41+C45-D50)*10^-1),G40/(D50*10^-1)) -> 2786.4585 | H41: cm3 | K41: Wely,eff | L41: =MIN(L40/((C39+C41+C45-D50)*10^-1),L40/(D50*10^-1)) -> 2735.5704 | M41: cm3 | N41: b1 | O41: w | P41: b2
B42: Tw | C42: 6 | F42: Wply | G42: =((R36+R38)*R42+(R39+R40)*R43)*10^-3 -> 3053.1 | H42: cm3 | K42: Wply,eff | L42: =((R36+U38)*R42+(R39+R40)*R43)*10^-3 -> 2870.6581 | M42: cm3 | N42: =(C38-C42)/(2*C39) -> 8.4666667 | O42: =C41/C42 -> 103.33333 | P42: =(C44-C42)/(2*C45) -> 8.4666667 | Q42: CdGz+ | R42: =(R36*(C45+C41-D50+C39/2)+R38*(C45+C41-D50)/2)/(R36+R38) -> 265.02604 | S42: mm
F43: Avz | G43: =C41*C42*10^-2 -> 37.2 | H43: cm² | K43: Avz,eff | L43: =G43-O48*10^-2 -> 30.316078 | M43: cm² | Q43: CdGz- | R43: =(R40*(D50-C45/2)+R39*(D50-C45)/2)/(R40+R39) -> 265.02604 | S43: mm
B44: b2 | C44: =C38 -> 260 | F44: iy | G44: =SQRT(G40/$G$36) -> 28.037658 | H44: cm | K44: iy,eff | L44: =SQRT(L40/$L$36) -> 28.64964 | M44: cm | Q44: CdGy | R44: =((R36*C38/8)+(R37*C42/8)+(R40*C44/8))/((R36+R37+R40)/2) -> 44.494792 | S44: mm
...

Sheet Data
A2: Nuance | B2: fy | C2: fu | D2: βw | F2: Øboulons | G2: Pas | H2: hnut | I2: A | J2: AS | K2: do | L2: dm | N2: Coefficients partiels | Q2: Fleche 1/
A3: S235 | B3: 23.5 | C3: 36 | D3: 0.8 | F3: 12 | G3: 1.75 | H3: =ROUND(0.8*F3,0) -> 10 | I3: =ROUND(PI()*F3^2/4,0) -> 113 | J3: =ROUND(I3*((F3-0.93815*G3)/F3)^2,0) -> 84 | K3: =F3+2 -> 14 | L3: 19.39 | N3: Acier | Q3: 100
A4: S275 | B4: 27.5 | C4: 43 | D4: 0.85 | F4: 14 | G4: 2 | H4: =ROUND(0.8*F4,0) -> 11 | I4: =ROUND(PI()*F4^2/4,0) -> 154 | J4: =ROUND(I4*((F4-0.93815*G4)/F4)^2,0) -> 115 | K4: =F4+2 -> 16 | L4: 22.63 | N4: γ0 | O4: 1 | Q4: 150
A5: S355 | B5: 35.5 | C5: 49 | D5: 0.9 | F5: 16 | G5: 2 | H5: =ROUND(0.8*F5,0) -> 13 | I5: =ROUND(PI()*F5^2/4,0) -> 201 | J5: =ROUND(I5*((F5-0.93815*G5)/F5)^2,0) -> 157 | K5: =F5+2 -> 18 | L5: 25.86 | N5: γ1 | O5: 1 | Q5: 200
A6: S460 | B6: 46 | C6: 55 | D6: 1 | F6: 18 | G6: 2.5 | H6: =ROUND(0.8*F6,0) -> 14 | I6: =ROUND(PI()*F6^2/4,0) -> 254 | J6: =ROUND(I6*((F6-0.93815*G6)/F6)^2,0) -> 192 | K6: =F6+2 -> 20 | L6: 29.09 | N6: γ2 | O6: 1.25 | Q6: 250
F7: 20 | G7: 2.5 | H7: =ROUND(0.8*F7,0) -> 16 | I7: =ROUND(PI()*F7^2/4,0) -> 314 | J7: =ROUND(I7*((F7-0.93815*G7)/F7)^2,0) -> 245 | K7: =F7+2 -> 22 | L7: 32.32 | N7: γ3 | O7: 1.1 | Q7: 300
A8: Classes | B8: fy | C8: fu | D8: αv | F8: 22 | G8: 2.5 | H8: =ROUND(0.8*F8,0) -> 18 | I8: =ROUND(PI()*F8^2/4,0) -> 380 | J8: =ROUND(I8*((F8-0.93815*G8)/F8)^2,0) -> 303 | K8: =F8+2 -> 24 | L8: 36.63 | N8: γ4 | Q8: 350
A9: 4.6 | B9: 24 | C9: 40 | D9: 0.6 | F9: 24 | G9: 3 | H9: =ROUND(0.8*F9,0) -> 19 | I9: =ROUND(PI()*F9^2/4,0) -> 452 | J9: =ROUND(I9*((F9-0.93815*G9)/F9)^2,0) -> 352 | K9: =F9+2 -> 26 | L9: 38.76 | N9: γ5 | Q9: 400
A10: 4.8 | B10: 32 | C10: 40 | D10: 0.5 | F10: 27 | G10: 3 | H10: =ROUND(0.8*F10,0) -> 22 | I10: =ROUND(PI()*F10^2/4,0) -> 573 | J10: =ROUND(I10*((F10-0.93815*G10)/F10)^2,0) -> 460 | K10: =F10+3 -> 30 | L10: 44.17 | N10: γ6 | Q10: 450
A11: 5.6 | B11: 30 | C11: 50 | D11: 0.6 | F11: 30 | G11: 3.5 | H11: =ROUND(0.8*F11,0) -> 24 | I11: =ROUND(PI()*F11^2/4,0) -> 707 | J11: =ROUND(I11*((F11-0.93815*G11)/F11)^2,0) -> 561 | K11: =F11+3 -> 33 | L11: 49.56 | N11: Béton | Q11: 500
A12: 5.8 | B12: 40 | C12: 50 | D12: 0.5 | F12: 36 | G12: 4 | H12: =ROUND(0.8*F12,0) -> 29 | I12: =ROUND(PI()*F12^2/4,0) -> 1018 | J12: =ROUND(I12*((F12-0.93815*G12)/F12)^2,0) -> 817 | K12: =F12+3 -> 39 | L12: 59.27 | N12: γc | O12: 1.5 | Q12: 550
A13: 6.6 | B13: 36 | C13: 60 | D13: 0.6 | F13: 42 | G13: 4.5 | H13: =ROUND(0.8*F13,0) -> 34 | I13: =ROUND(PI()*F13^2/4,0) -> 1385 | J13: =ROUND(I13*((F13-0.93815*G13)/F13)^2,0) -> 1121 | K13: =F13+3 -> 45 | L13: 70 | N13: kf | O13: 1.1 | Q13: 600
A14: 6.8 | B14: 48 | C14: 60 | D14: 0.5 | F14: 48 | G14: 5 | H14: =ROUND(0.8*F14,0) -> 38 | I14: =ROUND(PI()*F14^2/4,0) -> 1810 | J14: =ROUND(I14*((F14-0.93815*G14)/F14)^2,0) -> 1474 | K14: =F14+3 -> 51 | L14: 80.88 | Q14: 650
A15: 6.9 | B15: 54 | C15: 60 | D15: 0.5 | F15: 56 | G15: 5.5 | H15: =ROUND(0.8*F15,0) -> 45 | I15: =ROUND(PI()*F15^2/4,0) -> 2463 | J15: =ROUND(I15*((F15-0.93815*G15)/F15)^2,0) -> 2030 | K15: =F15+3 -> 59 | L15: 91.66 | N15: Goujon Nelson | Q15: 700
A16: 8.8 | B16: 64 | C16: 80 | D16: 0.6 | F16: 64 | G16: 6 | H16: =ROUND(0.8*F16,0) -> 51 | I16: =ROUND(PI()*F16^2/4,0) -> 3217 | J16: =ROUND(I16*((F16-0.93815*G16)/F16)^2,0) -> 2676 | K16: =F16+3 -> 67 | L16: 102.44 | N16: 16 | Q16: 750
A17: 10.9 | B17: 90 | C17: 100 | D17: 0.5 | N17: 19 | Q17: 800
A18: S235 | B18: 23.5 | C18: 36 | D18: 0.5 | F18: Poutres | H18: Oui | J18: Filetée | N18: 22 | Q18: 850
A19: S275 | B19: 27.5 | C19: 43 | D19: 0.5 | F19: Art-Art | H19: Non | J19: Non filetée | N19: 25 | Q19: 900
A20: S355 | B20: 35.5 | C20: 49 | D20: 0.5 | F20: Art-Enc | Q20: 950
A21: S460 | B21: 46 | C21: 55 | D21: 0.5 | F21: Enc-Enc | Q21: 1000
A23: Béton | B23: fck | C23: fck,cube | D23: fcm | E23: fctm | F23: fctk,0.05 | G23: fctk,0.95 | H23: Ecm
B24: [daN/mm²] | C24: [daN/mm²] | D24: [daN/mm²] | E24: [daN/mm²] | F24: [daN/mm²] | G24: [daN/mm²] | H24: [GPa]
A25: C 16/20 | B25: 1.6 | C25: 2 | D25: =B25+0.8 -> 2.4 | E25: =0.3*B25^0.67 -> 0.41103769 | F25: =0.7*E25 -> 0.28772638 | G25: =1.3*E25 -> 0.53434899 | H25: =22*D25^0.3 -> 28.607905
A26: C 20/25 | B26: 2 | C26: 2.5 | D26: =B26+0.8 -> 2.8 | E26: =0.3*B26^0.67 -> 0.47732189 | F26: =0.7*E26 -> 0.33412532 | G26: =1.3*E26 -> 0.62051846 | H26: =22*D26^0.3 -> 29.961951
A27: C 25/30 | B27: 2.5 | C27: 3 | D27: =B27+0.8 -> 3.3 | E27: =0.3*B27^0.67 -> 0.55429513 | F27: =0.7*E27 -> 0.38800659 | G27: =1.3*E27 -> 0.72058367 | H27: =22*D27^0.3 -> 31.475806
A28: C 30/37 | B28: 3 | C28: 3.7 | D28: =B28+0.8 -> 3.8 | E28: =0.3*B28^0.67 -> 0.62631454 | F28: =0.7*E28 -> 0.43842018 | G28: =1.3*E28 -> 0.8142089 | H28: =22*D28^0.3 -> 32.836568
A29: C 35/45 | B29: 3.5 | C29: 4.5 | D29: =B29+0.8 -> 4.3 | E29: =0.3*B29^0.67 -> 0.69445937 | F29: =0.7*E29 -> 0.48612156 | G29: =1.3*E29 -> 0.90279719 | H29: =22*D29^0.3 -> 34.077146
A30: C 40/50 | B30: 4 | C30: 5 | D30: =B30+0.8 -> 4.8 | E30: =0.3*B30^0.67 -> 0.75945396 | F30: =0.7*E30 -> 0.53161777 | G30: =1.3*E30 -> 0.98729014 | H30: =22*D30^0.3 -> 35.220462
A31: C 45/55 | B31: 4.5 | C31: 5.5 | D31: =B31+0.8 -> 5.3 | E31: =0.3*B31^0.67 -> 0.8218142 | F31: =0.7*E31 -> 0.57526994 | G31: =1.3*E31 -> 1.0683585 | H31: =22*D31^0.3 -> 36.283188
A32: C 50/60 | B32: 5 | C32: 6 | D32: =B32+0.8 -> 5.8 | E32: =2.12*LN(1+0.1*D32) -> 0.96974068 | F32: =0.7*E32 -> 0.67881847 | G32: =1.3*E32 -> 1.2606629 | H32: =22*D32^0.3 -> 37.277869
A33: C 55/67 | B33: 5.5 | C33: 6.7 | D33: =B33+0.8 -> 6.3 | E33: =2.12*LN(1+0.1*D33) -> 1.0357896 | F33: =0.7*E33 -> 0.72505274 | G33: =1.3*E33 -> 1.3465265 | H33: =22*D33^0.3 -> 38.214206
A34: C 60/75 | B34: 6 | C34: 7.5 | D34: =B34+0.8 -> 6.8 | E34: =2.12*LN(1+0.1*D34) -> 1.0998428 | F34: =0.7*E34 -> 0.76988999 | G34: =1.3*E34 -> 1.4297957 | H34: =22*D34^0.3 -> 39.099874
A35: C 70/85 | B35: 7 | C35: 8.5 | D35: =B35+0.8 -> 7.8 | E35: =2.12*LN(1+0.1*D35) -> 1.2224203 | F35: =0.7*E35 -> 0.85569423 | G35: =1.3*E35 -> 1.5891464 | H35: =22*D35^0.3 -> 40.742818

Sheet Profilés
A1: Type de profilé | B1: Masse | C1: Dimensions | H1: Aire | I1: Inertie | J1: Modules de flexion | L1: Rayon de giration | M1: Aire de cisaillement | N1: Inertie | O1: Modules de flexion | Q1: Rayon de giration | R1: Aire de cisaillement | S1: Inertie de Torsion | T1: Inertie de Gauchissement
B2: G (kg/ml) | C2: h (mm) | D2: b (mm) | E2: tw (mm) | F2: tf (mm) | G2: r (mm) | H2: A (cm2) | I2: Iy (cm4) | J2: Wely (cm3) | K2: Wply (cm3) | L2: iy (cm) | M2: Ayz (cm2) | N2: Iz (cm4) | O2: Welz (cm3) | P2: Wplz (cm3) | Q2: iz (cm) | R2: Azy (cm2) | S2: It (cm4) | T2: Ix (cm6)
B3: IPE
A4: IPE 80 | B4: 6 | C4: 80 | D4: 46 | E4: 3.8 | F4: 5.2 | G4: 5 | H4: 7.64 | I4: 80.14 | J4: 20.03 | K4: 23.22 | L4: 3.24 | M4: 3.58 | N4: 8.48 | O4: 3.69 | P4: 5.82 | Q4: 1.05 | R4: 4.784 | S4: =(0.67*(D4-0.63*F4)*F4^3+0.33*(C4-2*F4)*E4^3+2*(E4/F4)*(0.145+0.1*G4/F4)*(((G4+0.5*E4)^2+(G4+F4)^2-G4^2)/(2*G4+F4))^4)/10000 -> 0.6984049 | T4: =(F4*D4^3*(C4-F4)^2)/24000000 -> 117.99641
A5: IPE 100 | B5: 8.1 | C5: 100 | D5: 55 | E5: 4.1 | F5: 5.7 | G5: 7 | H5: 10.3 | I5: 171 | J5: 34.2 | K5: 39.41 | L5: 4.07 | M5: 5.08 | N5: 15.92 | O5: 5.79 | P5: 9.15 | Q5: 1.24 | R5: 6.27 | S5: =(0.67*(D5-0.63*F5)*F5^3+0.33*(C5-2*F5)*E5^3+2*(E5/F5)*(0.145+0.1*G5/F5)*(((G5+0.5*E5)^2+(G5+F5)^2-G5^2)/(2*G5+F5))^4)/10000 -> 1.2031597 | T5: =(F5*D5^3*(C5-F5)^2)/24000000 -> 351.37841
A6: IPE 120 | B6: 10.4 | C6: 120 | D6: 64 | E6: 4.4 | F6: 6.3 | G6: 7 | H6: 13.2 | I6: 317.8 | J6: 52.96 | K6: 60.73 | L6: 4.9 | M6: 6.31 | N6: 27.67 | O6: 8.65 | P6: 13.58 | Q6: 1.45 | R6: 8.064 | S6: =(0.67*(D6-0.63*F6)*F6^3+0.33*(C6-2*F6)*E6^3+2*(E6/F6)*(0.145+0.1*G6/F6)*(((G6+0.5*E6)^2+(G6+F6)^2-G6^2)/(2*G6+F6))^4)/10000 -> 1.7374184 | T6: =(F6*D6^3*(C6-F6)^2)/24000000 -> 889.59055
A7: IPE 140 | B7: 12.9 | C7: 140 | D7: 73 | E7: 4.7 | F7: 6.9 | G7: 7 | H7: 16.4 | I7: 541.2 | J7: 77.32 | K7: 88.34 | L7: 5.74 | M7: 7.64 | N7: 44.92 | O7: 12.31 | P7: 19.25 | Q7: 1.65 | R7: 10.074 | S7: =(0.67*(D7-0.63*F7)*F7^3+0.33*(C7-2*F7)*E7^3+2*(E7/F7)*(0.145+0.1*G7/F7)*(((G7+0.5*E7)^2+(G7+F7)^2-G7^2)/(2*G7+F7))^4)/10000 -> 2.4499872 | T7: =(F7*D7^3*(C7-F7)^2)/24000000 -> 1981.3561
A8: IPE 160 | B8: 15.8 | C8: 160 | D8: 82 | E8: 5 | F8: 7.4 | G8: 9 | H8: 20.1 | I8: 869.3 | J8: 108.7 | K8: 123.9 | L8: 6.58 | M8: 9.66 | N8: 68.31 | O8: 16.66 | P8: 26.1 | Q8: 1.84 | R8: 12.136 | S8: =(0.67*(D8-0.63*F8)*F8^3+0.33*(C8-2*F8)*E8^3+2*(E8/F8)*(0.145+0.1*G8/F8)*(((G8+0.5*E8)^2+(G8+F8)^2-G8^2)/(2*G8+F8))^4)/10000 -> 3.6087338 | T8: =(F8*D8^3*(C8-F8)^2)/24000000 -> 3958.8687
A9: IPE 180 | B9: 18.8 | C9: 180 | D9: 91 | E9: 5.3 | F9: 8 | G9: 9 | H9: 23.9 | I9: 1317 | J9: 146.3 | K9: 166.4 | L9: 7.42 | M9: 11.25 | N9: 100.9 | O9: 22.16 | P9: 34.6 | Q9: 2.05 | R9: 14.56 | S9: =(0.67*(D9-0.63*F9)*F9^3+0.33*(C9-2*F9)*E9^3+2*(E9/F9)*(0.145+0.1*G9/F9)*(((G9+0.5*E9)^2+(G9+F9)^2-G9^2)/(2*G9+F9))^4)/10000 -> 4.7966474 | T9: =(F9*D9^3*(C9-F9)^2)/24000000 -> 7431.2148
A10: IPE 200 | B10: 22.4 | C10: 200 | D10: 100 | E10: 5.6 | F10: 8.5 | G10: 12 | H10: 28.5 | I10: 1943 | J10: 194.3 | K10: 220.6 | L10: 8.26 | M10: 14 | N10: 142.4 | O10: 28.47 | P10: 44.61 | Q10: 2.24 | R10: 17 | S10: =(0.67*(D10-0.63*F10)*F10^3+0.33*(C10-2*F10)*E10^3+2*(E10/F10)*(0.145+0.1*G10/F10)*(((G10+0.5*E10)^2+(G10+F10)^2-G10^2)/(2*G10+F10))^4)/10000 -> 6.9887822 | T10: =(F10*D10^3*(C10-F10)^2)/24000000 -> 12988.089
A11: IPE 220 | B11: 26.2 | C11: 220 | D11: 110 | E11: 5.9 | F11: 9.2 | G11: 12 | H11: 33.4 | I11: 2772 | J11: 252 | K11: 285.4 | L11: 9.11 | M11: 15.88 | N11: 204.9 | O11: 37.25 | P11: 58.11 | Q11: 2.48 | R11: 20.24 | S11: =(0.67*(D11-0.63*F11)*F11^3+0.33*(C11-2*F11)*E11^3+2*(E11/F11)*(0.145+0.1*G11/F11)*(((G11+0.5*E11)^2+(G11+F11)^2-G11^2)/(2*G11+F11))^4)/10000 -> 9.079003 | T11: =(F11*D11^3*(C11-F11)^2)/24000000 -> 22672.314
A12: IPE 240 | B12: 30.7 | C12: 240 | D12: 120 | E12: 6.2 | F12: 9.8 | G12: 15 | H12: 39.12 | I12: 3892 | J12: 324.3 | K12: 366.6 | L12: 9.97 | M12: 19.14 | N12: 283.6 | O12: 47.27 | P12: 73.92 | Q12: 2.69 | R12: 23.52 | S12: =(0.67*(D12-0.63*F12)*F12^3+0.33*(C12-2*F12)*E12^3+2*(E12/F12)*(0.145+0.1*G12/F12)*(((G12+0.5*E12)^2+(G12+F12)^2-G12^2)/(2*G12+F12))^4)/10000 -> 12.898014 | T12: =(F12*D12^3*(C12-F12)^2)/24000000 -> 37391.183
A13: IPE 270 | B13: 36.1 | C13: 270 | D13: 135 | E13: 6.6 | F13: 10.2 | G13: 15 | H13: 45.94 | I13: 5790 | J13: 428.9 | K13: 484 | L13: 11.23 | M13: 22.14 | N13: 419.9 | O13: 62.2 | P13: 96.95 | Q13: 3.02 | R13: 27.54 | S13: =(0.67*(D13-0.63*F13)*F13^3+0.33*(C13-2*F13)*E13^3+2*(E13/F13)*(0.145+0.1*G13/F13)*(((G13+0.5*E13)^2+(G13+F13)^2-G13^2)/(2*G13+F13))^4)/10000 -> 15.966359 | T13: =(F13*D13^3*(C13-F13)^2)/24000000 -> 70577.867
A14: IPE 300 | B14: 42.2 | C14: 300 | D14: 150 | E14: 7.1 | F14: 10.7 | G14: 15 | H14: 53.81 | I14: 8356 | J14: 557.1 | K14: 628.4 | L14: 12.46 | M14: 25.68 | N14: 603.8 | O14: 80.5 | P14: 125.2 | Q14: 3.35 | R14: 32.1 | S14: =(0.67*(D14-0.63*F14)*F14^3+0.33*(C14-2*F14)*E14^3+2*(E14/F14)*(0.145+0.1*G14/F14)*(((G14+0.5*E14)^2+(G14+F14)^2-G14^2)/(2*G14+F14))^4)/10000 -> 20.143757 | T14: =(F14*D14^3*(C14-F14)^2)/24000000 -> 125934.05
A15: IPE 330 | B15: 49.1 | C15: 330 | D15: 160 | E15: 7.5 | F15: 11.5 | G15: 18 | H15: 62.61 | I15: 11770 | J15: 713.1 | K15: 804.3 | L15: 13.71 | M15: 30.81 | N15: 788.1 | O15: 98.52 | P15: 153.7 | Q15: 3.55 | R15: 36.8 | S15: =(0.67*(D15-0.63*F15)*F15^3+0.33*(C15-2*F15)*E15^3+2*(E15/F15)*(0.145+0.1*G15/F15)*(((G15+0.5*E15)^2+(G15+F15)^2-G15^2)/(2*G15+F15))^4)/10000 -> 28.179559 | T15: =(F15*D15^3*(C15-F15)^2)/24000000 -> 199097.32
... A21: IPE 600 | B21: 122 | C21: 600 | D21: 220 | E21: 12 | F21: 19 | G21: 24 | H21: 156 | I21: 92080 | J21: 3069 | K21: 3512 | L21: 24.3 | M21: 83.78 | N21: 3387 | O21: 307.9 | P21: 485.6 | Q21: 4.66 | R21: 83.6 | S21: =(0.67*(D21-0.63*F21)*F21^3+0.33*(C21-2*F21)*E21^3+2*(E21/F21)*(0.145+0.1*G21/F21)*(((G21+0.5*E21)^2+(G21+F21)^2-G21^2)/(2*G21+F21))^4)/10000 -> 165.56865 | T21: =(F21*D21^3*(C21-F21)^2)/24000000 -> 2845526.7
B22: IPE-A
A23: IPE-A 80 | B23: =7.85*H23*0.1 -> 5.0046904 | C23: 78 | D23: 46 | E23: 3.3 | F23: 4.2 | G23: 5 | H23: =((C23-2*F23)*E23+2*D23*F23+(2*G23)^2-PI()*G23^2)*0.01 -> 6.3754018 | I23: =0.0001*(C23^3*E23/12+(D23-F23)*F23*(C23-F23)^2/2+F23^3*(D23-E23)/6+G23^2*(4-PI())*(0.5*C23-F23-G23*(1-2/(12-3*PI())))^2+4*G23^4*(1/3-PI()/16-1/(9*(4-PI())))) -> 63.348419 | J23: =I23/(C23*0.5*0.1) -> 16.243184 | K23: =((E23*C23^2)/4+(D23-E23)*(C23-F23)*F23+((C23-2*F23)*(4-PI())*G23^2/2)+((3*PI()-10)*3)/3)*0.001 -> 19.000831 | L23: =SQRT(I23/H23) -> 3.1522025 | M23: =H23-(2*D23*F23-(E23+2*G23)*F23)*0.01 -> 3.0700018 | N23: =0.0001*(C23*E23^3/12+(D23-F23)*F23*(D23+F23)^2/8+F23*(D23-E23)^3/24+G23^2*(4-PI())*(0.5*E23-G23*(1-2/(12-3*PI())))^2+4*G23^4*(1/3-PI()/16-1/(9*(4-PI())))) -> 6.9185366 | O23: =N23/(D23*0.5*0.1) -> 3.0080594 | P23: =0.001*(D23^2*F23/2+((C23-2*F23)*E23^2)/4+G23^3*(10/3-PI())+(2-PI()/2)*E23*G23^2) -> 4.6924629 | Q23: =SQRT(N23/H23) -> 1.0417256 | R23: =0.01*2*D23*E23 -> 3.036 | S23: =(0.67*(D23-0.63*F23)*F23^3+0.33*(C23-2*F23)*E23^3+2*(E23/F23)*(0.145+0.1*G23/F23)*(((G23+0.5*E23)^2+(G23+F23)^2-G23^2)/(2*G23+F23))^4)/10000 -> 0.41650168 | T23: =(F23*D23^3*(C23-F23)^2)/24000000 -> 92.77357
A24: IPE-A 100 | B24: =7.85*H24*0.1 -> 6.8924724 | C24: 98 | D24: 55 | E24: 3.6 | F24: 4.7 | G24: 7 | H24: =((C24-2*F24)*E24+2*D24*F24+(2*G24)^2-PI()*G24^2)*0.01 -> 8.7802196 | I24: =0.0001*(C24^3*E24/12+(D24-F24)*F24*(C24-F24)^2/2+F24^3*(D24-E24)/6+G24^2*(4-PI())*(0.5*C24-F24-G24*(1-2/(12-3*PI())))^2+4*G24^4*(1/3-PI()/16-1/(9*(4-PI())))) -> 138.9103 | J24: =I24/(C24*0.5*0.1) -> 28.349042 | K24: =((E24*C24^2)/4+(D24-E24)*(C24-F24)*F24+((C24-2*F24)*(4-PI())*G24^2/2)+((3*PI()-10)*3)/3)*0.001 -> 33.045784 | L24: =SQRT(I24/H24) -> 3.9775399 | M24: =H24-(2*D24*F24-(E24+2*G24)*F24)*0.01 -> 4.4374196 | N24: =0.0001*(C24*E24^3/12+(D24-F24)*F24*(D24+F24)^2/8+F24*(D24-E24)^3/24+G24^2*(4-PI())*(0.5*E24-G24*(1-2/(12-3*PI())))^2+4*G24^4*(1/3-PI()/16-1/(9*(4-PI())))) -> 13.237268 | O24: =N24/(D24*0.5*0.1) -> 4.8135521 | P24: =0.001*(D24^2*F24/2+((C24-2*F24)*E24^2)/4+G24^3*(10/3-PI())+(2-PI()/2)*E24*G24^2) -> 7.5372926 | Q24: =SQRT(N24/H24) -> 1.2278533 | R24: =0.01*2*D24*E24 -> 3.96 | S24: =(0.67*(D24-0.63*F24)*F24^3+0.33*(C24-2*F24)*E24^3+2*(E24/F24)*(0.145+0.1*G24/F24)*(((G24+0.5*E24)^2+(G24+F24)^2-G24^2)/(2*G24+F24))^4)/10000 -> 0.77352707 | T24: =(F24*D24^3*(C24-F24)^2)/24000000 -> 283.62073
A25: IPE-A 120 | B25: =7.85*H25*0.1 -> 8.6584084 | C25: 117.6 | D25: 64 | E25: 3.8 | F25: 5.1 | G25: 7 | H25: =((C25-2*F25)*E25+2*D25*F25+(2*G25)^2-PI()*G25^2)*0.01 -> 11.02982 | I25: =0.0001*(C25^3*E25/12+(D25-F25)*F25*(C25-F25)^2/2+F25^3*(D25-E25)/6+G25^2*(4-PI())*(0.5*C25-F25-G25*(1-2/(12-3*PI())))^2+4*G25^4*(1/3-PI()/16-1/(9*(4-PI())))) -> 253.16622 | J25: =I25/(C25*0.5*0.1) -> 43.05548 | K25: =((E25*C25^2)/4+(D25-E25)*(C25-F25)*F25+((C25-2*F25)*(4-PI())*G25^2/2)+((3*PI()-10)*3)/3)*0.001 -> 49.936174 | L25: =SQRT(I25/H25) -> 4.7909173 | M25: =H25-(2*D25*F25-(E25+2*G25)*F25)*0.01 -> 5.4096196 | N25: =0.0001*(C25*E25^3/12+(D25-F25)*F25*(D25+F25)^2/8+F25*(D25-E25)^3/24+G25^2*(4-PI())*(0.5*E25-G25*(1-2/(12-3*PI())))^2+4*G25^4*(1/3-PI()/16-1/(9*(4-PI())))) -> 22.626365 | O25: =N25/(D25*0.5*0.1) -> 7.070739 | P25: =0.001*(D25^2*F25/2+((C25-2*F25)*E25^2)/4+G25^3*(10/3-PI())+(2-PI()/2)*E25*G25^2) -> 10.978199 | Q25: =SQRT(N25/H25) -> 1.4322644 | R25: =0.01*2*D25*E25 -> 4.864 | S25: =(0.67*(D25-0.63*F25)*F25^3+0.33*(C25-2*F25)*E25^3+2*(E25/F25)*(0.145+0.1*G25/F25)*(((G25+0.5*E25)^2+(G25+F25)^2-G25^2)/(2*G25+F25))^4)/10000 -> 1.0422755 | T25: =(F25*D25^3*(C25-F25)^2)/24000000 -> 705.024
A26: IPE-A 140 | B26: =7.85*H26*0.1 -> 10.512892 | C26: 137.4 | D26: 73 | E26: 3.8 | F26: 5.6 | G26: 7 | H26: =((C26-2*F26)*E26+2*D26*F26+(2*G26)^2-PI()*G26^2)*0.01 -> 13.39222 | I26: =0.0001*(C26^3*E26/12+(D26-F26)*F26*(C26-F26)^2/2+F26^3*(D26-E26)/6+G26^2*(4-PI())*(0.5*C26-F26-G26*(1-2/(12-3*PI())))^2+4*G26^4*(1/3-PI()/16-1/(9*(4-PI())))) -> 426.10905 | J26: =I26/(C26*0.5*0.1) -> 62.024607 | K26: =((E26*C26^2)/4+(D26-E26)*(C26-F26)*F26+((C26-2*F26)*(4-PI())*G26^2/2)+((3*PI()-10)*3)/3)*0.001 -> 71.663492 | L26: =SQRT(I26/H26) -> 5.6407142 | M26: =H26-(2*D26*F26-(E26+2*G26)*F26)*0.01 -> 6.2130196 | N26: =0.0001*(C26*E26^3/12+(D26-F26)*F26*(D26+F26)^2/8+F26*(D26-E26)^3/24+G26^2*(4-PI())*(0.5*E26-G26*(1-2/(12-3*PI())))^2+4*G26^4*(1/3-PI()/16-1/(9*(4-PI())))) -> 36.950223 | O26: =N26/(D26*0.5*0.1) -> 10.123349 | P26: =0.001*(D26^2*F26/2+((C26-2*F26)*E26^2)/4+G26^3*(10/3-PI())+(2-PI()/2)*E26*G26^2) -> 15.522467 | Q26: =SQRT(N26/H26) -> 1.6610483 | R26: =0.01*2*D26*E26 -> 5.548 | S26: =(0.67*(D26-0.63*F26)*F26^3+0.33*(C26-2*F26)*E26^3+2*(E26/F26)*(0.145+0.1*G26/F26)*(((G26+0.5*E26)^2+(G26+F26)^2-G26^2)/(2*G26+F26))^4)/10000 -> 1.362565 | T26: =(F26*D26^3*(C26-F26)^2)/24000000 -> 1576.7985
A27: IPE-A 160 | B27: =7.85*H27*0.1 -> 12.700758 | C27: 157 | D27: 82 | E27: 4 | F27: 5.9 | G27: 9 | H27: =((C27-2*F27)*E27+2*D27*F27+(2*G27)^2-PI()*G27^2)*0.01 -> 16.17931 | I27: =0.0001*(C27^3*E27/12+(D27-F27)*F27*(C27-F27)^2/2+F27^3*(D27-E27)/6+G27^2*(4-PI())*(0.5*C27-F27-G27*(1-2/(12-3*PI())))^2+4*G27^4*(1/3-PI()/16-1/(9*(4-PI())))) -> 676.4791 | J27: =I27/(C27*0.5*0.1) -> 86.175682 | K27: =((E27*C27^2)/4+(D27-E27)*(C27-F27)*F27+((C27-2*F27)*(4-PI())*G27^2/2)+((3*PI()-10)*3)/3)*0.001 -> 99.232595 | L27: =SQRT(I27/H27) -> 6.4661712 | M27: =H27-(2*D27*F27-(E27+2*G27)*F27)*0.01 -> 7.80131 | N27: =0.0001*(C27*E27^3/12+(D27-F27)*F27*(D27+F27)^2/8+F27*(D27-E27)^3/24+G27^2*(4-PI())*(0.5*E27-G27*(1-2/(12-3*PI())))^2+4*G27^4*(1/3-PI()/16-1/(9*(4-PI())))) -> 55.133116 | O27: =N27/(D27*0.5*0.1) -> 13.447101 | P27: =0.001*(D27^2*F27/2+((C27-2*F27)*E27^2)/4+G27^3*(10/3-PI())+(2-PI()/2)*E27*G27^2) -> 20.695441 | Q27: =SQRT(N27/H27) -> 1.8459769 | R27: =0.01*2*D27*E27 -> 6.56 | S27: =(0.67*(D27-0.63*F27)*F27^3+0.33*(C27-2*F27)*E27^3+2*(E27/F27)*(0.145+0.1*G27/F27)*(((G27+0.5*E27)^2+(G27+F27)^2-G27^2)/(2*G27+F27))^4)/10000 -> 1.9665963 | T27: =(F27*D27^3*(C27-F27)^2)/24000000 -> 3094.648
A28: IPE-A 180 | B28: =7.85*H28*0.1 -> 15.368188 | C28: 177 | D28: 91 | E28: 4.3 | F28: 6.5 | G28: 9 | H28: =((C28-2*F28)*E28+2*D28*F28+(2*G28)^2-PI()*G28^2)*0.01 -> 19.57731 | I28: =0.0001*(C28^3*E28/12+(D28-F28)*F28*(C28-F28)^2/2+F28^3*(D28-E28)/6+G28^2*(4-PI())*(0.5*C28-F28-G28*(1-2/(12-3*PI())))^2+4*G28^4*(1/3-PI()/16-1/(9*(4-PI())))) -> 1041.9509 | J28: =I28/(C28*0.5*0.1) -> 117.73457 | K28: =((E28*C28^2)/4+(D28-E28)*(C28-F28)*F28+((C28-2*F28)*(4-PI())*G28^2/2)+((3*PI()-10)*3)/3)*0.001 -> 135.46492 | L28: =SQRT(I28/H28) -> 7.2953667 | M28: =H28-(2*D28*F28-(E28+2*G28)*F28)*0.01 -> 9.19681 | N28: =0.0001*(C28*E28^3/12+(D28-F28)*F28*(D28+F28)^2/8+F28*(D28-E28)^3/24+G28^2*(4-PI())*(0.5*E28-G28*(1-2/(12-3*PI())))^2+4*G28^4*(1/3-PI()/16-1/(9*(4-PI())))) -> 83.054155 | O28: =N28/(D28*0.5*0.1) -> 18.25366 | P28: =0.001*(D28^2*F28/2+((C28-2*F28)*E28^2)/4+G28^3*(10/3-PI())+(2-PI()/2)*E28*G28^2) -> 27.960611 | Q28: =SQRT(N28/H28) -> 2.059701 | R28: =0.01*2*D28*E28 -> 7.826 | S28: =(0.67*(D28-0.63*F28)*F28^3+0.33*(C28-2*F28)*E28^3+2*(E28/F28)*(0.145+0.1*G28/F28)*(((G28+0.5*E28)^2+(G28+F28)^2-G28^2)/(2*G28+F28))^4)/10000 -> 2.7024202 | T28: =(F28*D28^3*(C28-F28)^2)/24000000 -> 5933.0097
A29: IPE-A 200 | B29: =7.85*H29*0.1 -> 18.424819 | C29: 197 | D29: 100 | E29: 4.5 | F29: 7 | G29: 12 | H29: =((C29-2*F29)*E29+2*D29*F29+(2*G29)^2-PI()*G29^2)*0.01 -> 23.471107 | I29: =0.0001*(C29^3*E29/12+(D29-F29)*F29*(C29-F29)^2/2+F29^3*(D29-E29)/6+G29^2*(4-PI())*(0.5*C29-F29-G29*(1-2/(12-3*PI())))^2+4*G29^4*(1/3-PI()/16-1/(9*(4-PI())))) -> 1559.8805 | J29: =I29/(C29*0.5*0.1) -> 158.3635 | K29: =((E29*C29^2)/4+(D29-E29)*(C29-F29)*F29+((C29-2*F29)*(4-PI())*G29^2/2)+((3*PI()-10)*3)/3)*0.001 -> 181.98492 | L29: =SQRT(I29/H29) -> 8.152276 | M29: =H29-(2*D29*F29-(E29+2*G29)*F29)*0.01 -> 11.466107 | N29: =0.0001*(C29*E29^3/12+(D29-F29)*F29*(D29+F29)^2/8+F29*(D29-E29)^3/24+G29^2*(4-PI())*(0.5*E29-G29*(1-2/(12-3*PI())))^2+4*G29^4*(1/3-PI()/16-1/(9*(4-PI())))) -> 118.7844 | O29: =N29/(D29*0.5*0.1) -> 23.756881 | P29: =0.001*(D29^2*F29/2+((C29-2*F29)*E29^2)/4+G29^3*(10/3-PI())+(2-PI()/2)*E29*G29^2) -> 36.535889 | Q29: =SQRT(N29/H29) -> 2.2496395 | R29: =0.01*2*D29*E29 -> 9 | S29: =(0.67*(D29-0.63*F29)*F29^3+0.33*(C29-2*F29)*E29^3+2*(E29/F29)*(0.145+0.1*G29/F29)*(((G29+0.5*E29)^2+(G29+F29)^2-G29^2)/(2*G29+F29))^4)/10000 -> 4.1186626 | T29: =(F29*D29^3*(C29-F29)^2)/24000000 -> 10529.167
A30: IPE-A 220 | B30: =7.85*H30*0.1 -> 22.181044 | C30: 217 | D30: 110 | E30: 5 | F30: 7.7 | G30: 12 | H30: =((C30-2*F30)*E30+2*D30*F30+(2*G30)^2-PI()*G30^2)*0.01 -> 28.256107 | I30: =0.0001*(C30^3*E30/12+(D30-F30)*F30*(C30-F30)^2/2+F30^3*(D30-E30)/6+G30^2*(4-PI())*(0.5*C30-F30-G30*(1-2/(12-3*PI())))^2+4*G30^4*(1/3-PI()/16-1/(9*(4-PI())))) -> 2270.9706 | J30: =I30/(C30*0.5*0.1) -> 209.30605 | K30: =((E30*C30^2)/4+(D30-E30)*(C30-F30)*F30+((C30-2*F30)*(4-PI())*G30^2/2)+((3*PI()-10)*3)/3)*0.001 -> 240.53968 | L30: =SQRT(I30/H30) -> 8.9649857 | M30: =H30-(2*D30*F30-(E30+2*G30)*F30)*0.01 -> 13.549107 | N30: =0.0001*(C30*E30^3/12+(D30-F30)*F30*(D30+F30)^2/8+F30*(D30-E30)^3/24+G30^2*(4-PI())*(0.5*E30-G30*(1-2/(12-3*PI())))^2+4*G30^4*(1/3-PI()/16-1/(9*(4-PI())))) -> 173.83418 | O30: =N30/(D30*0.5*0.1) -> 31.606215 | P30: =0.001*(D30^2*F30/2+((C30-2*F30)*E30^2)/4+G30^3*(10/3-PI())+(2-PI()/2)*E30*G30^2) -> 48.485355 | Q30: =SQRT(N30/H30) -> 2.4803412 | R30: =0.01*2*D30*E30 -> 11 | S30: =(0.67*(D30-0.63*F30)*F30^3+0.33*(C30-2*F30)*E30^3+2*(E30/F30)*(0.145+0.1*G30/F30)*(((G30+0.5*E30)^2+(G30+F30)^2-G30^2)/(2*G30+F30))^4)/10000 -> 5.6965523 | T30: =(F30*D30^3*(C30-F30)^2)/24000000 -> 18706.649
A31: IPE-A 240 | B31: =7.85*H31*0.1 -> 26.15009 | C31: 237 | D31: 120 | E31: 5.2 | F31: 8.3 | G31: 15 | H31: =((C31-2*F31)*E31+2*D31*F31+(2*G31)^2-PI()*G31^2)*0.01 -> 33.312217 | I31: =0.0001*(C31^3*E31/12+(D31-F31)*F31*(C31-F31)^2/2+F31^3*(D31-E31)/6+G31^2*(4-PI())*(0.5*C31-F31-G31*(1-2/(12-3*PI())))^2+4*G31^4*(1/3-PI()/16-1/(9*(4-PI())))) -> 3223.1723 | J31: =I31/(C31*0.5*0.1) -> 271.99766 | K31: =((E31*C31^2)/4+(D31-E31)*(C31-F31)*F31+((C31-2*F31)*(4-PI())*G31^2/2)+((3*PI()-10)*3)/3)*0.001 -> 312.21784 | L31: =SQRT(I31/H31) -> 9.8364864 | M31: =H31-(2*D31*F31-(E31+2*G31)*F31)*0.01 -> 16.313817 | N31: =0.0001*(C31*E31^3/12+(D31-F31)*F31*(D31+F31)^2/8+F31*(D31-E31)^3/24+G31^2*(4-PI())*(0.5*E31-G31*(1-2/(12-3*PI())))^2+4*G31^4*(1/3-PI()/16-1/(9*(4-PI())))) -> 243.52755 | O31: =N31/(D31*0.5*0.1) -> 40.587925 | P31: =0.001*(D31^2*F31/2+((C31-2*F31)*E31^2)/4+G31^3*(10/3-PI())+(2-PI()/2)*E31*G31^2) -> 62.399197 | Q31: =SQRT(N31/H31) -> 2.7037858 | R31: =0.01*2*D31*E31 -> 12.48 | S31: =(0.67*(D31-0.63*F31)*F31^3+0.33*(C31-2*F31)*E31^3+2*(E31/F31)*(0.145+0.1*G31/F31)*(((G31+0.5*E31)^2+(G31+F31)^2-G31^2)/(2*G31+F31))^4)/10000 -> 8.3631145 | T31: =(F31*D31^3*(C31-F31)^2)/24000000 -> 31256.685
A32: IPE-A 270 | B32: =7.85*H32*0.1 -> 30.732292 | C32: 267 | D32: 135 | E32: 5.5 | F32: 8.7 | G32: 15 | H32: =((C32-2*F32)*E32+2*D32*F32+(2*G32)^2-PI()*G32^2)*0.01 -> 39.149417 | I32: =0.0001*(C32^3*E32/12+(D32-F32)*F32*(C32-F32)^2/2+F32^3*(D32-E32)/6+G32^2*(4-PI())*(0.5*C32-F32-G32*(1-2/(12-3*PI())))^2+4*G32^4*(1/3-PI()/16-1/(9*(4-PI())))) -> 4824.4259 | J32: =I32/(C32*0.5*0.1) -> 361.38021 | K32: =((E32*C32^2)/4+(D32-E32)*(C32-F32)*F32+((C32-2*F32)*(4-PI())*G32^2/2)+((3*PI()-10)*3)/3)*0.001 -> 413.13957 | L32: =SQRT(I32/H32) -> 11.100951 | M32: =H32-(2*D32*F32-(E32+2*G32)*F32)*0.01 -> 18.747917 | N32: =0.0001*(C32*E32^3/12+(D32-F32)*F32*(D32+F32)^2/8+F32*(D32-E32)^3/24+G32^2*(4-PI())*(0.5*E32-G32*(1-2/(12-3*PI())))^2+4*G32^4*(1/3-PI()/16-1/(9*(4-PI())))) -> 362.88185 | O32: =N32/(D32*0.5*0.1) -> 53.760275 | P32: =0.001*(D32^2*F32/2+((C32-2*F32)*E32^2)/4+G32^3*(10/3-PI())+(2-PI()/2)*E32*G32^2) -> 82.344614 | Q32: =SQRT(N32/H32) -> 3.044528 | R32: =0.01*2*D32*E32 -> 14.85 | S32: =(0.67*(D32-0.63*F32)*F32^3+0.33*(C32-2*F32)*E32^3+2*(E32/F32)*(0.145+0.1*G32/F32)*(((G32+0.5*E32)^2+(G32+F32)^2-G32^2)/(2*G32+F32))^4)/10000 -> 10.313129 | T32: =(F32*D32^3*(C32-F32)^2)/24000000 -> 59505.64
A33: IPE-A 300 | B33: =7.85*H33*0.1 -> 36.522923 | C33: 297 | D33: 150 | E33: 6.1 | F33: 9.2 | G33: 15 | H33: =((C33-2*F33)*E33+2*D33*F33+(2*G33)^2-PI()*G33^2)*0.01 -> 46.526017 | I33: =0.0001*(C33^3*E33/12+(D33-F33)*F33*(C33-F33)^2/2+F33^3*(D33-E33)/6+G33^2*(4-PI())*(0.5*C33-F33-G33*(1-2/(12-3*PI())))^2+4*G33^4*(1/3-PI()/16-1/(9*(4-PI())))) -> 7055.3835 | J33: =I33/(C33*0.5*0.1) -> 475.11 | K33: =((E33*C33^2)/4+(D33-E33)*(C33-F33)*F33+((C33-2*F33)*(4-PI())*G33^2/2)+((3*PI()-10)*3)/3)*0.001 -> 542.43545 | L33: =SQRT(I33/H33) -> 12.314375 | M33: =H33-(2*D33*F33-(E33+2*G33)*F33)*0.01 -> 22.247217 | N33: =0.0001*(C33*E33^3/12+(D33-F33)*F33*(D33+F33)^2/8+F33*(D33-E33)^3/24+G33^2*(4-PI())*(0.5*E33-G33*(1-2/(12-3*PI())))^2+4*G33^4*(1/3-PI()/16-1/(9*(4-PI())))) -> 525.32114 | O33: =N33/(D33*0.5*0.1) -> 70.042819 | P33: =0.001*(D33^2*F33/2+((C33-2*F33)*E33^2)/4+G33^3*(10/3-PI())+(2-PI()/2)*E33*G33^2) -> 107.32788 | Q33: =SQRT(N33/H33) -> 3.3601952 | R33: =0.01*2*D33*E33 -> 18.3 | S33: =(0.67*(D33-0.63*F33)*F33^3+0.33*(C33-2*F33)*E33^3+2*(E33/F33)*(0.145+0.1*G33/F33)*(((G33+0.5*E33)^2+(G33+F33)^2-G33^2)/(2*G33+F33))^4)/10000 -> 13.45135 | T33: =(F33*D33^3*(C33-F33)^2)/24000000 -> 107159.81
A34: IPE-A 330 | B34: =7.85*H34*0.1 -> 42.967948 | C34: 327 | D34: 160 | E34: 6.5 | F34: 10 | G34: 18 | H34: =((C34-2*F34)*E34+2*D34*F34+(2*G34)^2-PI()*G34^2)*0.01 -> 54.73624 | I34: =0.0001*(C34^3*E34/12+(D34-F34)*F34*(C34-F34)^2/2+F34^3*(D34-E34)/6+G34^2*(4-PI())*(0.5*C34-F34-G34*(1-2/(12-3*PI())))^2+4*G34^4*(1/3-PI()/16-1/(9*(4-PI())))) -> 10054.973 | J34: =I34/(C34*0.5*0.1) -> 614.98304 | K34: =((E34*C34^2)/4+(D34-E34)*(C34-F34)*F34+((C34-2*F34)*(4-PI())*G34^2/2)+((3*PI()-10)*3)/3)*0.001 -> 703.04608 | L34: =SQRT(I34/H34) -> 13.553547 | M34: =H34-(2*D34*F34-(E34+2*G34)*F34)*0.01 -> 26.98624 | N34: =0.0001*(C34*E34^3/12+(D34-F34)*F34*(D34+F34)^2/8+F34*(D34-E34)^3/24+G34^2*(4-PI())*(0.5*E34-G34*(1-2/(12-3*PI())))^2+4*G34^4*(1/3-PI()/16-1/(9*(4-PI())))) -> 693.65692 | O34: =N34/(D34*0.5*0.1) -> 86.707115 | P34: =0.001*(D34^2*F34/2+((C34-2*F34)*E34^2)/4+G34^3*(10/3-PI())+(2-PI()/2)*E34*G34^2) -> 133.26482 | Q34: =SQRT(N34/H34) -> 3.5598761 | R34: =0.01*2*D34*E34 -> 20.8 | S34: =(0.67*(D34-0.63*F34)*F34^3+0.33*(C34-2*F34)*E34^3+2*(E34/F34)*(0.145+0.1*G34/F34)*(((G34+0.5*E34)^2+(G34+F34)^2-G34^2)/(2*G34+F34))^4)/10000 -> 19.595527 | T34: =(F34*D34^3*(C34-F34)^2)/24000000 -> 171501.23
... A40: IPE-A 600 | B40: =7.85*H40*0.1 -> 107.56103 | C40: 597 | D40: 220 | E40: 9.8 | F40: 17.5 | G40: 24 | H40: =((C40-2*F40)*E40+2*D40*F40+(2*G40)^2-PI()*G40^2)*0.01 -> 137.02043 | I40: =0.0001*(C40^3*E40/12+(D40-F40)*F40*(C40-F40)^2/2+F40^3*(D40-E40)/6+G40^2*(4-PI())*(0.5*C40-F40-G40*(1-2/(12-3*PI())))^2+4*G40^4*(1/3-PI()/16-1/(9*(4-PI())))) -> 80656.273 | J40: =I40/(C40*0.5*0.1) -> 2702.0527 | K40: =((E40*C40^2)/4+(D40-E40)*(C40-F40)*F40+((C40-2*F40)*(4-PI())*G40^2/2)+((3*PI()-10)*3)/3)*0.001 -> 3143.8306 | L40: =SQRT(I40/H40) -> 24.26199 | M40: =H40-(2*D40*F40-(E40+2*G40)*F40)*0.01 -> 70.135426 | N40: =0.0001*(C40*E40^3/12+(D40-F40)*F40*(D40+F40)^2/8+F40*(D40-E40)^3/24+G40^2*(4-PI())*(0.5*E40-G40*(1-2/(12-3*PI())))^2+4*G40^4*(1/3-PI()/16-1/(9*(4-PI())))) -> 3181.5273 | O40: =N40/(D40*0.5*0.1) -> 289.22976 | P40: =0.001*(D40^2*F40/2+((C40-2*F40)*E40^2)/4+G40^3*(10/3-PI())+(2-PI()/2)*E40*G40^2) -> 442.06701 | Q40: =SQRT(N40/H40) -> 4.8186476 | R40: =0.01*2*D40*E40 -> 43.12 | S40: =(0.67*(D40-0.63*F40)*F40^3+0.33*(C40-2*F40)*E40^3+2*(E40/F40)*(0.145+0.1*G40/F40)*(((G40+0.5*E40)^2+(G40+F40)^2-G40^2)/(2*G40+F40))^4)/10000 -> 118.95816 | T40: =(F40*D40^3*(C40-F40)^2)/24000000 -> 2607364.4
B41: IPN
A42: IPN 80 | B42: 5.94 | C42: 80 | D42: 42 | E42: 3.9 | F42: 5.9 | G42: 3.9 | H42: 7.58 | I42: 77.8 | J42: 19.5 | K42: 22.8 | L42: 3.2 | M42: 3.41 | N42: 6.29 | O42: 3 | P42: 5 | Q42: 0.91 | R42: 4.956 | S42: =(0.67*(D42-0.63*F42)*F42^3+0.33*(C42-2*F42)*E42^3+2*(E42/F42)*(0.145+0.1*G42/F42)*(((G42+0.5*E42)^2+(G42+F42)^2-G42^2)/(2*G42+F42))^4)/10000 -> 0.79910743 | T42: =(F42*D42^3*(C42-F42)^2)/24000000 -> 100.00577
A43: IPN 100 | B43: 8.34 | C43: 100 | D43: 50 | E43: 4.5 | F43: 6.8 | G43: 4.5 | H43: 10.6 | I43: 171 | J43: 34.2 | K43: 39.8 | L43: 4.01 | M43: 4.85 | N43: 12.2 | O43: 4.88 | P43: 8.1 | Q43: 1.07 | R43: 6.8 | S43: =(0.67*(D43-0.63*F43)*F43^3+0.33*(C43-2*F43)*E43^3+2*(E43/F43)*(0.145+0.1*G43/F43)*(((G43+0.5*E43)^2+(G43+F43)^2-G43^2)/(2*G43+F43))^4)/10000 -> 1.4686911 | T43: =(F43*D43^3*(C43-F43)^2)/24000000 -> 307.63767
A44: IPN 120 | B44: 11.1 | C44: 120 | D44: 58 | E44: 5.1 | F44: 7.7 | G44: 5.1 | H44: 14.2 | I44: 328 | J44: 54.7 | K44: 63.6 | L44: 4.81 | M44: 6.63 | N44: 21.5 | O44: 7.41 | P44: 12.4 | Q44: 1.23 | R44: 8.932 | S44: =(0.67*(D44-0.63*F44)*F44^3+0.33*(C44-2*F44)*E44^3+2*(E44/F44)*(0.145+0.1*G44/F44)*(((G44+0.5*E44)^2+(G44+F44)^2-G44^2)/(2*G44+F44))^4)/10000 -> 2.4887322 | T44: =(F44*D44^3*(C44-F44)^2)/24000000 -> 789.447
A45: IPN 140 | B45: 14.3 | C45: 140 | D45: 66 | E45: 5.7 | F45: 8.6 | G45: 5.7 | H45: 18.3 | I45: 573 | J45: 81.9 | K45: 95.4 | L45: 5.61 | M45: 8.65 | N45: 35.2 | O45: 10.7 | P45: 17.9 | Q45: 1.4 | R45: 11.352 | S45: =(0.67*(D45-0.63*F45)*F45^3+0.33*(C45-2*F45)*E45^3+2*(E45/F45)*(0.145+0.1*G45/F45)*(((G45+0.5*E45)^2+(G45+F45)^2-G45^2)/(2*G45+F45))^4)/10000 -> 3.963957 | T45: =(F45*D45^3*(C45-F45)^2)/24000000 -> 1778.7288
A46: IPN 160 | B46: 17.9 | C46: 160 | D46: 74 | E46: 6.3 | F46: 9.5 | G46: 6.3 | H46: 22.8 | I46: 935 | J46: 117 | K46: 136 | L46: 6.4 | M46: 10.83 | N46: 54.7 | O46: 14.8 | P46: 24.9 | Q46: 1.55 | R46: 14.06 | S46: =(0.67*(D46-0.63*F46)*F46^3+0.33*(C46-2*F46)*E46^3+2*(E46/F46)*(0.145+0.1*G46/F46)*(((G46+0.5*E46)^2+(G46+F46)^2-G46^2)/(2*G46+F46))^4)/10000 -> 6.0127696 | T46: =(F46*D46^3*(C46-F46)^2)/24000000 -> 3633.1265
A47: IPN 180 | B47: 21.9 | C47: 180 | D47: 82 | E47: 6.9 | F47: 10.4 | G47: 6.9 | H47: 27.9 | I47: 1450 | J47: 161 | K47: 187 | L47: 7.2 | M47: 13.35 | N47: 81.3 | O47: 19.8 | P47: 33.2 | Q47: 1.71 | R47: 17.056 | S47: =(0.67*(D47-0.63*F47)*F47^3+0.33*(C47-2*F47)*E47^3+2*(E47/F47)*(0.145+0.1*G47/F47)*(((G47+0.5*E47)^2+(G47+F47)^2-G47^2)/(2*G47+F47))^4)/10000 -> 8.7672513 | T47: =(F47*D47^3*(C47-F47)^2)/24000000 -> 6872.5095
A48: IPN 200 | B48: 26.2 | C48: 200 | D48: 90 | E48: 7.5 | F48: 11.3 | G48: 7.5 | H48: 33.4 | I48: 2140 | J48: 214 | K48: 250 | L48: 8 | M48: 16.03 | N48: 117 | O48: 26 | P48: 43.5 | Q48: 1.87 | R48: 20.34 | S48: =(0.67*(D48-0.63*F48)*F48^3+0.33*(C48-2*F48)*E48^3+2*(E48/F48)*(0.145+0.1*G48/F48)*(((G48+0.5*E48)^2+(G48+F48)^2-G48^2)/(2*G48+F48))^4)/10000 -> 12.373161 | T48: =(F48*D48^3*(C48-F48)^2)/24000000 -> 12221.894
A49: IPN 220 | B49: 31.1 | C49: 220 | D49: 98 | E49: 8.1 | F49: 12.2 | G49: 8.1 | H49: 39.5 | I49: 3060 | J49: 278 | K49: 324 | L49: 8.8 | M49: 19.06 | N49: 162 | O49: 33.1 | P49: 55.7 | Q49: 2.02 | R49: 23.912 | S49: =(0.67*(D49-0.63*F49)*F49^3+0.33*(C49-2*F49)*E49^3+2*(E49/F49)*(0.145+0.1*G49/F49)*(((G49+0.5*E49)^2+(G49+F49)^2-G49^2)/(2*G49+F49))^4)/10000 -> 16.989936 | T49: =(F49*D49^3*(C49-F49)^2)/24000000 -> 20659.409
A50: IPN 240 | B50: 36.2 | C50: 240 | D50: 106 | E50: 8.7 | F50: 13.1 | G50: 8.7 | H50: 46.1 | I50: 4250 | J50: 354 | K50: 412 | L50: 9.59 | M50: 22.33 | N50: 221 | O50: 41.7 | P50: 70 | Q50: 2.2 | R50: 27.772 | S50: =(0.67*(D50-0.63*F50)*F50^3+0.33*(C50-2*F50)*E50^3+2*(E50/F50)*(0.145+0.1*G50/F50)*(((G50+0.5*E50)^2+(G50+F50)^2-G50^2)/(2*G50+F50))^4)/10000 -> 22.790691 | T50: =(F50*D50^3*(C50-F50)^2)/24000000 -> 33469.301
...

Sheet Cornières
A1: Type de profilé | B1: Masse | C1: Dimensions | H1: Aire | I1: Inertie | J1: Module de flexion | L1: Rayon de giration | N1: Inertie | O1: Module de flexion | Q1: Rayon de giration | S1: Axes principaux | AE1: Trusquinage et diamètres boulons | AI1: Dist cdg / Dos ailes | AK1: Inclinaison des axes
B2: G | C2: h | D2: b | E2: t | F2: r1 | G2: r2 | H2: A | I2: Iy | J2: Wel,y | L2: iy | N2: Iz | O2: Wel,z | Q2: iz | S2: Iz' | T2: dz/fibre | U2: Wel,z' | V2: iz' | W2: Iy' | X2: dy'/fibre | Y2: Wel,y' | Z2: iy' | AA2: h1/y | AB2: Wpl,y | AC2: h1/z | AD2: Wpl,z | AE2: e | AF2: d | AG2: e | AH2: d | AI2: dy | AJ2: dz | AK2: tg (alpha)
B3: kg | C3: mm | D3: mm | E3: mm | F3: mm | G3: mm | H3: cm² | I3: cm4 | J3: cm3 | L3: cm | N3: cm4 | O3: cm3 | Q3: cm | S3: cm4 | T3: mm | U3: cm3 | V3: cm | W3: cm4 | X3: mm | Y3: cm3 | Z3: cm | AE3: Grande aile | AG3: Petite aile | AI3: mm | AJ3: mm | AK3: cm
C4: CAE
A5: CAE 20x20x3 | B5: =0.1*7.85*H5 -> 0.88705 | C5: 20 | D5: 20 | E5: 3 | F5: 4 | G5: =F5/2 -> 2 | H5: 1.13 | I5: 0.39 | J5: =I5*10/($C5-$AI5) -> 0.27857143 | L5: =SQRT(I5/H5) -> 0.58747999 | N5: =I5 -> 0.39 | O5: =N5*10/($D5-$AJ5) -> 0.27857143 | Q5: =SQRT(N5/$H5) -> 0.58747999 | S5: 0.61 | T5: 14.1 | U5: =S5*10/T5 -> 0.43262411 | V5: =SQRT(S5/$H5) -> 0.73472649 | W5: 0.16 | X5: 8.4 | Y5: =W5*10/X5 -> 0.19047619 | Z5: =SQRT(W5/$H5) -> 0.37628835 | AA5: =C5-(C5-E5)*E5/(2*D5)-(D5-2*E5)*E5/(2*D5)-PI()*E5*E5/(4*D5)-(1-PI()/4)*F5*F5/(2*D5) -> 17.23573 | AB5: =((C5-2*E5)*(AA5-C5/2)*E5+((AA5-C5+E5)^2+(C5-AA5)^2)*(D5-E5)/2+PI()*E5*E5/4*AA5+(1-PI()/4)*F5*F5*((10-3*PI())/(12-3*PI())*F5+AA5-C5+E5))/1000 -> 0.49503255 | AC5: =D5-(D5-E5)*E5/(2*C5)-(C5-2*E5)*E5/(2*C5)-PI()*E5*E5/(4*C5)-(1-PI()/4)*F5*F5/(2*C5) -> 17.23573 | AE5: 12 | AF5: 6 | AG5: 12 | AH5: 6 | AI5: 6 | AJ5: =AI5 -> 6 | AK5: 0.5
A6: CAE 25x25x3 | B6: =0.1*7.85*H6 -> 1.12255 | C6: 25 | D6: 25 | E6: 3 | F6: 4 | G6: =F6/2 -> 2 | H6: 1.43 | I6: 0.8 | J6: =I6*10/($C6-$AI6) -> 0.4494382 | L6: =SQRT(I6/H6) -> 0.74795759 | N6: =I6 -> 0.8 | O6: =N6*10/($D6-$AJ6) -> 0.4494382 | Q6: =SQRT(N6/$H6) -> 0.74795759 | S6: 1.26 | T6: 17.7 | U6: =S6*10/T6 -> 0.71186441 | V6: =SQRT(S6/$H6) -> 0.93867933 | W6: 0.33 | X6: 10.2 | Y6: =W6*10/X6 -> 0.32352941 | Z6: =SQRT(W6/$H6) -> 0.48038446 | AA6: =C6-(C6-E6)*E6/(2*D6)-(D6-2*E6)*E6/(2*D6)-PI()*E6*E6/(4*D6)-(1-PI()/4)*F6*F6/(2*D6) -> 22.188584 | AB6: =((C6-2*E6)*(AA6-C6/2)*E6+((AA6-C6+E6)^2+(C6-AA6)^2)*(D6-E6)/2+PI()*E6*E6/4*AA6+(1-PI()/4)*F6*F6*((10-3*PI())/(12-3*PI())*F6+AA6-C6+E6))/1000 -> 0.80014239 | AE6: 14 | AF6: 8 | AG6: 14 | AH6: 8 | AI6: 7.2 | AJ6: =AI6 -> 7.2
A7: CAE 25x25x4 | B7: =0.1*7.85*H7 -> 1.4601 | C7: 25 | D7: 25 | E7: 4 | F7: 4 | G7: =F7/2 -> 2 | H7: 1.86 | I7: 1.1 | J7: =I7*10/($C7-$AI7) -> 0.63218391 | L7: =SQRT(I7/H7) -> 0.76902396 | N7: =I7 -> 1.1 | O7: =N7*10/($D7-$AJ7) -> 0.63218391 | Q7: =SQRT(N7/$H7) -> 0.76902396 | S7: 1.6 | T7: 17.7 | U7: =S7*10/T7 -> 0.9039548 | V7: =SQRT(S7/$H7) -> 0.92747779 | W7: 0.43 | X7: 10.7 | Y7: =W7*10/X7 -> 0.40186916 | Z7: =SQRT(W7/$H7) -> 0.48081472 | AA7: =C7-(C7-E7)*E7/(2*D7)-(D7-2*E7)*E7/(2*D7)-PI()*E7*E7/(4*D7)-(1-PI()/4)*F7*F7/(2*D7) -> 21.388673 | AB7: =((C7-2*E7)*(AA7-C7/2)*E7+((AA7-C7+E7)^2+(C7-AA7)^2)*(D7-E7)/2+PI()*E7*E7/4*AA7+(1-PI()/4)*F7*F7*((10-3*PI())/(12-3*PI())*F7+AA7-C7+E7))/1000 -> 1.016134 | AE7: 14 | AF7: 8 | AG7: 14 | AH7: 8 | AI7: 7.6 | AJ7: =AI7 -> 7.6
A8: CAE 25x25x5 | B8: =0.1*7.85*H8 -> 1.7898 | C8: 25 | D8: 25 | E8: 5 | F8: 5 | G8: =F8/2 -> 2.5 | H8: 2.28 | I8: 1.19 | J8: =I8*10/($C8-$AI8) -> 0.69590643 | L8: =SQRT(I8/H8) -> 0.72244711 | N8: =I8 -> 1.19 | O8: =N8*10/($D8-$AJ8) -> 0.69590643 | Q8: =SQRT(N8/$H8) -> 0.72244711 | S8: 1.87 | T8: 17.7 | U8: =S8*10/T8 -> 1.0564972 | V8: =SQRT(S8/$H8) -> 0.90563538 | W8: 0.51 | X8: 11.2 | Y8: =W8*10/X8 -> 0.45535714 | Z8: =SQRT(W8/$H8) -> 0.47295265 | AA8: =C8-(C8-E8)*E8/(2*D8)-(D8-2*E8)*E8/(2*D8)-PI()*E8*E8/(4*D8)-(1-PI()/4)*F8*F8/(2*D8) -> 20.607301 | AB8: =((C8-2*E8)*(AA8-C8/2)*E8+((AA8-C8+E8)^2+(C8-AA8)^2)*(D8-E8)/2+PI()*E8*E8/4*AA8+(1-PI()/4)*F8*F8*((10-3*PI())/(12-3*PI())*F8+AA8-C8+E8))/1000 -> 1.2185673 | AE8: 14 | AF8: 8 | AG8: 14 | AH8: 8 | AI8: 7.9 | AJ8: =AI8 -> 7.9
A9: CAE 30x30x3 | B9: =0.1*7.85*H9 -> 1.3659 | C9: 30 | D9: 30 | E9: 3 | F9: 5 | G9: =F9/2 -> 2.5 | H9: 1.74 | I9: 1.4 | J9: =I9*10/($C9-$AI9) -> 0.64814815 | L9: =SQRT(I9/H9) -> 0.8969937 | N9: =I9 -> 1.4 | O9: =N9*10/($D9-$AJ9) -> 0.64814815 | Q9: =SQRT(N9/$H9) -> 0.8969937 | S9: 2.22 | T9: 21.2 | U9: =S9*10/T9 -> 1.0471698 | V9: =SQRT(S9/$H9) -> 1.1295406 | W9: 0.59 | X9: 11.8 | Y9: =W9*10/X9 -> 0.5 | Z9: =SQRT(W9/$H9) -> 0.58230616 | AA9: =C9-(C9-E9)*E9/(2*D9)-(D9-2*E9)*E9/(2*D9)-PI()*E9*E9/(4*D9)-(1-PI()/4)*F9*F9/(2*D9) -> 27.124963 | AB9: =((C9-2*E9)*(AA9-C9/2)*E9+((AA9-C9+E9)^2+(C9-AA9)^2)*(D9-E9)/2+PI()*E9*E9/4*AA9+(1-PI()/4)*F9*F9*((10-3*PI())/(12-3*PI())*F9+AA9-C9+E9))/1000 -> 1.1831944 | AE9: 18 | AF9: 8 | AG9: 18 | AH9: 8 | AI9: 8.4 | AJ9: =AI9 -> 8.4
A10: CAE 30x30x3,5 | B10: =0.1*7.85*H10 -> 1.57 | C10: 30 | D10: 30 | E10: 3.5 | F10: 5 | G10: =F10/2 -> 2.5 | H10: 2 | I10: 1.61 | J10: =I10*10/($C10-$AI10) -> 0.75233645 | L10: =SQRT(I10/H10) -> 0.89721792 | N10: =I10 -> 1.61 | O10: =N10*10/($D10-$AJ10) -> 0.75233645 | Q10: =SQRT(N10/$H10) -> 0.89721792 | S10: 2.55 | T10: 21.2 | U10: =S10*10/T10 -> 1.2028302 | V10: =SQRT(S10/$H10) -> 1.129159 | W10: 0.67 | X10: 12.1 | Y10: =W10*10/X10 -> 0.55371901 | Z10: =SQRT(W10/$H10) -> 0.57879185 | AA10: =C10-(C10-E10)*E10/(2*D10)-(D10-2*E10)*E10/(2*D10)-PI()*E10*E10/(4*D10)-(1-PI()/4)*F10*F10/(2*D10) -> 26.702378 | AB10: =((C10-2*E10)*(AA10-C10/2)*E10+((AA10-C10+E10)^2+(C10-AA10)^2)*(D10-E10)/2+PI()*E10*E10/4*AA10+(1-PI()/4)*F10*F10*((10-3*PI())/(12-3*PI())*F10+AA10-C10+E10))/1000 -> 1.3506534 | AE10: 18 | AF10: 8 | AG10: 18 | AH10: 8 | AI10: 8.6 | AJ10: =AI10 -> 8.6
A11: CAE 30x30x4 | B11: =0.1*7.85*H11 -> 1.78195 | C11: 30 | D11: 30 | E11: 4 | F11: 5 | G11: =F11/2 -> 2.5 | H11: 2.27 | I11: 1.8 | J11: =I11*10/($C11-$AI11) -> 0.8490566 | L11: =SQRT(I11/H11) -> 0.89047827 | N11: =I11 -> 1.8 | O11: =N11*10/($D11-$AJ11) -> 0.8490566 | Q11: =SQRT(N11/$H11) -> 0.89047827 | S11: 2.85 | T11: 21.2 | U11: =S11*10/T11 -> 1.3443396 | V11: =SQRT(S11/$H11) -> 1.1204939 | W11: 0.75 | X11: 12.4 | Y11: =W11*10/X11 -> 0.60483871 | Z11: =SQRT(W11/$H11) -> 0.57480125 | AA11: =C11-(C11-E11)*E11/(2*D11)-(D11-2*E11)*E11/(2*D11)-PI()*E11*E11/(4*D11)-(1-PI()/4)*F11*F11/(2*D11) -> 26.291704 | AB11: =((C11-2*E11)*(AA11-C11/2)*E11+((AA11-C11+E11)^2+(C11-AA11)^2)*(D11-E11)/2+PI()*E11*E11/4*AA11+(1-PI()/4)*F11*F11*((10-3*PI())/(12-3*PI())*F11+AA11-C11+E11))/1000 -> 1.5114933 | AE11: 18 | AF11: 8 | AG11: 18 | AH11: 8 | AI11: 8.8 | AJ11: =AI11 -> 8.8
A12: CAE 30x30x5 | B12: =0.1*7.85*H12 -> 2.1823 | C12: 30 | D12: 30 | E12: 5 | F12: 5 | G12: =F12/2 -> 2.5 | H12: 2.78 | I12: 2.16 | J12: =I12*10/($C12-$AI12) -> 1.0384615 | L12: =SQRT(I12/H12) -> 0.88146379 | N12: =I12 -> 2.16 | O12: =N12*10/($D12-$AJ12) -> 1.0384615 | Q12: =SQRT(N12/$H12) -> 0.88146379 | S12: 3.41 | T12: 21.2 | U12: =S12*10/T12 -> 1.6084906 | V12: =SQRT(S12/$H12) -> 1.1075282 | W12: 0.92 | X12: 13 | Y12: =W12*10/X12 -> 0.70769231 | Z12: =SQRT(W12/$H12) -> 0.57526972 | AA12: =C12-(C12-E12)*E12/(2*D12)-(D12-2*E12)*E12/(2*D12)-PI()*E12*E12/(4*D12)-(1-PI()/4)*F12*F12/(2*D12) -> 25.506084 | AB12: =((C12-2*E12)*(AA12-C12/2)*E12+((AA12-C12+E12)^2+(C12-AA12)^2)*(D12-E12)/2+PI()*E12*E12/4*AA12+(1-PI()/4)*F12*F12*((10-3*PI())/(12-3*PI())*F12+AA12-C12+E12))/1000 -> 1.8157688 | AE12: 18 | AF12: 8 | AG12: =AE12 -> 18 | AH12: =AF12 -> 8 | AI12: 9.2 | AJ12: =AI12 -> 9.2
A13: CAE 35x35x3,5 | B13: =0.1*7.85*H13 -> 1.8369 | C13: 35 | D13: 35 | E13: 3.5 | F13: 4 | G13: =F13/2 -> 2 | H13: 2.34 | I13: 2.66 | J13: =I13*10/($C13-$AI13) -> 1.059761 | L13: =SQRT(I13/H13) -> 1.0661858 | N13: =I13 -> 2.66 | O13: =N13*10/($D13-$AJ13) -> 1.059761 | Q13: =SQRT(N13/$H13) -> 1.0661858 | S13: 4.22 | T13: 24.7 | U13: =S13*10/T13 -> 1.708502 | V13: =SQRT(S13/$H13) -> 1.3429143 | W13: 1.11 | X13: 14 | Y13: =W13*10/X13 -> 0.79285714 | Z13: =SQRT(W13/$H13) -> 0.68873723 | AA13: =C13-(C13-E13)*E13/(2*D13)-(D13-2*E13)*E13/(2*D13)-PI()*E13*E13/(4*D13)-(1-PI()/4)*F13*F13/(2*D13) -> 31.701059 | AB13: =((C13-2*E13)*(AA13-C13/2)*E13+((AA13-C13+E13)^2+(C13-AA13)^2)*(D13-E13)/2+PI()*E13*E13/4*AA13+(1-PI()/4)*F13*F13*((10-3*PI())/(12-3*PI())*F13+AA13-C13+E13))/1000 -> 1.872506 | AE13: 20 | AF13: 10 | AG13: =AE13 -> 20 | AH13: =AF13 -> 10 | AI13: 9.9 | AJ13: =AI13 -> 9.9
A14: CAE 35x35x4 | B14: =0.1*7.85*H14 -> 2.09595 | C14: 35 | D14: 35 | E14: 4 | F14: 5 | G14: =F14/2 -> 2.5 | H14: 2.67 | I14: 2.95 | J14: =I14*10/($C14-$AI14) -> 1.18 | L14: =SQRT(I14/H14) -> 1.0511274 | N14: =I14 -> 2.95 | O14: =N14*10/($D14-$AJ14) -> 1.18 | Q14: =SQRT(N14/$H14) -> 1.0511274 | S14: 4.68 | T14: 24.7 | U14: =S14*10/T14 -> 1.8947368 | V14: =SQRT(S14/$H14) -> 1.3239369 | W14: 1.23 | X14: 14.2 | Y14: =W14*10/X14 -> 0.86619718 | Z14: =SQRT(W14/$H14) -> 0.67872981 | AA14: =C14-(C14-E14)*E14/(2*D14)-(D14-2*E14)*E14/(2*D14)-PI()*E14*E14/(4*D14)-(1-PI()/4)*F14*F14/(2*D14) -> 31.250032 | AB14: =((C14-2*E14)*(AA14-C14/2)*E14+((AA14-C14+E14)^2+(C14-AA14)^2)*(D14-E14)/2+PI()*E14*E14/4*AA14+(1-PI()/4)*F14*F14*((10-3*PI())/(12-3*PI())*F14+AA14-C14+E14))/1000 -> 2.1039703 | AE14: 20 | AF14: 10 | AG14: =AE14 -> 20 | AH14: =AF14 -> 10 | AI14: 10 | AJ14: =AI14 -> 10
A15: CAE 35x35x5 | B15: =0.1*7.85*H15 -> 2.5748 | C15: 35 | D15: 35 | E15: 5 | F15: 5 | G15: =F15/2 -> 2.5 | H15: 3.28 | I15: 3.56 | J15: =I15*10/($C15-$AI15) -> 1.4471545 | L15: =SQRT(I15/H15) -> 1.0418089 | N15: =I15 -> 3.56 | O15: =N15*10/($D15-$AJ15) -> 1.4471545 | Q15: =SQRT(N15/$H15) -> 1.0418089 | S15: 5.64 | T15: 24.7 | U15: =S15*10/T15 -> 2.2834008 | V15: =SQRT(S15/$H15) -> 1.3113017 | W15: 1.49 | X15: 14.8 | Y15: =W15*10/X15 -> 1.0067568 | Z15: =SQRT(W15/$H15) -> 0.67399428 | AA15: =C15-(C15-E15)*E15/(2*D15)-(D15-2*E15)*E15/(2*D15)-PI()*E15*E15/(4*D15)-(1-PI()/4)*F15*F15/(2*D15) -> 30.433786 | AB15: =((C15-2*E15)*(AA15-C15/2)*E15+((AA15-C15+E15)^2+(C15-AA15)^2)*(D15-E15)/2+PI()*E15*E15/4*AA15+(1-PI()/4)*F15*F15*((10-3*PI())/(12-3*PI())*F15+AA15-C15+E15))/1000 -> 2.5381856 | AE15: 20 | AF15: 10 | AG15: =AE15 -> 20 | AH15: =AF15 -> 10 | AI15: 10.4 | AJ15: =AI15 -> 10.4
A16: CAE 40x40x3 | B16: =0.1*7.85*H16 -> 1.8369 | C16: 40 | D16: 40 | E16: 3 | F16: 5 | G16: =F16/2 -> 2.5 | H16: 2.34 | I16: 3.49 | J16: =I16*10/($C16-$AI16) -> 1.1952055 | L16: =SQRT(I16/H16) -> 1.2212506 | N16: =I16 -> 3.49 | O16: =N16*10/($D16-$AJ16) -> 1.1952055 | Q16: =SQRT(N16/$H16) -> 1.2212506 | S16: 5.53 | T16: 28.3 | U16: =S16*10/T16 -> 1.9540636 | V16: =SQRT(S16/$H16) -> 1.5372859 | W16: 1.45 | X16: 15.3 | Y16: =W16*10/X16 -> 0.94771242 | Z16: =SQRT(W16/$H16) -> 0.78718366 | AA16: =C16-(C16-E16)*E16/(2*D16)-(D16-2*E16)*E16/(2*D16)-PI()*E16*E16/(4*D16)-(1-PI()/4)*F16*F16/(2*D16) -> 37.093722 | AB16: =((C16-2*E16)*(AA16-C16/2)*E16+((AA16-C16+E16)^2+(C16-AA16)^2)*(D16-E16)/2+PI()*E16*E16/4*AA16+(1-PI()/4)*F16*F16*((10-3*PI())/(12-3*PI())*F16+AA16-C16+E16))/1000 -> 2.1686763 | AE16: 22 | AF16: 12 | AG16: =AE16 -> 22 | AH16: =AF16 -> 12 | AI16: 10.8 | AJ16: =AI16 -> 10.8
A17: CAE 40x40x4 | B17: =0.1*7.85*H17 -> 2.4178 | C17: 40 | D17: 40 | E17: 4 | F17: 6 | G17: =F17/2 -> 3 | H17: 3.08 | I17: 4.47 | J17: =I17*10/($C17-$AI17) -> 1.5520833 | L17: =SQRT(I17/H17) -> 1.2046986 | N17: =I17 -> 4.47 | O17: =N17*10/($D17-$AJ17) -> 1.5520833 | Q17: =SQRT(N17/$H17) -> 1.2046986 | S17: 7.09 | T17: 28.3 | U17: =S17*10/T17 -> 2.5053004 | V17: =SQRT(S17/$H17) -> 1.5172172 | W17: 1.86 | X17: 15.8 | Y17: =W17*10/X17 -> 1.1772152 | Z17: =SQRT(W17/$H17) -> 0.77710752 | AA17: =C17-(C17-E17)*E17/(2*D17)-(D17-2*E17)*E17/(2*D17)-PI()*E17*E17/(4*D17)-(1-PI()/4)*F17*F17/(2*D17) -> 36.18927 | AB17: =((C17-2*E17)*(AA17-C17/2)*E17+((AA17-C17+E17)^2+(C17-AA17)^2)*(D17-E17)/2+PI()*E17*E17/4*AA17+(1-PI()/4)*F17*F17*((10-3*PI())/(12-3*PI())*F17+AA17-C17+E17))/1000 -> 2.8008453 | AE17: 22 | AF17: 12 | AG17: =AE17 -> 22 | AH17: =AF17 -> 12 | AI17: 11.2 | AJ17: =AI17 -> 11.2
A18: CAE 40x40x5 | B18: =0.1*7.85*H18 -> 2.97515 | C18: 40 | D18: 40 | E18: 5 | F18: 6 | G18: =F18/2 -> 3 | H18: 3.79 | I18: 5.43 | J18: =I18*10/($C18-$AI18) -> 1.9119718 | L18: =SQRT(I18/H18) -> 1.1969619 | N18: =I18 -> 5.43 | O18: =N18*10/($D18-$AJ18) -> 1.9119718 | Q18: =SQRT(N18/$H18) -> 1.1969619 | S18: 8.59 | T18: 28.3 | U18: =S18*10/T18 -> 3.0353357 | V18: =SQRT(S18/$H18) -> 1.5054869 | W18: 2.26 | X18: 16.4 | Y18: =W18*10/X18 -> 1.3780488 | Z18: =SQRT(W18/$H18) -> 0.77220857 | AA18: =C18-(C18-E18)*E18/(2*D18)-(D18-2*E18)*E18/(2*D18)-PI()*E18*E18/(4*D18)-(1-PI()/4)*F18*F18/(2*D18) -> 35.350055 | AB18: =((C18-2*E18)*(AA18-C18/2)*E18+((AA18-C18+E18)^2+(C18-AA18)^2)*(D18-E18)/2+PI()*E18*E18/4*AA18+(1-PI()/4)*F18*F18*((10-3*PI())/(12-3*PI())*F18+AA18-C18+E18))/1000 -> 3.3901926 | AE18: 22 | AF18: 12 | AG18: =AE18 -> 22 | AH18: =AF18 -> 12 | AI18: 11.6 | AJ18: =AI18 -> 11.6
A19: CAE 40x40x6 | B19: =0.1*7.85*H19 -> 3.5168 | C19: 40 | D19: 40 | E19: 6 | F19: 6 | G19: =F19/2 -> 3 | H19: 4.48 | I19: 6.31 | J19: =I19*10/($C19-$AI19) -> 2.2535714 | L19: =SQRT(I19/H19) -> 1.1867949 | N19: =I19 -> 6.31 | O19: =N19*10/($D19-$AJ19) -> 2.2535714 | Q19: =SQRT(N19/$H19) -> 1.1867949 | S19: 9.98 | T19: 28.3 | U19: =S19*10/T19 -> 3.5265018 | V19: =SQRT(S19/$H19) -> 1.492541 | W19: 2.65 | X19: 17 | Y19: =W19*10/X19 -> 1.5588235 | Z19: =SQRT(W19/$H19) -> 0.76910198 | AA19: =C19-(C19-E19)*E19/(2*D19)-(D19-2*E19)*E19/(2*D19)-PI()*E19*E19/(4*D19)-(1-PI()/4)*F19*F19/(2*D19) -> 34.546571 | AB19: =((C19-2*E19)*(AA19-C19/2)*E19+((AA19-C19+E19)^2+(C19-AA19)^2)*(D19-E19)/2+PI()*E19*E19/4*AA19+(1-PI()/4)*F19*F19*((10-3*PI())/(12-3*PI())*F19+AA19-C19+E19))/1000 -> 3.9458385 | AE19: 22 | AF19: 12 | AG19: =AE19 -> 22 | AH19: =AF19 -> 12 | AI19: 12 | AJ19: =AI19 -> 12
A20: CAE 45x45x3 | B20: =0.1*7.85*H20 -> 2.0724 | C20: 45 | D20: 45 | E20: 3 | F20: 5 | G20: =F20/2 -> 2.5 | H20: 2.64 | I20: 5.05 | J20: =I20*10/($C20-$AI20) -> 1.5349544 | L20: =SQRT(I20/H20) -> 1.3830686 | N20: =I20 -> 5.05 | O20: =N20*10/($D20-$AJ20) -> 1.5349544 | Q20: =SQRT(N20/$H20) -> 1.3830686 | S20: 8.01 | T20: 31.8 | U20: =S20*10/T20 -> 2.5188679 | V20: =SQRT(S20/$H20) -> 1.7418642 | W20: 2.09 | X20: 17.1 | Y20: =W20*10/X20 -> 1.2222222 | Z20: =SQRT(W20/$H20) -> 0.88975652 | AA20: =C20-(C20-E20)*E20/(2*D20)-(D20-2*E20)*E20/(2*D20)-PI()*E20*E20/(4*D20)-(1-PI()/4)*F20*F20/(2*D20) -> 42.083309 | AB20: =((C20-2*E20)*(AA20-C20/2)*E20+((AA20-C20+E20)^2+(C20-AA20)^2)*(D20-E20)/2+PI()*E20*E20/4*AA20+(1-PI()/4)*F20*F20*((10-3*PI())/(12-3*PI())*F20+AA20-C20+E20))/1000 -> 2.7739499 | AE20: 25 | AF20: 12 | AG20: =AE20 -> 25 | AH20: =AF20 -> 12 | AI20: 12.1 | AJ20: =AI20 -> 12.1
A21: CAE 45x45x4 | B21: =0.1*7.85*H21 -> 2.72395 | C21: 45 | D21: 45 | E21: 4 | F21: 5 | G21: =F21/2 -> 2.5 | H21: 3.47 | I21: 6.55 | J21: =I21*10/($C21-$AI21) -> 2.0153846 | L21: =SQRT(I21/H21) -> 1.3739025 | N21: =I21 -> 6.55 | O21: =N21*10/($D21-$AJ21) -> 2.0153846 | Q21: =SQRT(N21/$H21) -> 1.3739025 | S21: 10.4 | T21: 31.8 | U21: =S21*10/T21 -> 3.2704403 | V21: =SQRT(S21/$H21) -> 1.7312187 | W21: 2.7 | X21: 17.7 | Y21: =W21*10/X21 -> 1.5254237 | Z21: =SQRT(W21/$H21) -> 0.88209862 | AA21: =C21-(C21-E21)*E21/(2*D21)-(D21-2*E21)*E21/(2*D21)-PI()*E21*E21/(4*D21)-(1-PI()/4)*F21*F21/(2*D21) -> 41.194469 | AB21: =((C21-2*E21)*(AA21-C21/2)*E21+((AA21-C21+E21)^2+(C21-AA21)^2)*(D21-E21)/2+PI()*E21*E21/4*AA21+(1-PI()/4)*F21*F21*((10-3*PI())/(12-3*PI())*F21+AA21-C21+E21))/1000 -> 3.5891392 | AE21: 25 | AF21: 12 | AG21: =AE21 -> 25 | AH21: =AF21 -> 12 | AI21: 12.5 | AJ21: =AI21 -> 12.5
A22: CAE 45x45x4,5 | B22: =0.1*7.85*H22 -> 3.0615 | C22: 45 | D22: 45 | E22: 4.5 | F22: 7 | G22: =F22/2 -> 3.5 | H22: 3.9 | I22: 7.15 | J22: =I22*10/($C22-$AI22) -> 2.2067901 | L22: =SQRT(I22/H22) -> 1.3540064 | N22: =I22 -> 7.15 | O22: =N22*10/($D22-$AJ22) -> 2.2067901 | Q22: =SQRT(N22/$H22) -> 1.3540064 | S22: 11.32 | T22: 31.8 | U22: =S22*10/T22 -> 3.5597484 | V22: =SQRT(S22/$H22) -> 1.7036913 | W22: 2.97 | X22: 17.8 | Y22: =W22*10/X22 -> 1.6685393 | Z22: =SQRT(W22/$H22) -> 0.87266171 | AA22: =C22-(C22-E22)*E22/(2*D22)-(D22-2*E22)*E22/(2*D22)-PI()*E22*E22/(4*D22)-(1-PI()/4)*F22*F22/(2*D22) -> 40.704732 | AB22: =((C22-2*E22)*(AA22-C22/2)*E22+((AA22-C22+E22)^2+(C22-AA22)^2)*(D22-E22)/2+PI()*E22*E22/4*AA22+(1-PI()/4)*F22*F22*((10-3*PI())/(12-3*PI())*F22+AA22-C22+E22))/1000 -> 3.9895897 | AE22: 25 | AF22: 12 | AG22: =AE22 -> 25 | AH22: =AF22 -> 12 | AI22: 12.6 | AJ22: =AI22 -> 12.6
A23: CAE 45x45x5 | B23: =0.1*7.85*H23 -> 3.3755 | C23: 45 | D23: 45 | E23: 5 | F23: 7 | G23: =F23/2 -> 3.5 | H23: 4.3 | I23: 7.84 | J23: =I23*10/($C23-$AI23) -> 2.4347826 | L23: =SQRT(I23/H23) -> 1.3502799 | N23: =I23 -> 7.84 | O23: =N23*10/($D23-$AJ23) -> 2.4347826 | Q23: =SQRT(N23/$H23) -> 1.3502799 | S23: 12.42 | T23: 31.8 | U23: =S23*10/T23 -> 3.9056604 | V23: =SQRT(S23/$H23) -> 1.6995211 | W23: 3.26 | X23: 18.1 | Y23: =W23*10/X23 -> 1.801105 | Z23: =SQRT(W23/$H23) -> 0.87071208 | AA23: =C23-(C23-E23)*E23/(2*D23)-(D23-2*E23)*E23/(2*D23)-PI()*E23*E23/(4*D23)-(1-PI()/4)*F23*F23/(2*D23) -> 40.280162 | AB23: =((C23-2*E23)*(AA23-C23/2)*E23+((AA23-C23+E23)^2+(C23-AA23)^2)*(D23-E23)/2+PI()*E23*E23/4*AA23+(1-PI()/4)*F23*F23*((10-3*PI())/(12-3*PI())*F23+AA23-C23+E23))/1000 -> 4.3689225 | AE23: 25 | AF23: 12 | AG23: =AE23 -> 25 | AH23: =AF23 -> 12 | AI23: 12.8 | AJ23: =AI23 -> 12.8
... A97: CAE 200x200x24 | B97: =0.1*7.85*H97 -> 71.11315 | C97: 200 | D97: 200 | E97: 24 | F97: 18 | G97: =F97/2 -> 9 | H97: 90.59 | I97: 3330.66 | J97: =I97*10/($C97-$AI97) -> 235.2161 | L97: =SQRT(I97/H97) -> 6.0635229 | N97: =I97 -> 3330.66 | O97: =N97*10/($D97-$AJ97) -> 235.2161 | Q97: =SQRT(N97/$H97) -> 6.0635229 | S97: 5283.66 | T97: 141.4 | U97: =S97*10/T97 -> 373.66761 | V97: =SQRT(S97/$H97) -> 7.6370793 | W97: 1377.67 | X97: 82.6 | Y97: =W97*10/X97 -> 166.78814 | Z97: =SQRT(W97/$H97) -> 3.8997114 | AA97: =C97-(C97-E97)*E97/(2*D97)-(D97-2*E97)*E97/(2*D97)-PI()*E97*E97/(4*D97)-(1-PI()/4)*F97*F97/(2*D97) -> 177.88423 | AB97: =((C97-2*E97)*(AA97-C97/2)*E97+((AA97-C97+E97)^2+(C97-AA97)^2)*(D97-E97)/2+PI()*E97*E97/4*AA97+(1-PI()/4)*F97*F97*((10-3*PI())/(12-3*PI())*F97+AA97-C97+E97))/1000 -> 408.35904 | AE97: 100 | AF97: 27 | AG97: =AE97 -> 100 | AH97: =AF97 -> 27 | AI97: 58.4 | AJ97: =AI97 -> 58.4
C98: CAI
